Report for Catalyst-View-HTML-Zoom-0.003

Back
From: metabase:user:320bfe00-2aae-11df-837a-5e0a49663a4f
Subject: PASS Catalyst-View-HTML-Zoom-0.003 v5.27.2 GNU/Linux
Date: 2017-07-30T23:45:27Z

This distribution has been tested as part of the CPAN Testers
project, supporting the Perl programming language.  See
http://wiki.cpantesters.org/ for more information or email
questions to cpan-testers-discuss@perl.org


--
Dear Oliver Charles,

This is a computer-generated report for Catalyst-View-HTML-Zoom-0.003
on perl 5.27.2, created by CPAN-Reporter-1.2018.

Thank you for uploading your work to CPAN.  Congratulations!
All tests were successful.

Sections of this report:

    * Tester comments
    * Program output
    * Prerequisites
    * Environment and other context

------------------------------
TESTER COMMENTS
------------------------------

Additional comments from tester:

this report is from an automated smoke testing program
and was not reviewed by a human for accuracy

------------------------------
PROGRAM OUTPUT
------------------------------

Output from '/usr/bin/make test':

PERL_DL_NONLAZY=1 "/home/sand/src/perl/repoperls/installed-perls/host/k93msid/v5.27.2/0a29/bin/perl" "-MExtUtils::Command::MM" "-MTest::Harness" "-e" "undef *Test::Harness::Switches; test_harness(0, 'blib/lib', 'blib/arch')" t/*.t
t/00-load.t ............... ok
t/author-pod-coverage.t ... skipped: these tests are for testing by the author
t/author-pod.t ............ skipped: these tests are for testing by the author
Class::MOP::load_class is deprecated at /home/sand/src/perl/repoperls/installed-perls/host/k93msid/v5.27.2/0a29/lib/site_perl/5.27.2/x86_64-linux-ld/Class/MOP.pm line 69, <> line 1.
	Class::MOP::load_class("TestAppAltRoot::View::HTML::Root") called at /tmp/loop_over_bdir-10787-ZoaEo5/Catalyst-View-HTML-Zoom-0.003-0/blib/lib/Catalyst/View/HTML/Zoom.pm line 138
	Catalyst::View::HTML::Zoom::_zoomer_class_from_context(TestAppAltRoot::View::HTML=HASH(0x557d231b0350), TestAppAltRoot=HASH(0x557d23311e48)) called at /tmp/loop_over_bdir-10787-ZoaEo5/Catalyst-View-HTML-Zoom-0.003-0/blib/lib/Catalyst/View/HTML/Zoom.pm line 90
	Catalyst::View::HTML::Zoom::_build_renderer_from_zoomer_class(TestAppAltRoot::View::HTML=HASH(0x557d231b0350), TestAppAltRoot=HASH(0x557d23311e48)) called at /tmp/loop_over_bdir-10787-ZoaEo5/Catalyst-View-HTML-Zoom-0.003-0/blib/lib/Catalyst/View/HTML/Zoom.pm line 76
	Catalyst::View::HTML::Zoom::_build_renderer_from(TestAppAltRoot::View::HTML=HASH(0x557d231b0350), TestAppAltRoot=HASH(0x557d23311e48), undef) called at /tmp/loop_over_bdir-10787-ZoaEo5/Catalyst-View-HTML-Zoom-0.003-0/blib/lib/Catalyst/View/HTML/Zoom.pm line 67
	Catalyst::View::HTML::Zoom::render(TestAppAltRoot::View::HTML=HASH(0x557d231b0350), TestAppAltRoot=HASH(0x557d23311e48), "/main") called at /tmp/loop_over_bdir-10787-ZoaEo5/Catalyst-View-HTML-Zoom-0.003-0/blib/lib/Catalyst/View/HTML/Zoom.pm line 41
	Catalyst::View::HTML::Zoom::process(TestAppAltRoot::View::HTML=HASH(0x557d231b0350), TestAppAltRoot=HASH(0x557d23311e48)) called at /home/sand/src/perl/repoperls/installed-perls/host/k93msid/v5.27.2/0a29/lib/site_perl/5.27.2/Catalyst/Action.pm line 358
	Catalyst::Action::execute(Catalyst::Action=HASH(0x557d2337a820), TestAppAltRoot::View::HTML=HASH(0x557d231b0350), TestAppAltRoot=HASH(0x557d23311e48)) called at /home/sand/src/perl/repoperls/installed-perls/host/k93msid/v5.27.2/0a29/lib/site_perl/5.27.2/Catalyst.pm line 2052
	eval {...} called at /home/sand/src/perl/repoperls/installed-perls/host/k93msid/v5.27.2/0a29/lib/site_perl/5.27.2/Catalyst.pm line 2052
	Catalyst::execute(TestAppAltRoot=HASH(0x557d23311e48), "TestAppAltRoot::View::HTML", Catalyst::Action=HASH(0x557d2337a820)) called at /home/sand/src/perl/repoperls/installed-perls/host/k93msid/v5.27.2/0a29/lib/site_perl/5.27.2/Catalyst/Action.pm line 353
	Catalyst::Action::dispatch(Catalyst::Action=HASH(0x557d2337a820), TestAppAltRoot=HASH(0x557d23311e48)) called at /home/sand/src/perl/repoperls/installed-perls/host/k93msid/v5.27.2/0a29/lib/site_perl/5.27.2/Catalyst/Dispatcher.pm line 262
	Catalyst::Dispatcher::_do_forward(Catalyst::Dispatcher=HASH(0x557d21decbb8), "forward", TestAppAltRoot=HASH(0x557d23311e48), TestAppAltRoot::View::HTML=HASH(0x557d231b0350)) called at /home/sand/src/perl/repoperls/installed-perls/host/k93msid/v5.27.2/0a29/lib/site_perl/5.27.2/Catalyst/Dispatcher.pm line 242
	Catalyst::Dispatcher::forward(Catalyst::Dispatcher=HASH(0x557d21decbb8), TestAppAltRoot=HASH(0x557d23311e48), TestAppAltRoot::View::HTML=HASH(0x557d231b0350)) called at /home/sand/src/perl/repoperls/installed-perls/host/k93msid/v5.27.2/0a29/lib/site_perl/5.27.2/Catalyst.pm line 477
	Catalyst::forward(TestAppAltRoot=HASH(0x557d23311e48), TestAppAltRoot::View::HTML=HASH(0x557d231b0350)) called at /home/sand/src/perl/repoperls/installed-perls/host/k93msid/v5.27.2/0a29/lib/site_perl/5.27.2/Catalyst/Action/RenderView.pm line 57
	Catalyst::Action::RenderView::execute(Catalyst::Action::RenderView=HASH(0x557d232dbfa8), TestAppAltRoot::Controller::Root=HASH(0x557d231b01b8), TestAppAltRoot=HASH(0x557d23311e48)) called at /home/sand/src/perl/repoperls/installed-perls/host/k93msid/v5.27.2/0a29/lib/site_perl/5.27.2/Catalyst.pm line 2052
	eval {...} called at /home/sand/src/perl/repoperls/installed-perls/host/k93msid/v5.27.2/0a29/lib/site_perl/5.27.2/Catalyst.pm line 2052
	Catalyst::execute(TestAppAltRoot=HASH(0x557d23311e48), "TestAppAltRoot::Controller::Root", Catalyst::Action::RenderView=HASH(0x557d232dbfa8)) called at /home/sand/src/perl/repoperls/installed-perls/host/k93msid/v5.27.2/0a29/lib/site_perl/5.27.2/Catalyst/Action.pm line 353
	Catalyst::Action::dispatch(Catalyst::Action::RenderView=HASH(0x557d232dbfa8), TestAppAltRoot=HASH(0x557d23311e48)) called at /home/sand/src/perl/repoperls/installed-perls/host/k93msid/v5.27.2/0a29/lib/site_perl/5.27.2/Catalyst/Controller.pm line 189
	Catalyst::Controller::_END(TestAppAltRoot::Controller::Root=HASH(0x557d231b01b8), TestAppAltRoot=HASH(0x557d23311e48)) called at /home/sand/src/perl/repoperls/installed-perls/host/k93msid/v5.27.2/0a29/lib/site_perl/5.27.2/Catalyst/Action.pm line 358
	Catalyst::Action::execute(Catalyst::Action=HASH(0x557d2320c768), TestAppAltRoot::Controller::Root=HASH(0x557d231b01b8), TestAppAltRoot=HASH(0x557d23311e48)) called at /home/sand/src/perl/repoperls/installed-perls/host/k93msid/v5.27.2/0a29/lib/site_perl/5.27.2/Catalyst.pm line 2052
	eval {...} called at /home/sand/src/perl/repoperls/installed-perls/host/k93msid/v5.27.2/0a29/lib/site_perl/5.27.2/Catalyst.pm line 2052
	Catalyst::execute(TestAppAltRoot=HASH(0x557d23311e48), "TestAppAltRoot::Controller::Root", Catalyst::Action=HASH(0x557d2320c768)) called at /home/sand/src/perl/repoperls/installed-perls/host/k93msid/v5.27.2/0a29/lib/site_perl/5.27.2/Catalyst/Action.pm line 353
	Catalyst::Action::dispatch(Catalyst::Action=HASH(0x557d2320c768), TestAppAltRoot=HASH(0x557d23311e48)) called at /home/sand/src/perl/repoperls/installed-perls/host/k93msid/v5.27.2/0a29/lib/site_perl/5.27.2/Catalyst/Dispatcher.pm line 262
	Catalyst::Dispatcher::_do_forward(Catalyst::Dispatcher=HASH(0x557d21decbb8), "forward", TestAppAltRoot=HASH(0x557d23311e48), "_END") called at /home/sand/src/perl/repoperls/installed-perls/host/k93msid/v5.27.2/0a29/lib/site_perl/5.27.2/Catalyst/Dispatcher.pm line 242
	Catalyst::Dispatcher::forward(Catalyst::Dispatcher=HASH(0x557d21decbb8), TestAppAltRoot=HASH(0x557d23311e48), "_END") called at /home/sand/src/perl/repoperls/installed-perls/host/k93msid/v5.27.2/0a29/lib/site_perl/5.27.2/Catalyst.pm line 477
	Catalyst::forward(TestAppAltRoot=HASH(0x557d23311e48), "_END") called at /home/sand/src/perl/repoperls/installed-perls/host/k93msid/v5.27.2/0a29/lib/site_perl/5.27.2/Catalyst/Controller.pm line 138
	Catalyst::Controller::_DISPATCH(TestAppAltRoot::Controller::Root=HASH(0x557d231b01b8), TestAppAltRoot=HASH(0x557d23311e48)) called at /home/sand/src/perl/repoperls/installed-perls/host/k93msid/v5.27.2/0a29/lib/site_perl/5.27.2/Catalyst/Action.pm line 358
	Catalyst::Action::execute(Catalyst::Action=HASH(0x557d231e0ab8), TestAppAltRoot::Controller::Root=HASH(0x557d231b01b8), TestAppAltRoot=HASH(0x557d23311e48)) called at /home/sand/src/perl/repoperls/installed-perls/host/k93msid/v5.27.2/0a29/lib/site_perl/5.27.2/Catalyst.pm line 2052
	eval {...} called at /home/sand/src/perl/repoperls/installed-perls/host/k93msid/v5.27.2/0a29/lib/site_perl/5.27.2/Catalyst.pm line 2052
	Catalyst::execute(TestAppAltRoot=HASH(0x557d23311e48), "TestAppAltRoot::Controller::Root", Catalyst::Action=HASH(0x557d231e0ab8)) called at /home/sand/src/perl/repoperls/installed-perls/host/k93msid/v5.27.2/0a29/lib/site_perl/5.27.2/Catalyst/Action.pm line 353
	Catalyst::Action::dispatch(Catalyst::Action=HASH(0x557d231e0ab8), TestAppAltRoot=HASH(0x557d23311e48)) called at /home/sand/src/perl/repoperls/installed-perls/host/k93msid/v5.27.2/0a29/lib/site_perl/5.27.2/Catalyst/Dispatcher.pm line 262
	Catalyst::Dispatcher::_do_forward(Catalyst::Dispatcher=HASH(0x557d21decbb8), "forward", TestAppAltRoot=HASH(0x557d23311e48), "//_DISPATCH") called at /home/sand/src/perl/repoperls/installed-perls/host/k93msid/v5.27.2/0a29/lib/site_perl/5.27.2/Catalyst/Dispatcher.pm line 242
	Catalyst::Dispatcher::forward(Catalyst::Dispatcher=HASH(0x557d21decbb8), TestAppAltRoot=HASH(0x557d23311e48), "//_DISPATCH") called at /home/sand/src/perl/repoperls/installed-perls/host/k93msid/v5.27.2/0a29/lib/site_perl/5.27.2/Catalyst.pm line 477
	Catalyst::forward(TestAppAltRoot=HASH(0x557d23311e48), "//_DISPATCH") called at /home/sand/src/perl/repoperls/installed-perls/host/k93msid/v5.27.2/0a29/lib/site_perl/5.27.2/Catalyst/Dispatcher.pm line 108
	Catalyst::Dispatcher::dispatch(Catalyst::Dispatcher=HASH(0x557d21decbb8), TestAppAltRoot=HASH(0x557d23311e48)) called at /home/sand/src/perl/repoperls/installed-perls/host/k93msid/v5.27.2/0a29/lib/site_perl/5.27.2/Catalyst.pm line 1998
	Catalyst::dispatch(TestAppAltRoot=HASH(0x557d23311e48)) called at /home/sand/src/perl/repoperls/installed-perls/host/k93msid/v5.27.2/0a29/lib/site_perl/5.27.2/x86_64-linux-ld/Class/MOP/Method/Wrapped.pm line 56
	TestAppAltRoot::_wrapped_dispatch(TestAppAltRoot=HASH(0x557d23311e48)) called at /home/sand/src/perl/repoperls/installed-perls/host/k93msid/v5.27.2/0a29/lib/site_perl/5.27.2/x86_64-linux-ld/Class/MOP/Method/Wrapped.pm line 95
	TestAppAltRoot::dispatch(TestAppAltRoot=HASH(0x557d23311e48)) called at /home/sand/src/perl/repoperls/installed-perls/host/k93msid/v5.27.2/0a29/lib/site_perl/5.27.2/Catalyst.pm line 2393
	Catalyst::try {...} () called at /home/sand/src/perl/repoperls/installed-perls/host/k93msid/v5.27.2/0a29/lib/site_perl/5.27.2/Try/Tiny.pm line 103
	eval {...} called at /home/sand/src/perl/repoperls/installed-perls/host/k93msid/v5.27.2/0a29/lib/site_perl/5.27.2/Try/Tiny.pm line 94
	Try::Tiny::try(CODE(0x557d23311890), Try::Tiny::Catch=REF(0x557d233116f8)) called at /home/sand/src/perl/repoperls/installed-perls/host/k93msid/v5.27.2/0a29/lib/site_perl/5.27.2/Catalyst.pm line 2402
	Catalyst::handle_request("TestAppAltRoot", "env", HASH(0x557d231f78d0), "response_cb", CODE(0x557d23311758)) called at /home/sand/src/perl/repoperls/installed-perls/host/k93msid/v5.27.2/0a29/lib/site_perl/5.27.2/Catalyst/Engine.pm line 800
	Catalyst::Engine::__ANON__(CODE(0x557d23311758)) called at /home/sand/src/perl/repoperls/installed-perls/host/k93msid/v5.27.2/0a29/lib/site_perl/5.27.2/Plack/Middleware/HTTPExceptions.pm line 32
	Plack::Middleware::HTTPExceptions::try {...} () called at /home/sand/src/perl/repoperls/installed-perls/host/k93msid/v5.27.2/0a29/lib/site_perl/5.27.2/Try/Tiny.pm line 103
	eval {...} called at /home/sand/src/perl/repoperls/installed-perls/host/k93msid/v5.27.2/0a29/lib/site_perl/5.27.2/Try/Tiny.pm line 94
	Try::Tiny::try(CODE(0x557d23311590), Try::Tiny::Catch=REF(0x557d23362848)) called at /home/sand/src/perl/repoperls/installed-perls/host/k93msid/v5.27.2/0a29/lib/site_perl/5.27.2/Plack/Middleware/HTTPExceptions.pm line 41
	Plack::Middleware::HTTPExceptions::__ANON__(CODE(0x557d23308b78)) called at /home/sand/src/perl/repoperls/installed-perls/host/k93msid/v5.27.2/0a29/lib/site_perl/5.27.2/Plack/Util.pm line 339
	Plack::Util::__ANON__(CODE(0x557d23309100)) called at /home/sand/src/perl/repoperls/installed-perls/host/k93msid/v5.27.2/0a29/lib/site_perl/5.27.2/Plack/Util.pm line 339
	Plack::Util::__ANON__(CODE(0x557d22e857e8)) called at /home/sand/src/perl/repoperls/installed-perls/host/k93msid/v5.27.2/0a29/lib/site_perl/5.27.2/Plack/Util.pm line 339
	Plack::Util::__ANON__(CODE(0x557d23188f30)) called at /home/sand/src/perl/repoperls/installed-perls/host/k93msid/v5.27.2/0a29/lib/site_perl/5.27.2/HTTP/Message/PSGI.pm line 100
	HTTP::Message::PSGI::res_from_psgi(CODE(0x557d233112f0)) called at /home/sand/src/perl/repoperls/installed-perls/host/k93msid/v5.27.2/0a29/lib/site_perl/5.27.2/HTTP/Message/PSGI.pm line 156
	HTTP::Response::from_psgi("HTTP::Response", CODE(0x557d233112f0)) called at /home/sand/src/perl/repoperls/installed-perls/host/k93msid/v5.27.2/0a29/lib/site_perl/5.27.2/Plack/Test/MockHTTP.pm line 24
	Plack::Test::MockHTTP::try {...} () called at /home/sand/src/perl/repoperls/installed-perls/host/k93msid/v5.27.2/0a29/lib/site_perl/5.27.2/Try/Tiny.pm line 101
	eval {...} called at /home/sand/src/perl/repoperls/installed-perls/host/k93msid/v5.27.2/0a29/lib/site_perl/5.27.2/Try/Tiny.pm line 94
	Try::Tiny::try(CODE(0x557d23211bf0), Try::Tiny::Catch=REF(0x557d2062b300)) called at /home/sand/src/perl/repoperls/installed-perls/host/k93msid/v5.27.2/0a29/lib/site_perl/5.27.2/Plack/Test/MockHTTP.pm line 27
	Plack::Test::MockHTTP::request(Plack::Test::MockHTTP=HASH(0x557d23309058), HTTP::Request=HASH(0x557d23308d10)) called at /home/sand/src/perl/repoperls/installed-perls/host/k93msid/v5.27.2/0a29/lib/site_perl/5.27.2/Plack/Test.pm line 38
	Plack::Test::__ANON__(HTTP::Request=HASH(0x557d23308d10)) called at /home/sand/src/perl/repoperls/installed-perls/host/k93msid/v5.27.2/0a29/lib/site_perl/5.27.2/Catalyst/Test.pm line 281
	Catalyst::Test::__ANON__(CODE(0x557d23308fe0)) called at /home/sand/src/perl/repoperls/installed-perls/host/k93msid/v5.27.2/0a29/lib/site_perl/5.27.2/Plack/Test.pm line 38
	Plack::Test::test_psgi("mangle_response", CODE(0x557d21dcd4f0), "app", CODE(0x557d23219fd0), "app", CODE(0x557d232117d0), "client", CODE(0x557d23308ea8)) called at /home/sand/src/perl/repoperls/installed-perls/host/k93msid/v5.27.2/0a29/lib/site_perl/5.27.2/Catalyst/Test.pm line 284
	Catalyst::Test::_request(HASH(0x557d23308aa0), "/") called at /home/sand/src/perl/repoperls/installed-perls/host/k93msid/v5.27.2/0a29/lib/site_perl/5.27.2/Catalyst/Test.pm line 327
	Catalyst::Test::_local_request("TestAppAltRoot", "/") called at /home/sand/src/perl/repoperls/installed-perls/host/k93msid/v5.27.2/0a29/lib/site_perl/5.27.2/Catalyst/Test.pm line 32
	Catalyst::Test::__ANON__("/") called at /home/sand/src/perl/repoperls/installed-perls/host/k93msid/v5.27.2/0a29/lib/site_perl/5.27.2/Catalyst/Test.pm line 72
	Catalyst::Test::__ANON__("/") called at t/live-test-alt-root.t line 14
t/live-test-alt-root.t .... ok
Class::MOP::load_class is deprecated at /home/sand/src/perl/repoperls/installed-perls/host/k93msid/v5.27.2/0a29/lib/site_perl/5.27.2/x86_64-linux-ld/Class/MOP.pm line 69, <> line 1.
	Class::MOP::load_class("TestApp::View::HTML::Root") called at /tmp/loop_over_bdir-10787-ZoaEo5/Catalyst-View-HTML-Zoom-0.003-0/blib/lib/Catalyst/View/HTML/Zoom.pm line 138
	Catalyst::View::HTML::Zoom::_zoomer_class_from_context(TestApp::View::HTML=HASH(0x55dde3c2a018), TestApp=HASH(0x55dde3ded168)) called at /tmp/loop_over_bdir-10787-ZoaEo5/Catalyst-View-HTML-Zoom-0.003-0/blib/lib/Catalyst/View/HTML/Zoom.pm line 90
	Catalyst::View::HTML::Zoom::_build_renderer_from_zoomer_class(TestApp::View::HTML=HASH(0x55dde3c2a018), TestApp=HASH(0x55dde3ded168)) called at /tmp/loop_over_bdir-10787-ZoaEo5/Catalyst-View-HTML-Zoom-0.003-0/blib/lib/Catalyst/View/HTML/Zoom.pm line 76
	Catalyst::View::HTML::Zoom::_build_renderer_from(TestApp::View::HTML=HASH(0x55dde3c2a018), TestApp=HASH(0x55dde3ded168), undef) called at /tmp/loop_over_bdir-10787-ZoaEo5/Catalyst-View-HTML-Zoom-0.003-0/blib/lib/Catalyst/View/HTML/Zoom.pm line 67
	Catalyst::View::HTML::Zoom::render(TestApp::View::HTML=HASH(0x55dde3c2a018), TestApp=HASH(0x55dde3ded168), "/main") called at /tmp/loop_over_bdir-10787-ZoaEo5/Catalyst-View-HTML-Zoom-0.003-0/blib/lib/Catalyst/View/HTML/Zoom.pm line 41
	Catalyst::View::HTML::Zoom::process(TestApp::View::HTML=HASH(0x55dde3c2a018), TestApp=HASH(0x55dde3ded168)) called at /home/sand/src/perl/repoperls/installed-perls/host/k93msid/v5.27.2/0a29/lib/site_perl/5.27.2/Catalyst/Action.pm line 358
	Catalyst::Action::execute(Catalyst::Action=HASH(0x55dde3df99e8), TestApp::View::HTML=HASH(0x55dde3c2a018), TestApp=HASH(0x55dde3ded168)) called at /home/sand/src/perl/repoperls/installed-perls/host/k93msid/v5.27.2/0a29/lib/site_perl/5.27.2/Catalyst.pm line 2052
	eval {...} called at /home/sand/src/perl/repoperls/installed-perls/host/k93msid/v5.27.2/0a29/lib/site_perl/5.27.2/Catalyst.pm line 2052
	Catalyst::execute(TestApp=HASH(0x55dde3ded168), "TestApp::View::HTML", Catalyst::Action=HASH(0x55dde3df99e8)) called at /home/sand/src/perl/repoperls/installed-perls/host/k93msid/v5.27.2/0a29/lib/site_perl/5.27.2/Catalyst/Action.pm line 353
	Catalyst::Action::dispatch(Catalyst::Action=HASH(0x55dde3df99e8), TestApp=HASH(0x55dde3ded168)) called at /home/sand/src/perl/repoperls/installed-perls/host/k93msid/v5.27.2/0a29/lib/site_perl/5.27.2/Catalyst/Dispatcher.pm line 262
	Catalyst::Dispatcher::_do_forward(Catalyst::Dispatcher=HASH(0x55dde2832240), "forward", TestApp=HASH(0x55dde3ded168), TestApp::View::HTML=HASH(0x55dde3c2a018)) called at /home/sand/src/perl/repoperls/installed-perls/host/k93msid/v5.27.2/0a29/lib/site_perl/5.27.2/Catalyst/Dispatcher.pm line 242
	Catalyst::Dispatcher::forward(Catalyst::Dispatcher=HASH(0x55dde2832240), TestApp=HASH(0x55dde3ded168), TestApp::View::HTML=HASH(0x55dde3c2a018)) called at /home/sand/src/perl/repoperls/installed-perls/host/k93msid/v5.27.2/0a29/lib/site_perl/5.27.2/Catalyst.pm line 477
	Catalyst::forward(TestApp=HASH(0x55dde3ded168), TestApp::View::HTML=HASH(0x55dde3c2a018)) called at /home/sand/src/perl/repoperls/installed-perls/host/k93msid/v5.27.2/0a29/lib/site_perl/5.27.2/Catalyst/Action/RenderView.pm line 57
	Catalyst::Action::RenderView::execute(Catalyst::Action::RenderView=HASH(0x55dde3c88b78), TestApp::Controller::Root=HASH(0x55dde3c139d8), TestApp=HASH(0x55dde3ded168)) called at /home/sand/src/perl/repoperls/installed-perls/host/k93msid/v5.27.2/0a29/lib/site_perl/5.27.2/Catalyst.pm line 2052
	eval {...} called at /home/sand/src/perl/repoperls/installed-perls/host/k93msid/v5.27.2/0a29/lib/site_perl/5.27.2/Catalyst.pm line 2052
	Catalyst::execute(TestApp=HASH(0x55dde3ded168), "TestApp::Controller::Root", Catalyst::Action::RenderView=HASH(0x55dde3c88b78)) called at /home/sand/src/perl/repoperls/installed-perls/host/k93msid/v5.27.2/0a29/lib/site_perl/5.27.2/Catalyst/Action.pm line 353
	Catalyst::Action::dispatch(Catalyst::Action::RenderView=HASH(0x55dde3c88b78), TestApp=HASH(0x55dde3ded168)) called at /home/sand/src/perl/repoperls/installed-perls/host/k93msid/v5.27.2/0a29/lib/site_perl/5.27.2/Catalyst/Controller.pm line 189
	Catalyst::Controller::_END(TestApp::Controller::Root=HASH(0x55dde3c139d8), TestApp=HASH(0x55dde3ded168)) called at /home/sand/src/perl/repoperls/installed-perls/host/k93msid/v5.27.2/0a29/lib/site_perl/5.27.2/Catalyst/Action.pm line 358
	Catalyst::Action::execute(Catalyst::Action=HASH(0x55dde3c81b20), TestApp::Controller::Root=HASH(0x55dde3c139d8), TestApp=HASH(0x55dde3ded168)) called at /home/sand/src/perl/repoperls/installed-perls/host/k93msid/v5.27.2/0a29/lib/site_perl/5.27.2/Catalyst.pm line 2052
	eval {...} called at /home/sand/src/perl/repoperls/installed-perls/host/k93msid/v5.27.2/0a29/lib/site_perl/5.27.2/Catalyst.pm line 2052
	Catalyst::execute(TestApp=HASH(0x55dde3ded168), "TestApp::Controller::Root", Catalyst::Action=HASH(0x55dde3c81b20)) called at /home/sand/src/perl/repoperls/installed-perls/host/k93msid/v5.27.2/0a29/lib/site_perl/5.27.2/Catalyst/Action.pm line 353
	Catalyst::Action::dispatch(Catalyst::Action=HASH(0x55dde3c81b20), TestApp=HASH(0x55dde3ded168)) called at /home/sand/src/perl/repoperls/installed-perls/host/k93msid/v5.27.2/0a29/lib/site_perl/5.27.2/Catalyst/Dispatcher.pm line 262
	Catalyst::Dispatcher::_do_forward(Catalyst::Dispatcher=HASH(0x55dde2832240), "forward", TestApp=HASH(0x55dde3ded168), "_END") called at /home/sand/src/perl/repoperls/installed-perls/host/k93msid/v5.27.2/0a29/lib/site_perl/5.27.2/Catalyst/Dispatcher.pm line 242
	Catalyst::Dispatcher::forward(Catalyst::Dispatcher=HASH(0x55dde2832240), TestApp=HASH(0x55dde3ded168), "_END") called at /home/sand/src/perl/repoperls/installed-perls/host/k93msid/v5.27.2/0a29/lib/site_perl/5.27.2/Catalyst.pm line 477
	Catalyst::forward(TestApp=HASH(0x55dde3ded168), "_END") called at /home/sand/src/perl/repoperls/installed-perls/host/k93msid/v5.27.2/0a29/lib/site_perl/5.27.2/Catalyst/Controller.pm line 138
	Catalyst::Controller::_DISPATCH(TestApp::Controller::Root=HASH(0x55dde3c139d8), TestApp=HASH(0x55dde3ded168)) called at /home/sand/src/perl/repoperls/installed-perls/host/k93msid/v5.27.2/0a29/lib/site_perl/5.27.2/Catalyst/Action.pm line 358
	Catalyst::Action::execute(Catalyst::Action=HASH(0x55dde3c81a60), TestApp::Controller::Root=HASH(0x55dde3c139d8), TestApp=HASH(0x55dde3ded168)) called at /home/sand/src/perl/repoperls/installed-perls/host/k93msid/v5.27.2/0a29/lib/site_perl/5.27.2/Catalyst.pm line 2052
	eval {...} called at /home/sand/src/perl/repoperls/installed-perls/host/k93msid/v5.27.2/0a29/lib/site_perl/5.27.2/Catalyst.pm line 2052
	Catalyst::execute(TestApp=HASH(0x55dde3ded168), "TestApp::Controller::Root", Catalyst::Action=HASH(0x55dde3c81a60)) called at /home/sand/src/perl/repoperls/installed-perls/host/k93msid/v5.27.2/0a29/lib/site_perl/5.27.2/Catalyst/Action.pm line 353
	Catalyst::Action::dispatch(Catalyst::Action=HASH(0x55dde3c81a60), TestApp=HASH(0x55dde3ded168)) called at /home/sand/src/perl/repoperls/installed-perls/host/k93msid/v5.27.2/0a29/lib/site_perl/5.27.2/Catalyst/Dispatcher.pm line 262
	Catalyst::Dispatcher::_do_forward(Catalyst::Dispatcher=HASH(0x55dde2832240), "forward", TestApp=HASH(0x55dde3ded168), "//_DISPATCH") called at /home/sand/src/perl/repoperls/installed-perls/host/k93msid/v5.27.2/0a29/lib/site_perl/5.27.2/Catalyst/Dispatcher.pm line 242
	Catalyst::Dispatcher::forward(Catalyst::Dispatcher=HASH(0x55dde2832240), TestApp=HASH(0x55dde3ded168), "//_DISPATCH") called at /home/sand/src/perl/repoperls/installed-perls/host/k93msid/v5.27.2/0a29/lib/site_perl/5.27.2/Catalyst.pm line 477
	Catalyst::forward(TestApp=HASH(0x55dde3ded168), "//_DISPATCH") called at /home/sand/src/perl/repoperls/installed-perls/host/k93msid/v5.27.2/0a29/lib/site_perl/5.27.2/Catalyst/Dispatcher.pm line 108
	Catalyst::Dispatcher::dispatch(Catalyst::Dispatcher=HASH(0x55dde2832240), TestApp=HASH(0x55dde3ded168)) called at /home/sand/src/perl/repoperls/installed-perls/host/k93msid/v5.27.2/0a29/lib/site_perl/5.27.2/Catalyst.pm line 1998
	Catalyst::dispatch(TestApp=HASH(0x55dde3ded168)) called at /home/sand/src/perl/repoperls/installed-perls/host/k93msid/v5.27.2/0a29/lib/site_perl/5.27.2/x86_64-linux-ld/Class/MOP/Method/Wrapped.pm line 56
	TestApp::_wrapped_dispatch(TestApp=HASH(0x55dde3ded168)) called at /home/sand/src/perl/repoperls/installed-perls/host/k93msid/v5.27.2/0a29/lib/site_perl/5.27.2/x86_64-linux-ld/Class/MOP/Method/Wrapped.pm line 95
	TestApp::dispatch(TestApp=HASH(0x55dde3ded168)) called at /home/sand/src/perl/repoperls/installed-perls/host/k93msid/v5.27.2/0a29/lib/site_perl/5.27.2/Catalyst.pm line 2393
	Catalyst::try {...} () called at /home/sand/src/perl/repoperls/installed-perls/host/k93msid/v5.27.2/0a29/lib/site_perl/5.27.2/Try/Tiny.pm line 103
	eval {...} called at /home/sand/src/perl/repoperls/installed-perls/host/k93msid/v5.27.2/0a29/lib/site_perl/5.27.2/Try/Tiny.pm line 94
	Try::Tiny::try(CODE(0x55dde3d94f78), Try::Tiny::Catch=REF(0x55dde3d94de0)) called at /home/sand/src/perl/repoperls/installed-perls/host/k93msid/v5.27.2/0a29/lib/site_perl/5.27.2/Catalyst.pm line 2402
	Catalyst::handle_request("TestApp", "env", HASH(0x55dde3c02cb0), "response_cb", CODE(0x55dde3d94e40)) called at /home/sand/src/perl/repoperls/installed-perls/host/k93msid/v5.27.2/0a29/lib/site_perl/5.27.2/Catalyst/Engine.pm line 800
	Catalyst::Engine::__ANON__(CODE(0x55dde3d94e40)) called at /home/sand/src/perl/repoperls/installed-perls/host/k93msid/v5.27.2/0a29/lib/site_perl/5.27.2/Plack/Middleware/HTTPExceptions.pm line 32
	Plack::Middleware::HTTPExceptions::try {...} () called at /home/sand/src/perl/repoperls/installed-perls/host/k93msid/v5.27.2/0a29/lib/site_perl/5.27.2/Try/Tiny.pm line 103
	eval {...} called at /home/sand/src/perl/repoperls/installed-perls/host/k93msid/v5.27.2/0a29/lib/site_perl/5.27.2/Try/Tiny.pm line 94
	Try::Tiny::try(CODE(0x55dde3d94c78), Try::Tiny::Catch=REF(0x55dde346eb60)) called at /home/sand/src/perl/repoperls/installed-perls/host/k93msid/v5.27.2/0a29/lib/site_perl/5.27.2/Plack/Middleware/HTTPExceptions.pm line 41
	Plack::Middleware::HTTPExceptions::__ANON__(CODE(0x55dde1067ba0)) called at /home/sand/src/perl/repoperls/installed-perls/host/k93msid/v5.27.2/0a29/lib/site_perl/5.27.2/Plack/Util.pm line 339
	Plack::Util::__ANON__(CODE(0x55dde3c07bb0)) called at /home/sand/src/perl/repoperls/installed-perls/host/k93msid/v5.27.2/0a29/lib/site_perl/5.27.2/Plack/Util.pm line 339
	Plack::Util::__ANON__(CODE(0x55dde33b74d8)) called at /home/sand/src/perl/repoperls/installed-perls/host/k93msid/v5.27.2/0a29/lib/site_perl/5.27.2/Plack/Util.pm line 339
	Plack::Util::__ANON__(CODE(0x55dde3c9a0e8)) called at /home/sand/src/perl/repoperls/installed-perls/host/k93msid/v5.27.2/0a29/lib/site_perl/5.27.2/HTTP/Message/PSGI.pm line 100
	HTTP::Message::PSGI::res_from_psgi(CODE(0x55dde3d949d8)) called at /home/sand/src/perl/repoperls/installed-perls/host/k93msid/v5.27.2/0a29/lib/site_perl/5.27.2/HTTP/Message/PSGI.pm line 156
	HTTP::Response::from_psgi("HTTP::Response", CODE(0x55dde3d949d8)) called at /home/sand/src/perl/repoperls/installed-perls/host/k93msid/v5.27.2/0a29/lib/site_perl/5.27.2/Plack/Test/MockHTTP.pm line 24
	Plack::Test::MockHTTP::try {...} () called at /home/sand/src/perl/repoperls/installed-perls/host/k93msid/v5.27.2/0a29/lib/site_perl/5.27.2/Try/Tiny.pm line 101
	eval {...} called at /home/sand/src/perl/repoperls/installed-perls/host/k93msid/v5.27.2/0a29/lib/site_perl/5.27.2/Try/Tiny.pm line 94
	Try::Tiny::try(CODE(0x55dde3c2a180), Try::Tiny::Catch=REF(0x55dde1068b40)) called at /home/sand/src/perl/repoperls/installed-perls/host/k93msid/v5.27.2/0a29/lib/site_perl/5.27.2/Plack/Test/MockHTTP.pm line 27
	Plack::Test::MockHTTP::request(Plack::Test::MockHTTP=HASH(0x55dde3d7e2e8), HTTP::Request=HASH(0x55dde3d7dfa0)) called at /home/sand/src/perl/repoperls/installed-perls/host/k93msid/v5.27.2/0a29/lib/site_perl/5.27.2/Plack/Test.pm line 38
	Plack::Test::__ANON__(HTTP::Request=HASH(0x55dde3d7dfa0)) called at /home/sand/src/perl/repoperls/installed-perls/host/k93msid/v5.27.2/0a29/lib/site_perl/5.27.2/Catalyst/Test.pm line 281
	Catalyst::Test::__ANON__(CODE(0x55dde3d7e270)) called at /home/sand/src/perl/repoperls/installed-perls/host/k93msid/v5.27.2/0a29/lib/site_perl/5.27.2/Plack/Test.pm line 38
	Plack::Test::test_psgi("app", CODE(0x55dde3d7d5b0), "mangle_response", CODE(0x55dde2808570), "app", CODE(0x55dde3c885f0), "client", CODE(0x55dde3d7e138)) called at /home/sand/src/perl/repoperls/installed-perls/host/k93msid/v5.27.2/0a29/lib/site_perl/5.27.2/Catalyst/Test.pm line 284
	Catalyst::Test::_request(HASH(0x55dde105f0a8), "/") called at /home/sand/src/perl/repoperls/installed-perls/host/k93msid/v5.27.2/0a29/lib/site_perl/5.27.2/Catalyst/Test.pm line 327
	Catalyst::Test::_local_request("TestApp", "/") called at /home/sand/src/perl/repoperls/installed-perls/host/k93msid/v5.27.2/0a29/lib/site_perl/5.27.2/Catalyst/Test.pm line 32
	Catalyst::Test::__ANON__("/") called at /home/sand/src/perl/repoperls/installed-perls/host/k93msid/v5.27.2/0a29/lib/site_perl/5.27.2/Catalyst/Test.pm line 72
	Catalyst::Test::__ANON__("/") called at t/live-test.t line 14
t/live-test.t ............. ok
t/release-pod-coverage.t .. skipped: these tests are for release candidate testing
t/release-pod-syntax.t .... skipped: these tests are for release candidate testing
All tests successful.
Files=7, Tests=17,  9 wallclock secs ( 0.04 usr  0.03 sys +  2.19 cusr  0.33 csys =  2.59 CPU)
Result: PASS

------------------------------
PREREQUISITES
------------------------------

Prerequisite modules loaded:

requires:

    Module                       Need  Have    
    ---------------------------- ----- --------
    Class::MOP                   1.12  2.2006  
    HTML::Zoom                   0.009 0.009009
    Moose                        1.21  2.2006  
    namespace::autoclean         0.09  0.28    
    Path::Class                  0.23  0.37    

build_requires:

    Module                       Need  Have    
    ---------------------------- ----- --------
    Catalyst::Action::RenderView 0.14  0.16    
    Catalyst::Runtime            5.8   5.90115 
    Test::More                   0.96  1.302086

configure_requires:

    Module                       Need  Have    
    ---------------------------- ----- --------
    ExtUtils::MakeMaker          6.31  7.30    


------------------------------
ENVIRONMENT AND OTHER CONTEXT
------------------------------

Environment variables:

    AUTOMATED_TESTING = 1
    LANG = en_US.UTF-8
    PATH = /home/sand/bin:/usr/local/bin:/usr/bin:/bin:/usr/games:/usr/local/perl/bin:/usr/X11/bin:/sbin:/usr/sbin
    PERL5LIB = 
    PERL5OPT = 
    PERL5_CPANPLUS_IS_RUNNING = 10793
    PERL5_CPAN_IS_RUNNING = 10793
    PERL_CANARY_STABILITY_NOPROMPT = 1
    PERL_MM_USE_DEFAULT = 1
    PERL_USE_UNSAFE_INC = 1
    SHELL = /usr/bin/zsh
    TERM = screen

Perl special variables (and OS-specific diagnostics, for MSWin32):

    $^X = /home/sand/src/perl/repoperls/installed-perls/host/k93msid/v5.27.2/0a29/bin/perl
    $UID/$EUID = 1005 / 1005
    $GID = 1005 1005
    $EGID = 1005 1005

Perl module toolchain versions installed:

    Module              Have    
    ------------------- --------
    CPAN                2.18    
    CPAN::Meta          2.150010
    Cwd                 3.68    
    ExtUtils::CBuilder  0.280228
    ExtUtils::Command   7.30    
    ExtUtils::Install   2.14    
    ExtUtils::MakeMaker 7.30    
    ExtUtils::Manifest  1.70    
    ExtUtils::ParseXS   3.34    
    File::Spec          3.68    
    JSON                2.94    
    JSON::PP            2.94    
    Module::Build       0.4224  
    Module::Signature   0.81    
    Parse::CPAN::Meta   2.150010
    Test::Harness       3.40_01 
    Test::More          1.302086
    YAML                1.23    
    YAML::Syck          1.30    
    version             0.9918  


--

Summary of my perl5 (revision 5 version 27 subversion 2) configuration:
  Commit id: cf07591c56a81be8313edfa55671e8e741db95b3
  Platform:
    osname=linux
    osvers=4.9.0-2-amd64
    archname=x86_64-linux-ld
    uname='linux k93msid 4.9.0-2-amd64 #1 smp debian 4.9.18-1 (2017-03-30) x86_64 gnulinux '
    config_args='-Dprefix=/home/sand/src/perl/repoperls/installed-perls/host/k93msid/v5.27.2/0a29 -Dmyhostname=k93msid -Dinstallusrbinperl=n -Uversiononly -Dusedevel -des -Ui_db -Dlibswanted=cl pthread socket inet nsl gdbm dbm malloc dl ld sun m crypt sec util c cposix posix ucb BSD gdbm_compat -Uuseithreads -Duselongdouble -DDEBUGGING=both'
    hint=recommended
    useposix=true
    d_sigaction=define
    useithreads=undef
    usemultiplicity=undef
    use64bitint=define
    use64bitall=define
    uselongdouble=define
    usemymalloc=n
    default_inc_excludes_dot=define
    bincompat5005=undef
  Compiler:
    cc='cc'
    ccflags ='-fwrapv -DDEBUGGING -fno-strict-aliasing -pipe -fstack-protector-strong -I/usr/local/include -D_LARGEFILE_SOURCE -D_FILE_OFFSET_BITS=64'
    optimize='-O2 -g'
    cppflags='-fwrapv -DDEBUGGING -fno-strict-aliasing -pipe -fstack-protector-strong -I/usr/local/include'
    ccversion=''
    gccversion='6.3.0 20170406'
    gccosandvers=''
    intsize=4
    longsize=8
    ptrsize=8
    doublesize=8
    byteorder=12345678
    doublekind=3
    d_longlong=define
    longlongsize=8
    d_longdbl=define
    longdblsize=16
    longdblkind=3
    ivtype='long'
    ivsize=8
    nvtype='long double'
    nvsize=16
    Off_t='off_t'
    lseeksize=8
    alignbytes=16
    prototype=define
  Linker and Libraries:
    ld='cc'
    ldflags =' -fstack-protector-strong -L/usr/local/lib'
    libpth=/usr/local/lib /usr/lib/gcc/x86_64-linux-gnu/6/include-fixed /usr/include/x86_64-linux-gnu /usr/lib /lib/x86_64-linux-gnu /lib/../lib /usr/lib/x86_64-linux-gnu /usr/lib/../lib /lib
    libs=-lpthread -lnsl -ldl -lm -lcrypt -lutil -lc
    perllibs=-lpthread -lnsl -ldl -lm -lcrypt -lutil -lc
    libc=libc-2.24.so
    so=so
    useshrplib=false
    libperl=libperl.a
    gnulibc_version='2.24'
  Dynamic Linking:
    dlsrc=dl_dlopen.xs
    dlext=so
    d_dlsymun=undef
    ccdlflags='-Wl,-E'
    cccdlflags='-fPIC'
    lddlflags='-shared -O2 -g -L/usr/local/lib -fstack-protector-strong'


Characteristics of this binary (from libperl): 
  Compile-time options:
    DEBUGGING
    HAS_TIMES
    PERLIO_LAYERS
    PERL_COPY_ON_WRITE
    PERL_DONT_CREATE_GVSV
    PERL_MALLOC_WRAP
    PERL_OP_PARENT
    PERL_PRESERVE_IVUV
    PERL_USE_DEVEL
    USE_64_BIT_ALL
    USE_64_BIT_INT
    USE_LARGE_FILES
    USE_LOCALE
    USE_LOCALE_COLLATE
    USE_LOCALE_CTYPE
    USE_LOCALE_NUMERIC
    USE_LOCALE_TIME
    USE_LONG_DOUBLE
    USE_PERLIO
    USE_PERL_ATOF
  Built under linux
  Compiled at Jul 20 2017 22:31:54
  %ENV:
    PERL5LIB=""
    PERL5OPT=""
    PERL5_CPANPLUS_IS_RUNNING="10793"
    PERL5_CPAN_IS_RUNNING="10793"
    PERL_CANARY_STABILITY_NOPROMPT="1"
    PERL_MM_USE_DEFAULT="1"
    PERL_USE_UNSAFE_INC="1"
  @INC:
    /home/sand/src/perl/repoperls/installed-perls/host/k93msid/v5.27.2/0a29/lib/site_perl/5.27.2/x86_64-linux-ld
    /home/sand/src/perl/repoperls/installed-perls/host/k93msid/v5.27.2/0a29/lib/site_perl/5.27.2
    /home/sand/src/perl/repoperls/installed-perls/host/k93msid/v5.27.2/0a29/lib/5.27.2/x86_64-linux-ld
    /home/sand/src/perl/repoperls/installed-perls/host/k93msid/v5.27.2/0a29/lib/5.27.2
    .