MARC-Record v2.0.7 Perl 5 v5.24.0 x86_64-linux-thread-multi

Status
Pass
From
Nigel Horne
Dist
MARC-Record v2.0.7
Platform
Perl 5 v5.24.0 x86_64-linux-thread-multi
Date
2018-04-18 11:53:52
ID
2a4292de-42ff-11e8-91ce-d3e3deac0b3f
This distribution has been tested as part of the CPAN Testers
project, supporting the Perl programming language.  See
http://wiki.cpantesters.org/ for more information or email
questions to cpan-testers-discuss@perl.org


--
Dear Galen Charlton,

This is a computer-generated report for MARC-Record-2.0.7
on perl 5.24.0, created by CPAN-Reporter-1.2018.

Thank you for uploading your work to CPAN.  Congratulations!
All tests were successful.

Sections of this report:

    * Tester comments
    * Program output
    * Prerequisites
    * Environment and other context

------------------------------
TESTER COMMENTS
------------------------------

Additional comments from tester:

this report is from an automated smoke testing program
and was not reviewed by a human for accuracy

------------------------------
PROGRAM OUTPUT
------------------------------

Output from '/usr/bin/make test':

PERL_DL_NONLAZY=1 "/home/njh/perl5/perlbrew/perls/perl-5.24.0/bin/perl5.24.0" "-MExtUtils::Command::MM" "-MTest::Harness" "-e" "undef *Test::Harness::Switches; test_harness(0, 'blib/lib', 'blib/arch')" t/*.t
# Testing MARC::Record 2.0.7
t/00.load.t ....................... ok
t/12.ldr.t ........................ ok
t/11.astring.t .................... ok
t/20.clone.t ...................... ok
t/10.camel.t ...................... ok
t/60.insert.t ..................... ok
t/61.append.t ..................... ok
t/60.update.t ..................... ok
t/61.replace.t .................... ok
t/50.batch.t ...................... ok
t/62.before.t ..................... ok
t/63.after.t ...................... ok
t/66.grouped.t .................... ok
t/64.create.t ..................... ok
t/66.ordered.t .................... ok
t/67.subfield.t ................... ok
t/68.subfields.t .................. ok
t/70.croak.t ...................... ok
t/75.warnings.t ................... ok
t/80.alphatag.t ................... ok
t/82.baddir.t ..................... ok
t/81.decode.t ..................... ok
t/83.indicators.t ................. ok
t/decode-filter.t ................. ok
t/batch-filter.t .................. ok
t/delete-field.t .................. ok
t/convenience.t ................... ok
t/extra_controlfields.t ........... ok
t/dosEOF.t ........................ ok
t/delete-subfield.t ............... ok
t/file-header.t ................... ok
t/file-filter.t ................... ok
t/filler.t ........................ ok
t/85.fh.t ......................... ok
t/lineendings.t ................... ok
t/rt67094_field_sans_subfields.t .. ok
t/rename-field.t .................. ok
t/pod-coverage.t .................. ok
t/utf8.t .......................... ok
t/title_proper.t .................. ok
t/pod.t ........................... ok
All tests successful.
Files=41, Tests=1020,  1 wallclock secs ( 0.15 usr  0.03 sys +  2.07 cusr  0.27 csys =  2.52 CPU)
Result: PASS

------------------------------
PREREQUISITES
------------------------------

Prerequisite modules loaded:

requires:

    Module              Need Have    
    ------------------- ---- --------
    Carp                0    1.40    
    File::Find          0    1.34    
    File::Spec          0    3.63    
    Test::More          0    1.302096

build_requires:

    Module              Need Have    
    ------------------- ---- --------
    ExtUtils::MakeMaker 0    7.24    

configure_requires:

    Module              Need Have    
    ------------------- ---- --------
    ExtUtils::MakeMaker 0    7.24    


------------------------------
ENVIRONMENT AND OTHER CONTEXT
------------------------------

Environment variables:

    AUTOMATED_TESTING = 1
    HARNESS_OPTIONS = j10
    LANG = en_GB.UTF-8
    PATH = /home/njh/perl5/perlbrew/bin:/home/njh/perl5/perlbrew/perls/perl-5.24.0/bin:/usr/bin:/bin:src/njh/smoker/bin
    PERL5LIB = /tmp/build/libintl-perl-1.29-9/blib/arch:/tmp/build/libintl-perl-1.29-9/blib/lib:/tmp/build/Business-ISBN-3.004-9/blib/arch:/tmp/build/Business-ISBN-3.004-9/blib/lib:/tmp/build/Business-ISBN-Data-20140910.003-9/blib/arch:/tmp/build/Business-ISBN-Data-20140910.003-9/blib/lib:/tmp/build/AnyEvent-Processor-0.006-9/blib/arch:/tmp/build/AnyEvent-Processor-0.006-9/blib/lib:/tmp/build/Glib-1.326-9/blib/arch:/tmp/build/Glib-1.326-9/blib/lib:/tmp/build/ExtUtils-PkgConfig-1.16-9/blib/arch:/tmp/build/ExtUtils-PkgConfig-1.16-9/blib/lib
    PERL5OPT = 
    PERL5_CPANPLUS_IS_RUNNING = 3793
    PERL5_CPAN_IS_RUNNING = 3793
    PERLBREW_HOME = /home/njh/.perlbrew
    PERLBREW_MANPATH = /home/njh/perl5/perlbrew/perls/perl-5.24.0/man
    PERLBREW_PATH = /home/njh/perl5/perlbrew/bin:/home/njh/perl5/perlbrew/perls/perl-5.24.0/bin
    PERLBREW_PERL = perl-5.24.0
    PERLBREW_ROOT = /home/njh/perl5/perlbrew
    PERLBREW_SHELLRC_VERSION = 0.82
    PERLBREW_VERSION = 0.82
    SHELL = /bin/sh

Perl special variables (and OS-specific diagnostics, for MSWin32):

    $^X = /home/njh/perl5/perlbrew/perls/perl-5.24.0/bin/perl5.24.0
    $UID/$EUID = 1000 / 1000
    $GID = 1000 4 24 25 29 30 44 46 107 112 118 1000
    $EGID = 1000 4 24 25 29 30 44 46 107 112 118 1000

Perl module toolchain versions installed:

    Module              Have    
    ------------------- --------
    CPAN                2.16    
    CPAN::Meta          2.150010
    Cwd                 3.63    
    ExtUtils::CBuilder  0.280225
    ExtUtils::Command   7.24    
    ExtUtils::Install   2.04    
    ExtUtils::MakeMaker 7.24    
    ExtUtils::Manifest  1.70    
    ExtUtils::ParseXS   3.31    
    File::Spec          3.63    
    JSON                2.90    
    JSON::PP            2.27400 
    Module::Build       0.4220  
    Module::Signature   n/a     
    Parse::CPAN::Meta   2.150010
    Test::Harness       3.36    
    Test::More          1.302096
    YAML                1.24    
    YAML::Syck          1.30    
    version             0.9917  


--

Summary of my perl5 (revision 5 version 24 subversion 0) configuration:
   
  Platform:
    osname=linux, osvers=4.5.0-1-amd64, archname=x86_64-linux-thread-multi
    uname='linux cyberpower2 4.5.0-1-amd64 #1 smp debian 4.5.1-1 (2016-04-14) x86_64 gnulinux '
    config_args='-de -Dprefix=/home/njh/perl5/perlbrew/perls/perl-5.24.0 -Duseithreads -Dusemultiplicity -Dusedevel -Accflags=-O2 -W -Wformat=2 -Wswitch -Wshadow -Wwrite-strings -Wuninitialized -Wall -pipe -mtune=native -march=native -fomit-frame-pointer -msse2 -msse -mmmx -mfpmath=sse -D_FORTIFY_SOURCE=2 -Wpointer-arith -Wstrict-prototypes -fstack-protector -Wstack-protector -Wextra -Wbad-function-cast -Wcast-align -Wcast-qual -Wdisabled-optimization -Wendif-labels -Wfloat-equal -Wformat-nonliteral -Winline -Wmissing-declarations -Wmissing-prototypes -Wnested-externs -Wpointer-arith -Wundef -Wformat-security -ftree-vectorize -fdiagnostics-color=auto -Acc=gcc-6 -Aeval:scriptdir=/home/njh/perl5/perlbrew/perls/perl-5.24.0/bin'
    hint=recommended, useposix=true, d_sigaction=define
    useithreads=define, usemultiplicity=define
    use64bitint=define, use64bitall=define, uselongdouble=undef
    usemymalloc=n, bincompat5005=undef
  Compiler:
    cc=' gcc-6', ccflags ='-D_REENTRANT -D_GNU_SOURCE -O2 -W -Wformat=2 -Wswitch -Wshadow -Wwrite-strings -Wuninitialized -Wall -pipe -mtune=native -march=native -fomit-frame-pointer -msse2 -msse -mmmx -mfpmath=sse -D_FORTIFY_SOURCE=2 -Wpointer-arith -Wstrict-prototypes -fstack-protector -Wstack-protector -Wextra -Wbad-function-cast -Wcast-align -Wcast-qual -Wdisabled-optimization -Wendif-labels -Wfloat-equal -Wformat-nonliteral -Winline -Wmissing-declarations -Wmissing-prototypes -Wnested-externs -Wpointer-arith -Wundef -Wformat-security -ftree-vectorize -fdiagnostics-color=auto -fwrapv -fno-strict-aliasing -fstack-protector-strong -I/usr/local/include -D_LARGEFILE_SOURCE -D_FILE_OFFSET_BITS=64',
    optimize='-O2',
    cppflags='-D_REENTRANT -D_GNU_SOURCE -O2 -W -Wformat=2 -Wswitch -Wshadow -Wwrite-strings -Wuninitialized -Wall -pipe -mtune=native -march=native -fomit-frame-pointer -msse2 -msse -mmmx -mfpmath=sse -D_FORTIFY_SOURCE=2 -Wpointer-arith -Wstrict-prototypes -fstack-protector -Wstack-protector -Wextra -Wbad-function-cast -Wcast-align -Wcast-qual -Wdisabled-optimization -Wendif-labels -Wfloat-equal -Wformat-nonliteral -Winline -Wmissing-declarations -Wmissing-prototypes -Wnested-externs -Wpointer-arith -Wundef -Wformat-security -ftree-vectorize -fdiagnostics-color=auto -fwrapv -fno-strict-aliasing -fstack-protector-strong -I/usr/local/include'
    ccversion='', gccversion='6.1.1 20160430', gccosandvers=''
    intsize=4, longsize=8, ptrsize=8, doublesize=8, byteorder=12345678, doublekind=3
    d_longlong=define, longlongsize=8, d_longdbl=define, longdblsize=16, longdblkind=3
    ivtype='long', ivsize=8, nvtype='double', nvsize=8, Off_t='off_t', lseeksize=8
    alignbytes=8, prototype=define
  Linker and Libraries:
    ld=' gcc-6', ldflags =' -fstack-protector-strong -L/usr/local/lib'
    libpth=/usr/local/lib /usr/lib/gcc/x86_64-linux-gnu/6/include-fixed /usr/include/x86_64-linux-gnu /usr/lib /lib/x86_64-linux-gnu /lib/../lib /usr/lib/x86_64-linux-gnu /usr/lib/../lib /lib
    libs=-lpthread -lnsl -lgdbm -ldb -ldl -lm -lcrypt -lutil -lc -lgdbm_compat
    perllibs=-lpthread -lnsl -ldl -lm -lcrypt -lutil -lc
    libc=libc-2.22.so, so=so, useshrplib=false, libperl=libperl.a
    gnulibc_version='2.22'
  Dynamic Linking:
    dlsrc=dl_dlopen.xs, dlext=so, d_dlsymun=undef, ccdlflags='-Wl,-E'
    cccdlflags='-fPIC', lddlflags='-shared -O2 -L/usr/local/lib -fstack-protector-strong'


Characteristics of this binary (from libperl): 
  Compile-time options: HAS_TIMES MULTIPLICITY PERLIO_LAYERS
                        PERL_COPY_ON_WRITE PERL_DONT_CREATE_GVSV
                        PERL_HASH_FUNC_ONE_AT_A_TIME_HARD
                        PERL_IMPLICIT_CONTEXT PERL_MALLOC_WRAP
                        PERL_PRESERVE_IVUV PERL_USE_DEVEL USE_64_BIT_ALL
                        USE_64_BIT_INT USE_ITHREADS USE_LARGE_FILES
                        USE_LOCALE USE_LOCALE_COLLATE USE_LOCALE_CTYPE
                        USE_LOCALE_NUMERIC USE_LOCALE_TIME USE_PERLIO
                        USE_PERL_ATOF USE_REENTRANT_API
  Built under linux
  Compiled at May 10 2016 18:54:57
  %ENV:
    PERL5LIB="/tmp/build/libintl-perl-1.29-9/blib/arch:/tmp/build/libintl-perl-1.29-9/blib/lib:/tmp/build/Business-ISBN-3.004-9/blib/arch:/tmp/build/Business-ISBN-3.004-9/blib/lib:/tmp/build/Business-ISBN-Data-20140910.003-9/blib/arch:/tmp/build/Business-ISBN-Data-20140910.003-9/blib/lib:/tmp/build/AnyEvent-Processor-0.006-9/blib/arch:/tmp/build/AnyEvent-Processor-0.006-9/blib/lib:/tmp/build/Glib-1.326-9/blib/arch:/tmp/build/Glib-1.326-9/blib/lib:/tmp/build/ExtUtils-PkgConfig-1.16-9/blib/arch:/tmp/build/ExtUtils-PkgConfig-1.16-9/blib/lib"
    PERL5OPT=""
    PERL5_CPANPLUS_IS_RUNNING="3793"
    PERL5_CPAN_IS_RUNNING="3793"
    PERLBREW_HOME="/home/njh/.perlbrew"
    PERLBREW_MANPATH="/home/njh/perl5/perlbrew/perls/perl-5.24.0/man"
    PERLBREW_PATH="/home/njh/perl5/perlbrew/bin:/home/njh/perl5/perlbrew/perls/perl-5.24.0/bin"
    PERLBREW_PERL="perl-5.24.0"
    PERLBREW_ROOT="/home/njh/perl5/perlbrew"
    PERLBREW_SHELLRC_VERSION="0.82"
    PERLBREW_VERSION="0.82"
  @INC:
    /tmp/build/libintl-perl-1.29-9/blib/arch
    /tmp/build/libintl-perl-1.29-9/blib/lib
    /tmp/build/Business-ISBN-3.004-9/blib/arch
    /tmp/build/Business-ISBN-3.004-9/blib/lib
    /tmp/build/Business-ISBN-Data-20140910.003-9/blib/arch
    /tmp/build/Business-ISBN-Data-20140910.003-9/blib/lib
    /tmp/build/AnyEvent-Processor-0.006-9/blib/arch
    /tmp/build/AnyEvent-Processor-0.006-9/blib/lib
    /tmp/build/Glib-1.326-9/blib/arch
    /tmp/build/Glib-1.326-9/blib/lib
    /tmp/build/ExtUtils-PkgConfig-1.16-9/blib/arch
    /tmp/build/ExtUtils-PkgConfig-1.16-9/blib/lib
    /home/njh/perl5/perlbrew/perls/perl-5.24.0/lib/site_perl/5.24.0/x86_64-linux-thread-multi
    /home/njh/perl5/perlbrew/perls/perl-5.24.0/lib/site_perl/5.24.0
    /home/njh/perl5/perlbrew/perls/perl-5.24.0/lib/5.24.0/x86_64-linux-thread-multi
    /home/njh/perl5/perlbrew/perls/perl-5.24.0/lib/5.24.0
    .