Astro-FITS-CFITSIO v1.18 Perl 5 v5.39.7 x86_64-linux-thread-multi

Status
Pass
From
Andreas J. König (ANDK)
Dist
Astro-FITS-CFITSIO v1.18
Platform
Perl 5 v5.39.7 x86_64-linux-thread-multi
Date
2024-01-31 12:13:38
ID
2a53a7ac-c032-11ee-a4fa-a3e742c0e3fa
This distribution has been tested as part of the CPAN Testers
project, supporting the Perl programming language.  See
http://wiki.cpantesters.org/ for more information or email
questions to cpan-testers-discuss@perl.org


--
Dear Pete Ratzlaff,

This is a computer-generated report for Astro-FITS-CFITSIO-1.18
on perl 5.39.7, created by CPAN-Reporter-1.2019.

Thank you for uploading your work to CPAN.  Congratulations!
All tests were successful.

Sections of this report:

    * Tester comments
    * Program output
    * Prerequisites
    * Environment and other context

------------------------------
TESTER COMMENTS
------------------------------

Additional comments from tester:

this report is from an automated smoke testing program
and was not reviewed by a human for accuracy

------------------------------
PROGRAM OUTPUT
------------------------------

Output from '/usr/bin/make test':

"/tmp/basesmoker-reloperl-m6jX/bin/perl" -MExtUtils::Command::MM -e 'cp_nonempty' -- CFITSIO.bs blib/arch/auto/Astro/FITS/CFITSIO/CFITSIO.bs 644
PERL_DL_NONLAZY=1 "/tmp/basesmoker-reloperl-m6jX/bin/perl" "-Iblib/lib" "-Iblib/arch" test.pl

Loading................................ok
ffgknm.................................ok
ffvers.................................ok
ffopen.................................
STATUS = 104
ok
ffinit.................................ok
ffflnm.................................ok
ffflmd.................................ok
ffphps.................................ok
ffprec.................................ok
ffpkys/ffgkey..........................ok
ffpkys/ffgkey..........................ok
ffpkys/ffgkey..........................ok
ffpkys/ffgkey..........................ok
ffpkys.................................ok
ffpkyl.................................ok
ffpkyj.................................ok
ffpkyf.................................ok
ffpkye.................................ok
ffpkyg.................................ok
ffpkyd.................................ok
ffpkyc.................................ok
ffpkym.................................ok
ffpkfc.................................ok
ffpkfm.................................ok
ffpkls.................................ok
ffplsw.................................ok
ffpkyt.................................ok
ffpcom.................................ok
ffphis.................................ok
ffpdat.................................ok
ffpkns.................................ok
ffpknl.................................ok
ffpknj.................................ok
ffpknf.................................ok
ffpkne.................................ok
ffpkng.................................ok
ffpknd.................................ok
ffpky/TSTRING..........................ok
ffpky/TLOGICAL.........................ok
ffpky/TBYTE............................ok
ffpky/TSHORT...........................ok
ffpky/TINT.............................ok
ffpky/TLONG............................ok
ffpky/TFLOAT...........................ok
ffpky/TDOUBLE..........................ok
ffpkyj.................................ok
ffpprX.................................ok
ffflus.................................ok
ffghdn.................................ok
ffpprb/ffgpvb..........................ok
ffppri/ffgpvi..........................ok
ffpprj/ffgpvj..........................ok
ffppre/ffgpve..........................ok
ffpprd/ffgpvd..........................ok
ffpprb/ffgpfb..........................ok
ffppri/ffgpfi..........................ok
ffpprj/ffgpfj..........................ok
ffppre/ffgpfe..........................ok
ffpprd/ffgpfd..........................ok
ffclos/ffopen (10 times)...............ok
filehandle assign......................ok
filehandle assign close................ok
filehandle assign pass.................ok
filehandle assign......................ok
post assign DESTROY check..............ok
PerlyUnpacking set.....................ok
fptr->perlyunpacking init..............ok
fptr->perlyunpacking == -1.............ok
fptr->perlyunpacking(0)................ok
fptr->perlyunpacking(1)................ok
fptr->perlyunpacking(-1)...............ok
ffghdn.................................ok
ffflnm.................................ok
ffflmd.................................ok
ffghpr.................................ok
ffgrec.................................ok
ffgkyn.................................ok
ffgcrd.................................ok
ffgkey.................................ok
ffgkys.................................ok
ffgkyl.................................ok
ffgkyj.................................ok
ffgkye.................................ok
ffgkyd.................................ok
ffgky/TSTRING..........................ok
ffgky/TLOGICAL.........................ok
ffgky/TBYTE............................ok
ffgky/TSHORT...........................ok
ffgky/TINT.............................ok
ffgky/TLONG............................ok
ffgky/TFLOAT...........................ok
ffgky/TDOUBLE..........................ok
ffgkyd.................................ok
ffgkyd.................................ok
ffgkyd.................................ok
ffgkyc.................................ok
ffgkyc.................................ok
ffgkym.................................ok
ffgkym.................................ok
ffgkyt.................................ok
ffpunt/ffgunt..........................ok
ffpunt/ffgunt..........................ok
ffpunt/ffgunt..........................ok
ffgkls.................................ok
ffgkns.................................ok
ffgknl.................................ok
ffgknj.................................ok
ffgkne.................................ok
ffgknd.................................ok
ffgcrd/ffghps/ffgrec...................ok
ffdrec/ffdkey..........................ok
ffirec/ffikyX..........................ok
ffmrec/ffmcrd/ffmnam/ffmcom/ffmkyX.....ok
ffucrd/ffukyX..........................ok
ffgnxk.................................ok
ffcpky.................................ok
ffpktp.................................ok
ffibin.................................ok
ffghps.................................ok
ffhdef/ffghsp..........................ok
ffptdm/ffgtdm..........................ok
ffpclX/ffpcnX..........................ok
ffgcno/ffgcnn..........................ok
ffgtcl/ffgbcl..........................ok
ffmrhd.................................ok
ffitab.................................ok
ffsnul/ffpkyj..........................ok
ffpclX.................................ok
ffghtb.................................ok
ffgcvX.................................ok
ffgtbb.................................ok
ffgcno/ffgcnn..........................ok
ffgtcl/ffgacl..........................ok
ffirow.................................ok
ffdrow.................................ok
ffdcol.................................ok
fficol.................................ok
ffinit.................................ok
ffiimg.................................ok
ffitab.................................ok
ffcpcl.................................ok
ffibin.................................ok
ffcpcl.................................ok
ffdelt.................................ok
ffmrhd.................................ok
ffghsp.................................ok
ffghbn.................................ok
ffgcx..................................ok
ffgcvs.................................ok

149 / 149 tests passed (100.0%)


This is beta software, and the test suite is not yet complete.
You may find the scripts in ./testprog and ./examples of interest,
however.

PERL_DL_NONLAZY=1 "/tmp/basesmoker-reloperl-m6jX/bin/perl" "-MExtUtils::Command::MM" "-MTest::Harness" "-e" "undef *Test::Harness::Switches; test_harness(0, 'blib/lib', 'blib/arch')" t/*.t
t/constructor.t .... ok
t/create_file.t .... ok
t/utilities.t ...... ok
t/write_key_str.t .. ok
All tests successful.
Files=4, Tests=15,  1 wallclock secs ( 0.03 usr  0.01 sys +  0.61 cusr  0.07 csys =  0.72 CPU)
Result: PASS

------------------------------
PREREQUISITES
------------------------------

Prerequisite modules loaded:

build_requires:

    Module               Need   Have    
    -------------------- ------ --------
    ExtUtils::MakeMaker  0      7.70    
    Test2::V0            0      0.000159

configure_requires:

    Module               Need   Have    
    -------------------- ------ --------
    Alien::Base::Wrapper 1.97   2.80    
    Alien::CFITSIO       v4.3.0 v4.3.0.0
    ExtUtils::MakeMaker  6.52   7.70    


------------------------------
ENVIRONMENT AND OTHER CONTEXT
------------------------------

Environment variables:

    AUTOMATED_TESTING = 1
    LANG = en_US.UTF-8
    PATH = /home/sand/bin:/usr/local/bin:/usr/local/sbin:/usr/sbin:/usr/bin:/sbin:/bin:/usr/games:/usr/local/games:/snap/bin:/usr/local/perl/bin:/usr/X11/bin
    PERL = /tmp/basesmoker-reloperl-m6jX/bin/perl
    PERL5LIB = /tmp/loop_over_bdir-2387-4NmEHU/Devel-Required-0.16-0/blib/arch:/tmp/loop_over_bdir-2387-4NmEHU/Devel-Required-0.16-0/blib/lib:/tmp/loop_over_bdir-2387-4NmEHU/Sysync-0.35-0/blib/arch:/tmp/loop_over_bdir-2387-4NmEHU/Sysync-0.35-0/blib/lib:/tmp/loop_over_bdir-2387-4NmEHU/AllKnowingDNS-1.7-0/blib/arch:/tmp/loop_over_bdir-2387-4NmEHU/AllKnowingDNS-1.7-0/blib/lib
    PERL5OPT = 
    PERL5_CPANPLUS_IS_RUNNING = 2395
    PERL5_CPAN_IS_RUNNING = 2395
    PERL_CANARY_STABILITY_NOPROMPT = 1
    PERL_MM_USE_DEFAULT = 1
    PERL_USE_UNSAFE_INC = 1
    SHELL = /usr/bin/zsh
    TERM = screen

Perl special variables (and OS-specific diagnostics, for MSWin32):

    $^X = /tmp/basesmoker-reloperl-m6jX/bin/perl
    $UID/$EUID = 1005 / 1005
    $GID = 1005 1005
    $EGID = 1005 1005

Perl module toolchain versions installed:

    Module              Have    
    ------------------- --------
    CPAN                2.36    
    CPAN::Meta          2.150010
    Cwd                 3.90    
    ExtUtils::CBuilder  0.280240
    ExtUtils::Command   7.70    
    ExtUtils::Install   2.22    
    ExtUtils::MakeMaker 7.70    
    ExtUtils::Manifest  1.75    
    ExtUtils::ParseXS   3.51    
    File::Spec          3.90    
    JSON                4.10    
    JSON::PP            4.16    
    Module::Build       0.4234  
    Module::Signature   0.88    
    Parse::CPAN::Meta   2.150010
    Test2               1.302198
    Test::Harness       3.48    
    Test::More          1.302198
    YAML                1.31    
    YAML::Syck          1.34    
    version             0.9930  


--

Summary of my perl5 (revision 5 version 39 subversion 7) configuration:
  Commit id: 96559478fdc3f2fe9c51cad02ebbae0c950b7b68
  Platform:
    osname=linux
    osvers=5.4.0-169-generic
    archname=x86_64-linux-thread-multi
    uname='linux k93focal 5.4.0-169-generic #187-ubuntu smp thu nov 23 14:52:28 utc 2023 x86_64 x86_64 x86_64 gnulinux '
    config_args='-Dprefix=/home/sand/src/perl/repoperls/installed-perls/host/k93focal/v5.39.7/d119 -Dmyhostname=k93focal -Dinstallusrbinperl=n -Uversiononly -Dusedevel -des -Ui_db -Dlibswanted=cl pthread socket inet nsl gdbm dbm malloc dl ld sun m crypt sec util c cposix posix ucb BSD gdbm_compat -Duseithreads -Uuselongdouble -DEBUGGING=both'
    hint=recommended
    useposix=true
    d_sigaction=define
    useithreads=define
    usemultiplicity=define
    use64bitint=define
    use64bitall=define
    uselongdouble=undef
    usemymalloc=n
    default_inc_excludes_dot=define
  Compiler:
    cc='cc'
    ccflags ='-D_REENTRANT -D_GNU_SOURCE -fwrapv -DDEBUGGING -fno-strict-aliasing -pipe -fstack-protector-strong -I/usr/local/include -D_LARGEFILE_SOURCE -D_FILE_OFFSET_BITS=64'
    optimize='-O2 -g'
    cppflags='-D_REENTRANT -D_GNU_SOURCE -fwrapv -DDEBUGGING -fno-strict-aliasing -pipe -fstack-protector-strong -I/usr/local/include'
    ccversion=''
    gccversion='9.4.0'
    gccosandvers=''
    intsize=4
    longsize=8
    ptrsize=8
    doublesize=8
    byteorder=12345678
    doublekind=3
    d_longlong=define
    longlongsize=8
    d_longdbl=define
    longdblsize=16
    longdblkind=3
    ivtype='long'
    ivsize=8
    nvtype='double'
    nvsize=8
    Off_t='off_t'
    lseeksize=8
    alignbytes=8
    prototype=define
  Linker and Libraries:
    ld='cc'
    ldflags =' -fstack-protector-strong -L/usr/local/lib'
    libpth=/usr/local/lib /usr/lib/x86_64-linux-gnu /usr/lib /usr/lib64
    libs=-lpthread -lnsl -ldl -lm -lcrypt -lutil -lc
    perllibs=-lpthread -lnsl -ldl -lm -lcrypt -lutil -lc
    libc=libc-2.31.so
    so=so
    useshrplib=false
    libperl=libperl.a
    gnulibc_version='2.31'
  Dynamic Linking:
    dlsrc=dl_dlopen.xs
    dlext=so
    d_dlsymun=undef
    ccdlflags='-Wl,-E'
    cccdlflags='-fPIC'
    lddlflags='-shared -O2 -g -L/usr/local/lib -fstack-protector-strong'


Characteristics of this binary (from libperl): 
  Compile-time options:
    DEBUGGING
    HAS_LONG_DOUBLE
    HAS_STRTOLD
    HAS_TIMES
    MULTIPLICITY
    PERLIO_LAYERS
    PERL_COPY_ON_WRITE
    PERL_DONT_CREATE_GVSV
    PERL_HASH_FUNC_SIPHASH13
    PERL_HASH_USE_SBOX32
    PERL_MALLOC_WRAP
    PERL_OP_PARENT
    PERL_PRESERVE_IVUV
    PERL_TRACK_MEMPOOL
    PERL_USE_DEVEL
    PERL_USE_SAFE_PUTENV
    USE_64_BIT_ALL
    USE_64_BIT_INT
    USE_ITHREADS
    USE_LARGE_FILES
    USE_LOCALE
    USE_LOCALE_COLLATE
    USE_LOCALE_CTYPE
    USE_LOCALE_NUMERIC
    USE_LOCALE_TIME
    USE_PERLIO
    USE_PERL_ATOF
    USE_REENTRANT_API
    USE_THREAD_SAFE_LOCALE
  Built under linux
  Compiled at Jan 20 2024 14:00:37
  %ENV:
    PERL="/tmp/basesmoker-reloperl-m6jX/bin/perl"
    PERL5LIB="/tmp/loop_over_bdir-2387-4NmEHU/Devel-Required-0.16-0/blib/arch:/tmp/loop_over_bdir-2387-4NmEHU/Devel-Required-0.16-0/blib/lib:/tmp/loop_over_bdir-2387-4NmEHU/Sysync-0.35-0/blib/arch:/tmp/loop_over_bdir-2387-4NmEHU/Sysync-0.35-0/blib/lib:/tmp/loop_over_bdir-2387-4NmEHU/AllKnowingDNS-1.7-0/blib/arch:/tmp/loop_over_bdir-2387-4NmEHU/AllKnowingDNS-1.7-0/blib/lib"
    PERL5OPT=""
    PERL5_CPANPLUS_IS_RUNNING="2395"
    PERL5_CPAN_IS_RUNNING="2395"
    PERL_CANARY_STABILITY_NOPROMPT="1"
    PERL_MM_USE_DEFAULT="1"
    PERL_USE_UNSAFE_INC="1"
  @INC:
    /tmp/loop_over_bdir-2387-4NmEHU/Devel-Required-0.16-0/blib/arch
    /tmp/loop_over_bdir-2387-4NmEHU/Devel-Required-0.16-0/blib/lib
    /tmp/loop_over_bdir-2387-4NmEHU/Sysync-0.35-0/blib/arch
    /tmp/loop_over_bdir-2387-4NmEHU/Sysync-0.35-0/blib/lib
    /tmp/loop_over_bdir-2387-4NmEHU/AllKnowingDNS-1.7-0/blib/arch
    /tmp/loop_over_bdir-2387-4NmEHU/AllKnowingDNS-1.7-0/blib/lib
    /home/sand/src/perl/repoperls/installed-perls/host/k93focal/v5.39.7/d119/lib/site_perl/5.39.7/x86_64-linux-thread-multi
    /home/sand/src/perl/repoperls/installed-perls/host/k93focal/v5.39.7/d119/lib/site_perl/5.39.7
    /home/sand/src/perl/repoperls/installed-perls/host/k93focal/v5.39.7/d119/lib/5.39.7/x86_64-linux-thread-multi
    /home/sand/src/perl/repoperls/installed-perls/host/k93focal/v5.39.7/d119/lib/5.39.7
    .