Test-Timer v2.03 Perl 5 v5.10.0 x86_64-linux-thread-multi

Status
Pass
From
Nigel Horne
Dist
Test-Timer v2.03
Platform
Perl 5 v5.10.0 x86_64-linux-thread-multi
Date
2017-10-08 21:03:42
ID
2a7adf7e-ac6c-11e7-9be1-bbe64cf6c7cd
This distribution has been tested as part of the CPAN Testers
project, supporting the Perl programming language.  See
http://wiki.cpantesters.org/ for more information or email
questions to cpan-testers-discuss@perl.org


--
Dear jonasbn,

This is a computer-generated report for Test-Timer-2.03
on perl 5.10.0, created by CPAN-Reporter-1.2018.

Thank you for uploading your work to CPAN.  Congratulations!
All tests were successful.

Sections of this report:

    * Tester comments
    * Program output
    * Prerequisites
    * Environment and other context

------------------------------
TESTER COMMENTS
------------------------------

Additional comments from tester:

this report is from an automated smoke testing program
and was not reviewed by a human for accuracy

------------------------------
PROGRAM OUTPUT
------------------------------

Output from './Build test':

t/author-critic.t ......... skipped: these tests are for testing by the author
t/author-pod-coverage.t ... skipped: these tests are for testing by the author
t/author-pod-syntax.t ..... skipped: these tests are for testing by the author
t/release-cpan-changes.t .. skipped: these tests are for release candidate testing
t/release-kwalitee.t ...... skipped: these tests are for release candidate testing
t/release-meta-json.t ..... skipped: these tests are for release candidate testing
t/00-compile.t ............ ok
t/time_atleast.t .......... ok
t/time_alert.t ............ ok
t/time_atmost.t ........... ok
t/time_between.t .......... ok
t/time_ok.t ............... ok
t/time_nok.t .............. ok
t/_benchmark.t ............ ok
t/test-tester.t ........... ok
All tests successful.
Files=15, Tests=95, 29 wallclock secs ( 0.05 usr  0.02 sys +  0.41 cusr  0.08 csys =  0.56 CPU)
Result: PASS

------------------------------
PREREQUISITES
------------------------------

Prerequisite modules loaded:

requires:

    Module                  Need  Have    
    ----------------------- ----- --------
    Benchmark               0     1.1     
    Carp                    0     1.32    
    English                 0     1.04    
    Error                   0     0.17021 
    perl                    5.006 5.010000
    Test::Builder           0     1.302085
    Test::Builder::Module   0     1.302085

build_requires:

    Module                  Need  Have    
    ----------------------- ----- --------
    File::Spec              0     3.47    
    IO::Handle              0     1.28    
    IPC::Open3              0     1.02    
    Module::Build           0.30  0.4212  
    Pod::Coverage::TrustPod 0     0.100003
    Test::Fatal             0     0.013   
  ! Test::Kwalitee          1.21  1.12    
    Test::More              0     1.302085
    Test::Pod               1.41  1.51    
    Test::Pod::Coverage     1.08  1.10    
    Test::Tester            0     1.302085

configure_requires:

    Module                  Need  Have    
    ----------------------- ----- --------
    ExtUtils::MakeMaker     0     7.24    
    Module::Build           0.30  0.4212  


------------------------------
ENVIRONMENT AND OTHER CONTEXT
------------------------------

Environment variables:

    AUTOMATED_TESTING = 1
    HARNESS_OPTIONS = j4
    LANG = en_GB.UTF-8
    LANGUAGE = en_GB:en
    PATH = /home/njh/perl5/perlbrew/bin:/home/njh/perl5/perlbrew/perls/perl-5.10.0/bin:/home/njh/perl5/perlbrew/bin:/usr/bin:/bin
    PERL5LIB = /home/njh/.cpan/build/CPAN-Meta-Check-0.014-12/blib/arch:/home/njh/.cpan/build/CPAN-Meta-Check-0.014-12/blib/lib:/home/njh/.cpan/build/Module-Metadata-1.000033-7/blib/arch:/home/njh/.cpan/build/Module-Metadata-1.000033-7/blib/lib:/home/njh/.cpan/build/Pod-Coverage-TrustPod-0.100003-8/blib/arch:/home/njh/.cpan/build/Pod-Coverage-TrustPod-0.100003-8/blib/lib:/home/njh/.cpan/build/Pod-Eventual-0.094001-8/blib/arch:/home/njh/.cpan/build/Pod-Eventual-0.094001-8/blib/lib:/home/njh/.cpan/build/Mixin-Linewise-0.108-8/blib/arch:/home/njh/.cpan/build/Mixin-Linewise-0.108-8/blib/lib:/home/njh/.cpan/build/PerlIO-utf8_strict-0.007-8/blib/arch:/home/njh/.cpan/build/PerlIO-utf8_strict-0.007-8/blib/lib:/home/njh/.cpan/build/Test-TCP-2.19-10/blib/arch:/home/njh/.cpan/build/Test-TCP-2.19-10/blib/lib:/home/njh/.cpan/build/Proc-Guard-0.07-8/blib/arch:/home/njh/.cpan/build/Proc-Guard-0.07-8/blib/lib:/home/njh/.cpan/build/Class-Accessor-Lite-0.08-8/blib/arch:/home/njh/.cpan/build/Class-Accessor-Lite-0.08-8/blib/lib:/home/njh/.cpan/build/App-Brl2Brl-0.01-8/blib/arch:/home/njh/.cpan/build/App-Brl2Brl-0.01-8/blib/lib
    PERL5OPT = 
    PERL5_CPANPLUS_IS_RUNNING = 11400
    PERL5_CPAN_IS_RUNNING = 11400
    PERLBREW_BASHRC_VERSION = 0.80
    PERLBREW_HOME = /home/njh/.perlbrew
    PERLBREW_LIB = 
    PERLBREW_MANPATH = /home/njh/perl5/perlbrew/perls/perl-5.10.0/man
    PERLBREW_PATH = /home/njh/perl5/perlbrew/bin:/home/njh/perl5/perlbrew/perls/perl-5.10.0/bin
    PERLBREW_PERL = perl-5.10.0
    PERLBREW_ROOT = /home/njh/perl5/perlbrew
    PERLBREW_VERSION = 0.80
    PERL_LOCAL_LIB_ROOT = 
    SHELL = /bin/sh

Perl special variables (and OS-specific diagnostics, for MSWin32):

    $^X = /home/njh/perl5/perlbrew/perls/perl-5.10.0/bin/perl
    $UID/$EUID = 1000 / 1000
    $GID = 1000 4 24 25 29 30 44 46 108 112 1000
    $EGID = 1000 4 24 25 29 30 44 46 108 112 1000

Perl module toolchain versions installed:

    Module              Have    
    ------------------- --------
    CPAN                2.16    
    CPAN::Meta          2.150005
    Cwd                 3.47    
    ExtUtils::CBuilder  0.280220
    ExtUtils::Command   7.24    
    ExtUtils::Install   1.54    
    ExtUtils::MakeMaker 7.24    
    ExtUtils::Manifest  1.70    
    ExtUtils::ParseXS   3.30    
    File::Spec          3.47    
    JSON                2.93    
    JSON::PP            2.27400 
    Module::Build       0.4212  
    Module::Signature   0.73    
    Parse::CPAN::Meta   1.4422  
    Test::Harness       3.36    
    Test::More          1.302085
    YAML                1.23    
    YAML::Syck          1.30    
    version             0.9904  


--

Summary of my perl5 (revision 5 version 10 subversion 0) configuration:
  Platform:
    osname=linux, osvers=3.2.0-4-amd64, archname=x86_64-linux-thread-multi
    uname='linux nigelhorne.force9.co.uk 3.2.0-4-amd64 #1 smp debian 3.2.32-1 x86_64 gnulinux '
    config_args='-de -Dprefix=/home/njh/perl5/perlbrew/perls/perl-5.10.0 -Duseithreads -Dusemultiplicity -Accflags=-O2 -W -Wformat=2 -Wswitch -Wshadow -Wwrite-strings -Wuninitialized -Wall -pipe -mtune=native -march=native -fomit-frame-pointer -mfpmath=sse -pedantic -D_FORTIFY_SOURCE=2 -Wpointer-arith -Wstrict-prototypes -fstack-protector -Wstack-protector -Wextra -Wbad-function-cast -Wcast-align -Wcast-qual -Wdisabled-optimization -Wendif-labels -Wfloat-equal -Wformat-nonliteral -Winline -Wmissing-declarations -Wmissing-prototypes -Wnested-externs -Wpointer-arith -Wundef -Wformat-security -Aeval:scriptdir=/home/njh/perl5/perlbrew/perls/perl-5.10.0/bin'
    hint=recommended, useposix=true, d_sigaction=define
    useithreads=define, usemultiplicity=define
    useperlio=define, d_sfio=undef, uselargefiles=define, usesocks=undef
    use64bitint=define, use64bitall=define, uselongdouble=undef
    usemymalloc=n, bincompat5005=undef
  Compiler:
    cc='cc', ccflags ='-D_REENTRANT -D_GNU_SOURCE -O2 -W -Wformat=2 -Wswitch -Wshadow -Wwrite-strings -Wuninitialized -Wall -pipe -mtune=native -march=native -fomit-frame-pointer -mfpmath=sse -pedantic -D_FORTIFY_SOURCE=2 -Wpointer-arith -Wstrict-prototypes -fstack-protector -Wstack-protector -Wextra -Wbad-function-cast -Wcast-align -Wcast-qual -Wdisabled-optimization -Wendif-labels -Wfloat-equal -Wformat-nonliteral -Winline -Wmissing-declarations -Wmissing-prototypes -Wnested-externs -Wpointer-arith -Wundef -Wformat-security -fno-strict-aliasing -I/usr/local/include -D_LARGEFILE_SOURCE -D_FILE_OFFSET_BITS=64',
    optimize='-O2',
    cppflags='-D_REENTRANT -D_GNU_SOURCE -O2 -W -Wformat=2 -Wswitch -Wshadow -Wwrite-strings -Wuninitialized -Wall -pipe -mtune=native -march=native -fomit-frame-pointer -mfpmath=sse -pedantic -D_FORTIFY_SOURCE=2 -Wpointer-arith -Wstrict-prototypes -fstack-protector -Wstack-protector -Wextra -Wbad-function-cast -Wcast-align -Wcast-qual -Wdisabled-optimization -Wendif-labels -Wfloat-equal -Wformat-nonliteral -Winline -Wmissing-declarations -Wmissing-prototypes -Wnested-externs -Wpointer-arith -Wundef -Wformat-security -fno-strict-aliasing -I/usr/local/include'
    ccversion='', gccversion='4.7.2', gccosandvers=''
    intsize=4, longsize=8, ptrsize=8, doublesize=8, byteorder=12345678
    d_longlong=define, longlongsize=8, d_longdbl=define, longdblsize=16
    ivtype='long', ivsize=8, nvtype='double', nvsize=8, Off_t='off_t', lseeksize=8
    alignbytes=8, prototype=define
  Linker and Libraries:
    ld='cc', ldflags =' -L/usr/local/lib'
    libpth=/usr/local/lib /lib/x86_64-linux-gnu /lib/../lib /usr/lib/x86_64-linux-gnu /usr/lib/../lib /lib /usr/lib
    libs=-lnsl -lgdbm -ldb -ldl -lm -lcrypt -lutil -lpthread -lc -lgdbm_compat
    perllibs=-lnsl -ldl -lm -lcrypt -lutil -lpthread -lc -lgdbm_compat
    libc=, so=so, useshrplib=false, libperl=libperl.a
    gnulibc_version='2.13'
  Dynamic Linking:
    dlsrc=dl_dlopen.xs, dlext=so, d_dlsymun=undef, ccdlflags='-Wl,-E'
    cccdlflags='-fPIC', lddlflags='-shared -O2 -L/usr/local/lib'


Characteristics of this binary (from libperl): 
  Compile-time options: MULTIPLICITY PERL_DONT_CREATE_GVSV
                        PERL_IMPLICIT_CONTEXT PERL_MALLOC_WRAP USE_64_BIT_ALL
                        USE_64_BIT_INT USE_ITHREADS USE_LARGE_FILES
                        USE_PERLIO USE_REENTRANT_API
  Built under linux
  Compiled at Mar  4 2013 20:42:58
  %ENV:
    PERL5LIB="/home/njh/.cpan/build/CPAN-Meta-Check-0.014-12/blib/arch:/home/njh/.cpan/build/CPAN-Meta-Check-0.014-12/blib/lib:/home/njh/.cpan/build/Module-Metadata-1.000033-7/blib/arch:/home/njh/.cpan/build/Module-Metadata-1.000033-7/blib/lib:/home/njh/.cpan/build/Pod-Coverage-TrustPod-0.100003-8/blib/arch:/home/njh/.cpan/build/Pod-Coverage-TrustPod-0.100003-8/blib/lib:/home/njh/.cpan/build/Pod-Eventual-0.094001-8/blib/arch:/home/njh/.cpan/build/Pod-Eventual-0.094001-8/blib/lib:/home/njh/.cpan/build/Mixin-Linewise-0.108-8/blib/arch:/home/njh/.cpan/build/Mixin-Linewise-0.108-8/blib/lib:/home/njh/.cpan/build/PerlIO-utf8_strict-0.007-8/blib/arch:/home/njh/.cpan/build/PerlIO-utf8_strict-0.007-8/blib/lib:/home/njh/.cpan/build/Test-TCP-2.19-10/blib/arch:/home/njh/.cpan/build/Test-TCP-2.19-10/blib/lib:/home/njh/.cpan/build/Proc-Guard-0.07-8/blib/arch:/home/njh/.cpan/build/Proc-Guard-0.07-8/blib/lib:/home/njh/.cpan/build/Class-Accessor-Lite-0.08-8/blib/arch:/home/njh/.cpan/build/Class-Accessor-Lite-0.08-8/blib/lib:/home/njh/.cpan/build/App-Brl2Brl-0.01-8/blib/arch:/home/njh/.cpan/build/App-Brl2Brl-0.01-8/blib/lib"
    PERL5OPT=""
    PERL5_CPANPLUS_IS_RUNNING="11400"
    PERL5_CPAN_IS_RUNNING="11400"
    PERLBREW_BASHRC_VERSION="0.80"
    PERLBREW_HOME="/home/njh/.perlbrew"
    PERLBREW_LIB=""
    PERLBREW_MANPATH="/home/njh/perl5/perlbrew/perls/perl-5.10.0/man"
    PERLBREW_PATH="/home/njh/perl5/perlbrew/bin:/home/njh/perl5/perlbrew/perls/perl-5.10.0/bin"
    PERLBREW_PERL="perl-5.10.0"
    PERLBREW_ROOT="/home/njh/perl5/perlbrew"
    PERLBREW_VERSION="0.80"
    PERL_LOCAL_LIB_ROOT=""
  @INC:
    /home/njh/.cpan/build/CPAN-Meta-Check-0.014-12/blib/arch
    /home/njh/.cpan/build/CPAN-Meta-Check-0.014-12/blib/lib
    /home/njh/.cpan/build/Module-Metadata-1.000033-7/blib/arch
    /home/njh/.cpan/build/Module-Metadata-1.000033-7/blib/lib
    /home/njh/.cpan/build/Pod-Coverage-TrustPod-0.100003-8/blib/arch
    /home/njh/.cpan/build/Pod-Coverage-TrustPod-0.100003-8/blib/lib
    /home/njh/.cpan/build/Pod-Eventual-0.094001-8/blib/arch
    /home/njh/.cpan/build/Pod-Eventual-0.094001-8/blib/lib
    /home/njh/.cpan/build/Mixin-Linewise-0.108-8/blib/arch
    /home/njh/.cpan/build/Mixin-Linewise-0.108-8/blib/lib
    /home/njh/.cpan/build/PerlIO-utf8_strict-0.007-8/blib/arch
    /home/njh/.cpan/build/PerlIO-utf8_strict-0.007-8/blib/lib
    /home/njh/.cpan/build/Test-TCP-2.19-10/blib/arch
    /home/njh/.cpan/build/Test-TCP-2.19-10/blib/lib
    /home/njh/.cpan/build/Proc-Guard-0.07-8/blib/arch
    /home/njh/.cpan/build/Proc-Guard-0.07-8/blib/lib
    /home/njh/.cpan/build/Class-Accessor-Lite-0.08-8/blib/arch
    /home/njh/.cpan/build/Class-Accessor-Lite-0.08-8/blib/lib
    /home/njh/.cpan/build/App-Brl2Brl-0.01-8/blib/arch
    /home/njh/.cpan/build/App-Brl2Brl-0.01-8/blib/lib
    /home/njh/perl5/perlbrew/perls/perl-5.10.0/lib/5.10.0/x86_64-linux-thread-multi
    /home/njh/perl5/perlbrew/perls/perl-5.10.0/lib/5.10.0
    /home/njh/perl5/perlbrew/perls/perl-5.10.0/lib/site_perl/5.10.0/x86_64-linux-thread-multi
    /home/njh/perl5/perlbrew/perls/perl-5.10.0/lib/site_perl/5.10.0
    .