Report for MRS-Client-0.600100

Back
From: metabase:user:838e5b0a-2bb6-1016-a696-43a2537fa0c6
Subject: PASS MRS-Client-0.600100 v5.10.1 Windows (Cygwin)
Date: 2012-03-13T19:10:50Z

This distribution has been tested as part of the CPAN Testers
project, supporting the Perl programming language.  See
http://wiki.cpantesters.org/ for more information or email
questions to cpan-testers-discuss@perl.org


--
Dear Martin Senger,

This is a computer-generated report for MRS-Client-0.600100
on perl 5.10.1, created by CPAN-Reporter-1.2004.

Thank you for uploading your work to CPAN.  Congratulations!
All tests were successful.

Sections of this report:

    * Tester comments
    * Program output
    * Prerequisites
    * Environment and other context

------------------------------
TESTER COMMENTS
------------------------------

Additional comments from tester:

this report is from an automated smoke testing program
and was not reviewed by a human for accuracy

------------------------------
PROGRAM OUTPUT
------------------------------

Output from 'make test':

PERL_DL_NONLAZY=1 /usr/bin/perl.exe "-MExtUtils::Command::MM" "-e" "test_harness(0, 'blib/lib', 'blib/arch')" t/*.t
t/00-compile.t .......... ok
# Testing MRS::Client 0.600100, Perl v5.10.1, /usr/bin/perl
t/00-load.t ............. ok
# Data manipulation
t/01-data.t ............. ok
# Setting host and endpoints
t/02-endpoint.t ......... ok
# Calling MRS services
t/03-network.t .......... ok
# Manipulation of hyperlinks
t/04-links.t ............ ok
t/author-critic.t ....... skipped: these tests are for testing by the author
t/author-pod-spell.t .... skipped: these tests are for testing by the author
t/release-distmeta.t .... skipped: these tests are for release candidate testing
t/release-eol.t ......... skipped: these tests are for release candidate testing
t/release-no-tabs.t ..... skipped: these tests are for release candidate testing
t/release-pod-syntax.t .. skipped: these tests are for release candidate testing
All tests successful.
Files=12, Tests=143, 21 wallclock secs ( 0.41 usr  0.16 sys +  5.18 cusr  8.46 csys = 14.21 CPU)
Result: PASS

------------------------------
PREREQUISITES
------------------------------

Prerequisite modules loaded:

requires:

    Module                            Need Have 
    --------------------------------- ---- -----
    base                              0    2.15 
    Carp                              0    1.25 
    constant                          0    1.21 
    File::Basename                    0    2.77 
    FindBin                           0    1.50 
    Getopt::Std                       0    1.06 
    Math::BigInt                      0    1.997
    overload                          0    1.07 
    strict                            0    1.04 
    vars                              0    1.01 
    warnings                          0    1.06 
    XML::Compile::SOAP11              2.26 2.26 
    XML::Compile::Transport::SOAPHTTP 0    2.26 
    XML::Compile::WSDL11              0    2.26 

build_requires:

    Module                            Need Have 
    --------------------------------- ---- -----
    English                           0    1.04 
    File::Find                        0    1.14 
    File::Spec                        0    3.33 
    File::Temp                        0    0.22 
    Test::More                        0    0.98 
    Test::Requires                    0    0.06 

configure_requires:

    Module                            Need Have 
    --------------------------------- ---- -----
    ExtUtils::MakeMaker               6.30 6.62 


------------------------------
ENVIRONMENT AND OTHER CONTEXT
------------------------------

Environment variables:

    AUTOMATED_TESTING = 1
    COMSPEC = C:\Windows\system32\cmd.exe
    LANG = en_US.UTF-8
    NUMBER_OF_PROCESSORS = 8
    PATH = /home/solimanod/perl5/perlbrew/bin:/usr/local/bin:/usr/bin:/cygdrive/c/Program Files/MiKTeX/2.9/miktex/bin:/cygdrive/c/Windows/system32:/cygdrive/c/Windows:/cygdrive/c/Windows/System32/Wbem:/cygdrive/c/Windows/System32/WindowsPowerShell/v1.0:/cygdrive/c/rv/BIN:/cygdrive/c/Program Files/Microsoft SQL Server/100/Tools/Binn:/cygdrive/c/Program Files/Microsoft SQL Server/100/DTS/Binn:/cygdrive/c/strawberry/c/bin:/cygdrive/c/strawberry/perl/site/bin:/cygdrive/c/strawberry/perl/bin:/cygdrive/c/Program Files/Common Files/Roxio Shared/9.0/DLLShared:/cygdrive/c/Program Files/Microsoft SQL Server/100/Tools/Binn/VSShell/Common7/IDE:/cygdrive/c/Program Files/Microsoft Visual Studio 9.0/Common7/IDE/PrivateAssemblies:/cygdrive/c/Program Files/ooRexx:/cygdrive/c/Program Files/Microsoft SQL Server/80/Tools/Binn:/cygdrive/c/Program Files/Microsoft SQL Server/90/Tools/binn:/cygdrive/c/Program Files/Microsoft SQL Server/90/DTS/Binn:/cygdrive/c/Program Files/Microsoft SQL Server/90/Tools/Binn/VSShell/Common7/IDE:/cygdrive/c/Program Files/Microsoft Visual Studio 8/Common7/IDE/PrivateAssemblies:/cygdrive/c/Program Files/TortoiseSVN/bin
    PATH_WITHOUT_PERLBREW = /usr/local/bin:/usr/bin:/cygdrive/c/Program Files/MiKTeX/2.9/miktex/bin:/cygdrive/c/Windows/system32:/cygdrive/c/Windows:/cygdrive/c/Windows/System32/Wbem:/cygdrive/c/Windows/System32/WindowsPowerShell/v1.0:/cygdrive/c/rv/BIN:/cygdrive/c/Program Files/Microsoft SQL Server/100/Tools/Binn:/cygdrive/c/Program Files/Microsoft SQL Server/100/DTS/Binn:/cygdrive/c/strawberry/c/bin:/cygdrive/c/strawberry/perl/site/bin:/cygdrive/c/strawberry/perl/bin:/cygdrive/c/Program Files/Common Files/Roxio Shared/9.0/DLLShared:/cygdrive/c/Program Files/Microsoft SQL Server/100/Tools/Binn/VSShell/Common7/IDE:/cygdrive/c/Program Files/Microsoft Visual Studio 9.0/Common7/IDE/PrivateAssemblies:/cygdrive/c/Program Files/ooRexx:/cygdrive/c/Program Files/Microsoft SQL Server/80/Tools/Binn:/cygdrive/c/Program Files/Microsoft SQL Server/90/Tools/binn:/cygdrive/c/Program Files/Microsoft SQL Server/90/DTS/Binn:/cygdrive/c/Program Files/Microsoft SQL Server/90/Tools/Binn/VSShell/Common7/IDE:/cygdrive/c/Program Files/Microsoft Visual Studio 8/Common7/IDE/PrivateAssemblies:/cygdrive/c/Program Files/TortoiseSVN/bin
    PERL5LIB = /home/dsolimano/.cpan/build/XML-Compile-SOAP-2.26-WV9jox/blib/arch:/home/dsolimano/.cpan/build/XML-Compile-SOAP-2.26-WV9jox/blib/lib:/home/dsolimano/.cpan/build/XML-Compile-Cache-0.991-XUJbM5/blib/arch:/home/dsolimano/.cpan/build/XML-Compile-Cache-0.991-XUJbM5/blib/lib:/home/dsolimano/.cpan/build/XML-LibXML-Simple-0.91-1SCHer/blib/arch:/home/dsolimano/.cpan/build/XML-LibXML-Simple-0.91-1SCHer/blib/lib:/home/dsolimano/.cpan/build/File-Slurp-9999.19-pc8dHF/blib/arch:/home/dsolimano/.cpan/build/File-Slurp-9999.19-pc8dHF/blib/lib:/home/dsolimano/.cpan/build/XML-Compile-1.25-9US6Fz/blib/arch:/home/dsolimano/.cpan/build/XML-Compile-1.25-9US6Fz/blib/lib:/home/dsolimano/.cpan/build/XML-Compile-Tester-0.06-9iyr6E/blib/arch:/home/dsolimano/.cpan/build/XML-Compile-Tester-0.06-9iyr6E/blib/lib:/home/dsolimano/.cpan/build/Log-Report-0.94-8uq20T/blib/arch:/home/dsolimano/.cpan/build/Log-Report-0.94-8uq20T/blib/lib
    PERL5OPT = 
    PERL5_CPANPLUS_IS_RUNNING = 10376
    PERL5_CPAN_IS_RUNNING = 10376
    PERL5_CPAN_IS_RUNNING_IN_RECURSION = 5112,10376
    PERLBREW_BASHRC_VERSION = 0.31
    PERLBREW_HOME = /home/solimanod/.perlbrew
    PERLBREW_PATH = /home/solimanod/perl5/perlbrew/bin
    PERLBREW_ROOT = /home/solimanod/perl5/perlbrew
    PERL_CR_SMOKER_CURRENT = MRS-Client-0.600100
    PERL_EXTUTILS_AUTOINSTALL = --defaultdeps
    PERL_JSON_BACKEND = JSON::XS
    PERL_MM_USE_DEFAULT = 1
    PERL_YAML_BACKEND = YAML
    PROCESSOR_IDENTIFIER = x86 Family 6 Model 23 Stepping 6, GenuineIntel
    SHELL = /bin/bash
    TEMP = /tmp
    TERM = xterm

Perl special variables (and OS-specific diagnostics, for MSWin32):

    $^X = /usr/bin/perl
    $UID/$EUID = 184280 / 184280
    $GID = 10513 544 555 545 1012 1004 15641 15886 25229 184120 237589 251266 194555 76114 10513 71661 184156 184165 184167 237398 192370 184190 184243 77842
    $EGID = 10513 544 555 545 1012 1004 15641 15886 25229 184120 237589 251266 194555 76114 10513 71661 184156 184165 184167 237398 192370 184190 184243 77842

Perl module toolchain versions installed:

    Module              Have    
    ------------------- --------
    CPAN                1.9800  
    CPAN::Meta          2.112150
    Cwd                 3.33    
    ExtUtils::CBuilder  0.280205
    ExtUtils::Command   1.17    
    ExtUtils::Install   1.54    
    ExtUtils::MakeMaker 6.62    
    ExtUtils::Manifest  1.60    
    ExtUtils::ParseXS   3.15    
    File::Spec          3.33    
    JSON                2.53    
    JSON::PP            2.27200 
    Module::Build       0.40    
    Module::Signature   0.61    
    Parse::CPAN::Meta   1.4401  
    Test::Harness       3.23    
    Test::More          0.98    
    YAML                0.80    
    YAML::Syck          n/a     
    version             0.96    


--

Summary of my perl5 (revision 5 version 10 subversion 1) configuration:
   
  Platform:
    osname=cygwin, osvers=1.7.5(0.22553), archname=i686-cygwin-thread-multi-64int
    uname='cygwin_nt-5.1 reini 1.7.5(0.22553) 2010-04-12 19:07 i686 cygwin '
    config_args='-de -Dlibperl=cygperl5_10.dll -Dcc=gcc-4 -Dld=g++-4 -Dmksymlinks -Dusethreads -Dmad=y -Doptimize=-O3 -Accflags=-g3'
    hint=recommended, useposix=true, d_sigaction=define
    useithreads=define, usemultiplicity=define
    useperlio=define, d_sfio=undef, uselargefiles=define, usesocks=undef
    use64bitint=define, use64bitall=undef, uselongdouble=undef
    usemymalloc=y, bincompat5005=undef
  Compiler:
    cc='gcc-4', ccflags ='-DPERL_USE_SAFE_PUTENV -U__STRICT_ANSI__ -g3 -fno-strict-aliasing -pipe -fstack-protector -I/usr/local/include',
    optimize='-O3',
    cppflags='-DPERL_USE_SAFE_PUTENV -U__STRICT_ANSI__ -g3 -fno-strict-aliasing -pipe -fstack-protector -I/usr/local/include'
    ccversion='', gccversion='4.3.4 20090804 (release) 1', gccosandvers=''
    intsize=4, longsize=4, ptrsize=4, doublesize=8, byteorder=12345678
    d_longlong=define, longlongsize=8, d_longdbl=define, longdblsize=12
    ivtype='long long', ivsize=8, nvtype='double', nvsize=8, Off_t='off_t', lseeksize=8
    alignbytes=8, prototype=define
  Linker and Libraries:
    ld='g++-4', ldflags =' -Wl,--enable-auto-import -Wl,--export-all-symbols -Wl,--stack,8388608 -Wl,--enable-auto-image-base -fstack-protector -L/usr/local/lib'
    libpth=/usr/local/lib /usr/lib /lib
    libs=-lgdbm -ldb -ldl -lcrypt -lgdbm_compat
    perllibs=-ldl -lcrypt
    libc=/usr/lib/libc.a, so=dll, useshrplib=true, libperl=cygperl5_10.dll
    gnulibc_version=''
  Dynamic Linking:
    dlsrc=dl_dlopen.xs, dlext=dll, d_dlsymun=undef, ccdlflags=' '
    cccdlflags=' ', lddlflags=' --shared  -Wl,--enable-auto-import -Wl,--export-all-symbols -Wl,--stack,8388608 -Wl,--enable-auto-image-base -L/usr/local/lib -fstack-protector'


Characteristics of this binary (from libperl): 
  Compile-time options: MULTIPLICITY MYMALLOC PERL_DONT_CREATE_GVSV
                        PERL_IMPLICIT_CONTEXT PERL_MAD PERL_USE_SAFE_PUTENV
                        USE_64_BIT_INT USE_ITHREADS USE_LARGE_FILES
                        USE_PERLIO USE_REENTRANT_API
  Locally applied patches:
	CYG11 no-bs
	CYG12 no archlib in otherlibdirs
	CYG14 Dynaloader
	CYG15 static-Win32CORE
	CYG17 utf8-paths
	CYG21 LibList-Kid.patch
	CYG22 cygwin-1.7 hints
	CYG23 544-stat
	CYG24 build man pages
	CYG25 rebase_privlib
	Module-Build-0.36_13
	Bug#55162 CYG18 File::Spec::case_tolerant performance
	disable ExtUtils::MakeMaker::Coverage in Sys-Syslog
  Built under cygwin
  Compiled at Aug 28 2010 20:17:29
  %ENV:
    PERL5LIB="/home/dsolimano/.cpan/build/XML-Compile-SOAP-2.26-WV9jox/blib/arch:/home/dsolimano/.cpan/build/XML-Compile-SOAP-2.26-WV9jox/blib/lib:/home/dsolimano/.cpan/build/XML-Compile-Cache-0.991-XUJbM5/blib/arch:/home/dsolimano/.cpan/build/XML-Compile-Cache-0.991-XUJbM5/blib/lib:/home/dsolimano/.cpan/build/XML-LibXML-Simple-0.91-1SCHer/blib/arch:/home/dsolimano/.cpan/build/XML-LibXML-Simple-0.91-1SCHer/blib/lib:/home/dsolimano/.cpan/build/File-Slurp-9999.19-pc8dHF/blib/arch:/home/dsolimano/.cpan/build/File-Slurp-9999.19-pc8dHF/blib/lib:/home/dsolimano/.cpan/build/XML-Compile-1.25-9US6Fz/blib/arch:/home/dsolimano/.cpan/build/XML-Compile-1.25-9US6Fz/blib/lib:/home/dsolimano/.cpan/build/XML-Compile-Tester-0.06-9iyr6E/blib/arch:/home/dsolimano/.cpan/build/XML-Compile-Tester-0.06-9iyr6E/blib/lib:/home/dsolimano/.cpan/build/Log-Report-0.94-8uq20T/blib/arch:/home/dsolimano/.cpan/build/Log-Report-0.94-8uq20T/blib/lib"
    PERL5OPT=""
    PERL5_CPANPLUS_IS_RUNNING="10376"
    PERL5_CPAN_IS_RUNNING="10376"
    PERL5_CPAN_IS_RUNNING_IN_RECURSION="5112,10376"
    PERLBREW_BASHRC_VERSION="0.31"
    PERLBREW_HOME="/home/solimanod/.perlbrew"
    PERLBREW_PATH="/home/solimanod/perl5/perlbrew/bin"
    PERLBREW_ROOT="/home/solimanod/perl5/perlbrew"
    PERL_CR_SMOKER_CURRENT="MRS-Client-0.600100"
    PERL_EXTUTILS_AUTOINSTALL="--defaultdeps"
    PERL_JSON_BACKEND="JSON::XS"
    PERL_MM_USE_DEFAULT="1"
    PERL_YAML_BACKEND="YAML"
    CYGWIN=""
  @INC:
    /home/dsolimano/.cpan/build/XML-Compile-SOAP-2.26-WV9jox/blib/arch
    /home/dsolimano/.cpan/build/XML-Compile-SOAP-2.26-WV9jox/blib/lib
    /home/dsolimano/.cpan/build/XML-Compile-Cache-0.991-XUJbM5/blib/arch
    /home/dsolimano/.cpan/build/XML-Compile-Cache-0.991-XUJbM5/blib/lib
    /home/dsolimano/.cpan/build/XML-LibXML-Simple-0.91-1SCHer/blib/arch
    /home/dsolimano/.cpan/build/XML-LibXML-Simple-0.91-1SCHer/blib/lib
    /home/dsolimano/.cpan/build/File-Slurp-9999.19-pc8dHF/blib/arch
    /home/dsolimano/.cpan/build/File-Slurp-9999.19-pc8dHF/blib/lib
    /home/dsolimano/.cpan/build/XML-Compile-1.25-9US6Fz/blib/arch
    /home/dsolimano/.cpan/build/XML-Compile-1.25-9US6Fz/blib/lib
    /home/dsolimano/.cpan/build/XML-Compile-Tester-0.06-9iyr6E/blib/arch
    /home/dsolimano/.cpan/build/XML-Compile-Tester-0.06-9iyr6E/blib/lib
    /home/dsolimano/.cpan/build/Log-Report-0.94-8uq20T/blib/arch
    /home/dsolimano/.cpan/build/Log-Report-0.94-8uq20T/blib/lib
    /usr/lib/perl5/5.10/i686-cygwin
    /usr/lib/perl5/5.10
    /usr/lib/perl5/site_perl/5.10/i686-cygwin
    /usr/lib/perl5/site_perl/5.10
    /usr/lib/perl5/vendor_perl/5.10/i686-cygwin
    /usr/lib/perl5/vendor_perl/5.10
    /usr/lib/perl5/vendor_perl/5.10
    /usr/lib/perl5/site_perl/5.8
    /usr/lib/perl5/vendor_perl/5.8
    .