Statistics-Autocorrelation v0.06 Perl 5 v5.27.9 x86_64-linux

Status
Pass
From
Slaven Rezić (SREZIC)
Dist
Statistics-Autocorrelation v0.06
Platform
Perl 5 v5.27.9 x86_64-linux
Date
2018-02-26 14:34:35
ID
2a8bc2f8-1b02-11e8-a103-c385ed6c4e1d
This distribution has been tested as part of the CPAN Testers
project, supporting the Perl programming language.  See
http://wiki.cpantesters.org/ for more information or email
questions to cpan-testers-discuss@perl.org


--
Dear Roderick Garton,

This is a computer-generated report for Statistics-Autocorrelation-0.06
on perl 5.27.9, created by CPAN-Reporter-1.2018.

Thank you for uploading your work to CPAN.  Congratulations!
All tests were successful.

Sections of this report:

    * Tester comments
    * Program output
    * Prerequisites
    * Environment and other context

------------------------------
TESTER COMMENTS
------------------------------

Additional comments from tester:

none provided

------------------------------
PROGRAM OUTPUT
------------------------------

Output from './Build test':

# Testing Statistics::Autocorrelation 0.06, Perl 5.027009, /bbbike/perl-5.27.9/bin/perl5.27.9
t/00-load.t ............ ok
t/01-basics.t .......... ok
# 1	1
# -0.31	-0.308071529270775
# -0.74	-0.749049167515742
# 0.77	0.784323247735839
# 0.21	0.208877598015533
# -0.9	-0.918813706027067
# 0.38	0.386652735218839
# 0.63	0.654553768392636
# -0.77	-0.796550351808819
# -0.12	-0.130519929380512
# 0.82	0.864643019213711
# -0.4	-0.421384089433339
# -0.55	-0.580716880126989
# 0.73	0.777761156749794
# 0.07	0.0765164288438996
# -0.76	-0.816215751829798
# 0.4	0.434487992925124
# 0.48	0.525882048388483
# -0.7	-0.761302866282146
# -0.03	-0.0365504182704293
# 0.7	0.77698431849003
# -0.41	-0.455513506257951
# -0.43	-0.481511229989287
# 0.67	0.754803922408943
# 0	-0.000721715652079184
# -0.66	-0.75014417224701
# 0.42	0.475416467981228
# 0.39	0.447326603329478
# -0.65	-0.757539412418846
# 0.03	0.0305363772989425
# 0.63	0.736511151186032
# -0.42	-0.496633082497667
# -0.36	-0.422841918740382
# 0.64	0.763572169334023
# -0.05	-0.062918304852615
# -0.6	-0.724078469079772
# 0.43	0.526299298189015
# 0.32	0.392420931667183
# -0.64	-0.780464126878208
# 0.08	0.103980865082087
# 0.58	0.714922437289871
# -0.45	-0.562981688031779
# -0.28	-0.355908669226571
# 0.62	0.787876882809841
# -0.1	-0.135103727297876
# -0.55	-0.703897993304772
# 0.45	0.5920749381622
# 0.25	0.328070443088622
# -0.61	-0.800343193782884
# 0.14	0.186342015336873
t/02-nist_ref.t ........ ok
t/03-neg_lag.t ......... ok
t/04-correlogram.t ..... ok
t/05-PASW_RiessData.t .. ok
t/pod-coverage.t ....... ok
t/pod.t ................ ok
All tests successful.
Files=8, Tests=84,  2 wallclock secs ( 0.03 usr  0.05 sys +  0.51 cusr  0.10 csys =  0.69 CPU)
Result: PASS

------------------------------
PREREQUISITES
------------------------------

Prerequisite modules loaded:

requires:

    Module           Need   Have    
    ---------------- ------ --------
    List::AllUtils   0.07   0.14    
    Math::Cephes     0.5303 0.5305  
    Statistics::Data 0.08   0.11    
    Statistics::Lite 3.2    3.62    
    Statistics::Zed  0.10   0.10    

build_requires:

    Module           Need   Have    
    ---------------- ------ --------
    List::AllUtils   0.07   0.14    
    Math::Cephes     0.5303 0.5305  
    Statistics::Data 0.08   0.11    
    Statistics::Lite 3.2    3.62    
    Statistics::Zed  0.072  0.10    
    Test::More       0.92   1.302125

configure_requires:

    Module           Need   Have    
    ---------------- ------ --------
    Module::Build    0.4007 0.4224  


------------------------------
ENVIRONMENT AND OTHER CONTEXT
------------------------------

Environment variables:

    LANG = C
    LC_ALL = de_DE.UTF-8
    PATH = /usr/local/bin:/usr/bin:/bin:/usr/local/sbin:/usr/sbin:/sbin:/home/cpansand/bin/linux-gnu:/home/cpansand/bin/sh:/home/cpansand/bin:/usr/games:/home/cpansand/devel:/home/eserte/src/srezic-misc/scripts
    PERL5LIB = 
    PERL5OPT = 
    PERL5_CPANPLUS_IS_RUNNING = 25953
    PERL5_CPAN_IS_RUNNING = 25953
    PERL5_CPAN_IS_RUNNING_IN_RECURSION = 12558,25953
    PERLDOC = -MPod::Perldoc::ToTextOverstrike
    PERL_BATCH = yes
    PERL_CANARY_STABILITY_NOPROMPT = 1
    PERL_CPAN_REPORTER_CONFIG = /var/tmp/cpansmoker-1023/2018022518/cpanreporter_000_config.ini
    PERL_EXTUTILS_AUTOINSTALL = --defaultdeps
    PERL_PARALLEL_SMOKER = yes
    PERL_USE_UNSAFE_INC = 1
    SHELL = /bin/zsh
    TERM = screen
    TMPDIR = /var/tmp/cpansmoker-1023/2018022518

Perl special variables (and OS-specific diagnostics, for MSWin32):

    $^X = /bbbike/perl-5.27.9/bin/perl5.27.9
    $UID/$EUID = 1023 / 1023
    $GID = 1023 1023
    $EGID = 1023 1023

Perl module toolchain versions installed:

    Module              Have    
    ------------------- --------
    CPAN                2.20    
    CPAN::Meta          2.150010
    Cwd                 3.74    
    ExtUtils::CBuilder  0.280230
    ExtUtils::Command   7.32    
    ExtUtils::Install   2.14    
    ExtUtils::MakeMaker 7.32    
    ExtUtils::Manifest  1.70    
    ExtUtils::ParseXS   3.35    
    File::Spec          3.74    
    JSON                2.97001 
    JSON::PP            2.97001 
    Module::Build       0.4224  
    Module::Signature   0.81    
    Parse::CPAN::Meta   2.150010
    Test::Harness       3.39    
    Test::More          1.302125
    YAML                1.24    
    YAML::Syck          1.30    
    version             0.9918  


--

Summary of my perl5 (revision 5 version 27 subversion 9) configuration:
   
  Platform:
    osname=linux
    osvers=3.16.0-4-amd64
    archname=x86_64-linux
    uname='linux eserte 3.16.0-4-amd64 #1 smp debian 3.16.51-2 (2017-12-03) x86_64 gnulinux '
    config_args='-ds -e -Dprefix=/opt/perl-5.27.9 -Dusedevel -Dusemallocwrap=no -Dcf_email=srezic@cpan.org'
    hint=recommended
    useposix=true
    d_sigaction=define
    useithreads=undef
    usemultiplicity=undef
    use64bitint=define
    use64bitall=define
    uselongdouble=undef
    usemymalloc=n
    default_inc_excludes_dot=define
    bincompat5005=undef
  Compiler:
    cc='cc'
    ccflags ='-fwrapv -fno-strict-aliasing -pipe -fstack-protector-strong -I/usr/local/include -D_LARGEFILE_SOURCE -D_FILE_OFFSET_BITS=64 -D_FORTIFY_SOURCE=2'
    optimize='-O2'
    cppflags='-fwrapv -fno-strict-aliasing -pipe -fstack-protector-strong -I/usr/local/include'
    ccversion=''
    gccversion='4.9.2'
    gccosandvers=''
    intsize=4
    longsize=8
    ptrsize=8
    doublesize=8
    byteorder=12345678
    doublekind=3
    d_longlong=define
    longlongsize=8
    d_longdbl=define
    longdblsize=16
    longdblkind=3
    ivtype='long'
    ivsize=8
    nvtype='double'
    nvsize=8
    Off_t='off_t'
    lseeksize=8
    alignbytes=8
    prototype=define
  Linker and Libraries:
    ld='cc'
    ldflags =' -fstack-protector-strong -L/usr/local/lib'
    libpth=/usr/local/lib /usr/lib/gcc/x86_64-linux-gnu/4.9/include-fixed /usr/include/x86_64-linux-gnu /usr/lib /lib/x86_64-linux-gnu /lib/../lib /usr/lib/x86_64-linux-gnu /usr/lib/../lib /lib
    libs=-lpthread -lnsl -lgdbm -ldb -ldl -lm -lcrypt -lutil -lc -lgdbm_compat
    perllibs=-lpthread -lnsl -ldl -lm -lcrypt -lutil -lc
    libc=libc-2.19.so
    so=so
    useshrplib=false
    libperl=libperl.a
    gnulibc_version='2.19'
  Dynamic Linking:
    dlsrc=dl_dlopen.xs
    dlext=so
    d_dlsymun=undef
    ccdlflags='-Wl,-E'
    cccdlflags='-fPIC'
    lddlflags='-shared -O2 -L/usr/local/lib -fstack-protector-strong'


Characteristics of this binary (from libperl): 
  Compile-time options:
    HAS_TIMES
    PERLIO_LAYERS
    PERL_COPY_ON_WRITE
    PERL_DONT_CREATE_GVSV
    PERL_OP_PARENT
    PERL_PRESERVE_IVUV
    PERL_USE_DEVEL
    USE_64_BIT_ALL
    USE_64_BIT_INT
    USE_LARGE_FILES
    USE_LOCALE
    USE_LOCALE_COLLATE
    USE_LOCALE_CTYPE
    USE_LOCALE_NUMERIC
    USE_LOCALE_TIME
    USE_PERLIO
    USE_PERL_ATOF
  Built under linux
  Compiled at Feb 20 2018 21:07:44
  %ENV:
    PERL5LIB=""
    PERL5OPT=""
    PERL5_CPANPLUS_IS_RUNNING="25953"
    PERL5_CPAN_IS_RUNNING="25953"
    PERL5_CPAN_IS_RUNNING_IN_RECURSION="12558,25953"
    PERLDOC="-MPod::Perldoc::ToTextOverstrike"
    PERL_BATCH="yes"
    PERL_CANARY_STABILITY_NOPROMPT="1"
    PERL_CPAN_REPORTER_CONFIG="/var/tmp/cpansmoker-1023/2018022518/cpanreporter_000_config.ini"
    PERL_EXTUTILS_AUTOINSTALL="--defaultdeps"
    PERL_PARALLEL_SMOKER="yes"
    PERL_USE_UNSAFE_INC="1"
  @INC:
    /opt/perl-5.27.9/lib/site_perl/5.27.9/x86_64-linux
    /opt/perl-5.27.9/lib/site_perl/5.27.9
    /opt/perl-5.27.9/lib/5.27.9/x86_64-linux
    /opt/perl-5.27.9/lib/5.27.9
    .