Report for Catalyst-DispatchType-Regex-5.90035

Back
From: metabase:user:83145d68-08df-11e6-8426-04a496649788
Subject: PASS Catalyst-DispatchType-Regex-5.90035 v5.22.1 GNU/Linux
Date: 2016-04-24T10:49:06Z

This distribution has been tested as part of the CPAN Testers
project, supporting the Perl programming language.  See
http://wiki.cpantesters.org/ for more information or email
questions to cpan-testers-discuss@perl.org


--
Dear Mark Grimes,

This is a computer-generated report for Catalyst-DispatchType-Regex-5.90035
on perl 5.22.1, created by CPAN-Reporter-1.2017.

Thank you for uploading your work to CPAN.  Congratulations!
All tests were successful.

Sections of this report:

    * Tester comments
    * Program output
    * Prerequisites
    * Environment and other context

------------------------------
TESTER COMMENTS
------------------------------

Additional comments from tester:

none provided

------------------------------
PROGRAM OUTPUT
------------------------------

Output from './Build test':

# Testing Catalyst::DispatchType::Regex 5.90035
t/01use.t .............................................. ok
DEPRECATION WARNING: The Regex dispatch type is deprecated.
  It is recommended that you convert Regex and LocalRegex 
  methods to Chained methods. at /home/ss5/.cpan/build/Catalyst-DispatchType-Regex-5.90035-EAS9Hj/blib/lib/Catalyst/DispatchType/Regex.pm line 210.
t/aggregate/live_component_controller_action_regexp.t .. ok
DEPRECATION WARNING: The Regex dispatch type is deprecated.
  It is recommended that you convert Regex and LocalRegex 
  methods to Chained methods. at /home/ss5/.cpan/build/Catalyst-DispatchType-Regex-5.90035-EAS9Hj/blib/lib/Catalyst/DispatchType/Regex.pm line 210.
t/aggregate/live_priorities.t .......................... ok
DEPRECATION WARNING: The Regex dispatch type is deprecated.
  It is recommended that you convert Regex and LocalRegex 
  methods to Chained methods. at /home/ss5/.cpan/build/Catalyst-DispatchType-Regex-5.90035-EAS9Hj/blib/lib/Catalyst/DispatchType/Regex.pm line 210.
t/aggregate/unit_core_uri_for_action.t ................. ok
All tests successful.
Files=4, Tests=60,  4 wallclock secs ( 0.09 usr  0.04 sys +  3.16 cusr  0.20 csys =  3.49 CPU)
Result: PASS

------------------------------
PREREQUISITES
------------------------------

Prerequisite modules loaded:

requires:

    Module               Need    Have    
    -------------------- ------- --------
    Catalyst::Runtime    5.90060 5.90104 
    Moose                0       2.1605  
    Text::Balanced       0       2.03    
    Text::SimpleTable    0       2.03    

build_requires:

    Module               Need    Have    
    -------------------- ------- --------
    Data::Dumper         0       2.158   
    MRO::Compat          0       0.12    
    namespace::autoclean 0       0.28    
    Scalar::Util         0       1.45    
    Test::More           0       1.001014

configure_requires:

    Module               Need    Have    
    -------------------- ------- --------
    Module::Build        0.4004  0.4216  


------------------------------
ENVIRONMENT AND OTHER CONTEXT
------------------------------

Environment variables:

    LANG = de_DE.UTF-8
    LANGUAGE = de_DE
    PATH = /home/ss5/bin:/home/ss5/perl5/perlbrew/bin:/home/ss5/perl5/perlbrew/perls/perl-5.22.1-l4/bin:/home/ss5/bin:/usr/local/sbin:/usr/local/bin:/usr/sbin:/usr/bin:/sbin:/bin:/usr/games:/usr/local/games:/snap/bin:/snap/bin
    PERL5LIB = 
    PERL5OPT = 
    PERL5_CPANPLUS_IS_RUNNING = 2154
    PERL5_CPAN_IS_RUNNING = 2154
    PERLBREW_BASHRC_VERSION = 0.75
    PERLBREW_HOME = /home/ss5/.perlbrew
    PERLBREW_MANPATH = /home/ss5/perl5/perlbrew/perls/perl-5.22.1-l4/man
    PERLBREW_PATH = /home/ss5/perl5/perlbrew/bin:/home/ss5/perl5/perlbrew/perls/perl-5.22.1-l4/bin
    PERLBREW_PERL = perl-5.22.1-l4
    PERLBREW_ROOT = /home/ss5/perl5/perlbrew
    PERLBREW_VERSION = 0.75
    SHELL = /bin/bash
    TERM = xterm

Perl special variables (and OS-specific diagnostics, for MSWin32):

    $^X = /home/ss5/perl5/perlbrew/perls/perl-5.22.1-l4/bin/perl
    $UID/$EUID = 1000 / 1000
    $GID = 1000 4 24 27 30 46 113 129 1000
    $EGID = 1000 4 24 27 30 46 113 129 1000

Perl module toolchain versions installed:

    Module              Have    
    ------------------- --------
    CPAN                2.11    
    CPAN::Meta          2.150001
    Cwd                 3.62    
    ExtUtils::CBuilder  0.280224
    ExtUtils::Command   7.12    
    ExtUtils::Install   2.04    
    ExtUtils::MakeMaker 7.12    
    ExtUtils::Manifest  1.70    
    ExtUtils::ParseXS   3.28    
    File::Spec          3.62    
    JSON                2.90    
    JSON::PP            2.27300 
    Module::Build       0.4216  
    Module::Signature   0.79    
    Parse::CPAN::Meta   1.4417  
    Test::Harness       3.36    
    Test::More          1.001014
    YAML                1.15    
    YAML::Syck          1.29    
    version             0.9909  


--

Summary of my perl5 (revision 5 version 22 subversion 1) configuration:
   
  Platform:
    osname=linux, osvers=4.4.0-l4-g2be3f0e, archname=x86_64-linux
    uname='linux ss5x201 4.4.0-l4-g2be3f0e #3 smp tue apr 19 15:28:23 cest 2016 x86_64 x86_64 x86_64 gnulinux '
    config_args='-de -Dprefix=/home/ss5/perl5/perlbrew/perls/perl-5.22.1-l4 -Aeval:scriptdir=/home/ss5/perl5/perlbrew/perls/perl-5.22.1-l4/bin'
    hint=recommended, useposix=true, d_sigaction=define
    useithreads=undef, usemultiplicity=undef
    use64bitint=define, use64bitall=define, uselongdouble=undef
    usemymalloc=n, bincompat5005=undef
  Compiler:
    cc='cc', ccflags ='-fwrapv -fno-strict-aliasing -pipe -fstack-protector-strong -I/usr/local/include -D_LARGEFILE_SOURCE -D_FILE_OFFSET_BITS=64',
    optimize='-O2',
    cppflags='-fwrapv -fno-strict-aliasing -pipe -fstack-protector-strong -I/usr/local/include'
    ccversion='', gccversion='5.3.1 20160413', gccosandvers=''
    intsize=4, longsize=8, ptrsize=8, doublesize=8, byteorder=12345678, doublekind=3
    d_longlong=define, longlongsize=8, d_longdbl=define, longdblsize=16, longdblkind=3
    ivtype='long', ivsize=8, nvtype='double', nvsize=8, Off_t='off_t', lseeksize=8
    alignbytes=8, prototype=define
  Linker and Libraries:
    ld='cc', ldflags =' -fstack-protector-strong -L/usr/local/lib'
    libpth=/usr/local/lib /usr/lib/gcc/x86_64-linux-gnu/5/include-fixed /usr/include/x86_64-linux-gnu /usr/lib /lib/x86_64-linux-gnu /lib/../lib /usr/lib/x86_64-linux-gnu /usr/lib/../lib /lib
    libs=-lpthread -lnsl -ldl -lm -lcrypt -lutil -lc
    perllibs=-lpthread -lnsl -ldl -lm -lcrypt -lutil -lc
    libc=libc-2.23.so, so=so, useshrplib=false, libperl=libperl.a
    gnulibc_version='2.23'
  Dynamic Linking:
    dlsrc=dl_dlopen.xs, dlext=so, d_dlsymun=undef, ccdlflags='-Wl,-E'
    cccdlflags='-fPIC', lddlflags='-shared -O2 -L/usr/local/lib -fstack-protector-strong'


Characteristics of this binary (from libperl): 
  Compile-time options: HAS_TIMES PERLIO_LAYERS PERL_DONT_CREATE_GVSV
                        PERL_HASH_FUNC_ONE_AT_A_TIME_HARD PERL_MALLOC_WRAP
                        PERL_NEW_COPY_ON_WRITE PERL_PRESERVE_IVUV
                        USE_64_BIT_ALL USE_64_BIT_INT USE_LARGE_FILES
                        USE_LOCALE USE_LOCALE_COLLATE USE_LOCALE_CTYPE
                        USE_LOCALE_NUMERIC USE_LOCALE_TIME USE_PERLIO
                        USE_PERL_ATOF
  Locally applied patches:
	Devel::PatchPerl 1.38
  Built under linux
  Compiled at Apr 23 2016 08:12:53
  %ENV:
    PERL5LIB=""
    PERL5OPT=""
    PERL5_CPANPLUS_IS_RUNNING="2154"
    PERL5_CPAN_IS_RUNNING="2154"
    PERLBREW_BASHRC_VERSION="0.75"
    PERLBREW_HOME="/home/ss5/.perlbrew"
    PERLBREW_MANPATH="/home/ss5/perl5/perlbrew/perls/perl-5.22.1-l4/man"
    PERLBREW_PATH="/home/ss5/perl5/perlbrew/bin:/home/ss5/perl5/perlbrew/perls/perl-5.22.1-l4/bin"
    PERLBREW_PERL="perl-5.22.1-l4"
    PERLBREW_ROOT="/home/ss5/perl5/perlbrew"
    PERLBREW_VERSION="0.75"
  @INC:
    /home/ss5/perl5/perlbrew/perls/perl-5.22.1-l4/lib/site_perl/5.22.1/x86_64-linux
    /home/ss5/perl5/perlbrew/perls/perl-5.22.1-l4/lib/site_perl/5.22.1
    /home/ss5/perl5/perlbrew/perls/perl-5.22.1-l4/lib/5.22.1/x86_64-linux
    /home/ss5/perl5/perlbrew/perls/perl-5.22.1-l4/lib/5.22.1
    .