Devel-Chitin v0.22 Perl 5 v5.32.1 MSWin32-x86-multi-thread-64int

Status
Pass
From
gregor herrmann
Dist
Devel-Chitin v0.22
Platform
Perl 5 v5.32.1 MSWin32-x86-multi-thread-64int
Date
2022-12-02 06:52:14
ID
2a972cdb-6c66-1014-a8ad-26fbe347bfc4
This distribution has been tested as part of the CPAN Testers
project, supporting the Perl programming language.  See
http://wiki.cpantesters.org/ for more information or email
questions to cpan-testers-discuss@perl.org


--
Dear Anthony Brummett,

This is a computer-generated report for Devel-Chitin-0.22
on perl 5.32.1, created by CPAN-Reporter-1.2018.

Thank you for uploading your work to CPAN.  Congratulations!
All tests were successful.

Sections of this report:

    * Tester comments
    * Program output
    * Prerequisites
    * Environment and other context

------------------------------
TESTER COMMENTS
------------------------------

Additional comments from tester:

this report is from an automated smoke testing program
and was not reviewed by a human for accuracy

------------------------------
PROGRAM OUTPUT
------------------------------

Output from 'C:\strawberry\c\bin\gmake.EXE test':

"C:\Strawberry\perl\bin\perl.exe" "-MExtUtils::Command::MM" "-MTest::Harness" "-e" "undef *Test::Harness::Switches; test_harness(0, 'blib\lib', 'blib\arch')" t/*.t
t/00-use.t ......................... ok
t/01-attach-detach.t ............... ok
t/02-step-lvalue.t ................. ok
t/02-step.t ........................ ok
t/02-stepout-catch-return.t ........ ok
t/02-stepout-lvalue.t .............. ok
t/02-stepout.t ..................... ok
t/02-stepover-exception.t .......... ok
t/02-stepover-goto-label.t ......... ok
t/02-stepover-goto-sub.t ........... ok
t/02-stepover-lvalue-exception.t ... ok
t/02-stepover-lvalue-goto-label.t .. ok
t/02-stepover-lvalue.t ............. ok
t/02-stepover.t .................... ok
t/03-continue-end.t ................ ok
t/03-continue-to.t ................. ok
t/04-breakpoint-once.t ............. ok
t/04-breakpoint.t .................. ok
t/04-change-breakpoint-code.t ...... ok
t/04-conditional-breakpoint.t ...... ok
t/04-delete-breakpoint.t ........... ok
t/05-location-callsite.t ........... ok
t/05-location.t .................... ok
t/06-action.t ...................... ok
t/07-stack.t ....................... ok
t/08-trace.t ....................... ok
t/09-disable-debugger.t ............ ok
t/10-loaded_files.t ................ ok
t/11-postponed.t ................... ok
t/12-eval.t ........................ ok
t/13-fork.t ........................ ok
untrapped at t/14-step-in-uncaught-exception.t line 9.
t/14-step-in-uncaught-exception.t .. ok
untrapped at t/14-uncaught-exception.t line 11.
t/14-uncaught-exception.t .......... ok
t/15-subroutine-location.t ......... ok
t/16-user-requested-exit.t ......... ok
t/17-db-event-loop.t ............... ok
t/18-getvar-at-level.t ............. ok
t/19-watch-expr.t .................. ok
t/20-optree-construction.t ......... ok
t/20-optree-deparse.t .............. ok
t/21-deparse-trace-anon-sub.t ...... ok
t/21-deparse-trace-fib.t ........... ok
t/21-deparse-trace-statements.t .... ok
t/22-sub-name-bug.t ................ ok
All tests successful.
Files=44, Tests=344, 49 wallclock secs ( 0.34 usr +  0.12 sys =  0.47 CPU)
Result: PASS

------------------------------
PREREQUISITES
------------------------------

Prerequisite modules loaded:

requires:

    Module                Need     Have    
    --------------------- -------- --------
    B                     0        1.80    
    base                  0        2.27    
    Carp                  0        1.50    
    constant              0        1.33    
    Devel::Callsite       0        1.0.1   
    Digest::MD5           0        2.58    
    Exporter              0        5.74    
    Fcntl                 0        1.13    
    IO::File              0        1.48    
    PadWalker             0        2.5     
    perl                  5.008009 5.032001
    POSIX                 0        1.94    
    Scalar::Util          0        1.63    
    Socket                0        2.036   
    strict                0        1.11    
    warnings              0        1.47    

build_requires:

    Module                Need     Have    
    --------------------- -------- --------
    ExtUtils::MakeMaker   0        7.65_02 
    File::Basename        0        2.85    
    lib                   0        0.65    
    List::Util            1.45     1.63    
    Sub::Name             0        0.26    
    Test2::API            1.302136 1.302191
    Test2::IPC            0        1.302191
    Test2::Require::Fork  0        0.000145
    Test2::Tools::Basic   0        0.000145
    Test2::Tools::Subtest 0        0.000145
    Test2::V0             0        0.000145
    Test::Builder         0        1.302191
    Test::More            0        1.302191

configure_requires:

    Module                Need     Have    
    --------------------- -------- --------
    ExtUtils::MakeMaker   0        7.65_02 


------------------------------
ENVIRONMENT AND OTHER CONTEXT
------------------------------

Environment variables:

    AUTOMATED_TESTING = 1
    COMSPEC = C:\WINDOWS.0\system32\cmd.exe
    NONINTERACTIVE_TESTING = 1
    NUMBER_OF_PROCESSORS = 1
    PATH = C:\WINDOWS.0\system32;C:\strawberry\c\bin;C:\strawberry\perl\site\bin;C:\strawberry\perl\bin
    PERL5LIB = C:\cpan\build\Devel-Callsite-1.0.1-0/blib/arch;C:\cpan\build\Devel-Callsite-1.0.1-0/blib/lib
    PERL5OPT = 
    PERL5_CPANPLUS_IS_RUNNING = 4056
    PERL5_CPAN_IS_RUNNING = 4056
    PERL5_CPAN_IS_RUNNING_IN_RECURSION = 2108,4056
    PERL_CR_SMOKER_CURRENT = Devel-Chitin-0.22
    PERL_EXTUTILS_AUTOINSTALL = --defaultdeps
    PERL_MM_USE_DEFAULT = 1
    PERL_USE_UNSAFE_INC = 1
    PROCESSOR_IDENTIFIER = x86 Family 6 Model 14 Stepping 8, GenuineIntel
    TEMP = C:\DOKUME~1\smoker\LOKALE~1\Temp
    TERM = dumb

Perl special variables (and OS-specific diagnostics, for MSWin32):

    $^X = C:\Strawberry\perl\bin\perl.exe
    $UID/$EUID = 0 / 0
    $GID = 0
    $EGID = 0
    Win32::GetOSName = WinXP/.Net
    Win32::GetOSVersion = Service Pack 3, 5, 1, 2600, 2, 3, 0, 256, 1
    Win32::FsType = NTFS
    Win32::IsAdminUser = 1

Perl module toolchain versions installed:

    Module              Have    
    ------------------- --------
    CPAN                2.34    
    CPAN::Meta          2.150010
    Cwd                 3.78    
    ExtUtils::CBuilder  0.280235
    ExtUtils::Command   7.65_02 
    ExtUtils::Install   2.20    
    ExtUtils::MakeMaker 7.65_02 
    ExtUtils::Manifest  1.73    
    ExtUtils::ParseXS   3.44    
    File::Spec          3.78    
    JSON                4.10    
    JSON::PP            4.12    
    Module::Build       0.4231  
    Module::Signature   0.88    
    Parse::CPAN::Meta   2.150010
    Test::Harness       3.44    
    Test::More          1.302191
    YAML                1.30    
    YAML::Syck          1.34    
    version             0.9928  


--

Summary of my perl5 (revision 5 version 32 subversion 1) configuration:
   
  Platform:
    osname=MSWin32
    osvers=10.0.19042.746
    archname=MSWin32-x86-multi-thread-64int
    uname='Win32 strawberry-perl 5.32.1.1 #1 Sun Jan 24 12:17:47 2021 i386'
    config_args='undef'
    hint=recommended
    useposix=true
    d_sigaction=undef
    useithreads=define
    usemultiplicity=define
    use64bitint=define
    use64bitall=undef
    uselongdouble=undef
    usemymalloc=n
    default_inc_excludes_dot=define
    bincompat5005=undef
  Compiler:
    cc='gcc'
    ccflags =' -DWIN32 -D__USE_MINGW_ANSI_STDIO -DPERL_TEXTMODE_SCRIPTS -DPERL_IMPLICIT_CONTEXT -DPERL_IMPLICIT_SYS -DUSE_PERLIO -fwrapv -fno-strict-aliasing -mms-bitfields'
    optimize='-s -O2'
    cppflags='-DWIN32'
    ccversion=''
    gccversion='8.3.0'
    gccosandvers=''
    intsize=4
    longsize=4
    ptrsize=4
    doublesize=8
    byteorder=12345678
    doublekind=3
    d_longlong=define
    longlongsize=8
    d_longdbl=define
    longdblsize=12
    longdblkind=3
    ivtype='long long'
    ivsize=8
    nvtype='double'
    nvsize=8
    Off_t='long long'
    lseeksize=8
    alignbytes=8
    prototype=define
  Linker and Libraries:
    ld='g++'
    ldflags ='-s -L"C:\STRAWB~1\perl\lib\CORE" -L"C:\STRAWB~1\c\lib"'
    libpth=C:\STRAWB~1\c\lib C:\STRAWB~1\c\i686-w64-mingw32\lib C:\STRAWB~1\c\lib\gcc\i686-w64-mingw32\8.3.0
    libs= -lmoldname -lkernel32 -luser32 -lgdi32 -lwinspool -lcomdlg32 -ladvapi32 -lshell32 -lole32 -loleaut32 -lnetapi32 -luuid -lws2_32 -lmpr -lwinmm -lversion -lodbc32 -lodbccp32 -lcomctl32
    perllibs= -lmoldname -lkernel32 -luser32 -lgdi32 -lwinspool -lcomdlg32 -ladvapi32 -lshell32 -lole32 -loleaut32 -lnetapi32 -luuid -lws2_32 -lmpr -lwinmm -lversion -lodbc32 -lodbccp32 -lcomctl32
    libc=
    so=dll
    useshrplib=true
    libperl=libperl532.a
    gnulibc_version=''
  Dynamic Linking:
    dlsrc=dl_win32.xs
    dlext=xs.dll
    d_dlsymun=undef
    ccdlflags=' '
    cccdlflags=' '
    lddlflags='-mdll -s -L"C:\STRAWB~1\perl\lib\CORE" -L"C:\STRAWB~1\c\lib"'


Characteristics of this binary (from libperl): 
  Compile-time options:
    HAS_TIMES
    HAVE_INTERP_INTERN
    MULTIPLICITY
    PERLIO_LAYERS
    PERL_COPY_ON_WRITE
    PERL_DONT_CREATE_GVSV
    PERL_IMPLICIT_CONTEXT
    PERL_IMPLICIT_SYS
    PERL_MALLOC_WRAP
    PERL_OP_PARENT
    PERL_PRESERVE_IVUV
    USE_64_BIT_INT
    USE_ITHREADS
    USE_LARGE_FILES
    USE_LOCALE
    USE_LOCALE_COLLATE
    USE_LOCALE_CTYPE
    USE_LOCALE_NUMERIC
    USE_LOCALE_TIME
    USE_PERLIO
    USE_PERL_ATOF
  Built under MSWin32
  Compiled at Jan 24 2021 12:22:49
  %ENV:
    PERL5LIB="C:\cpan\build\Devel-Callsite-1.0.1-0/blib/arch;C:\cpan\build\Devel-Callsite-1.0.1-0/blib/lib"
    PERL5_CPANPLUS_IS_RUNNING="4056"
    PERL5_CPAN_IS_RUNNING="4056"
    PERL5_CPAN_IS_RUNNING_IN_RECURSION="2108,4056"
    PERL_CR_SMOKER_CURRENT="Devel-Chitin-0.22"
    PERL_EXTUTILS_AUTOINSTALL="--defaultdeps"
    PERL_MM_USE_DEFAULT="1"
    PERL_USE_UNSAFE_INC="1"
  @INC:
    C:\cpan\build\Devel-Callsite-1.0.1-0/blib/arch
    C:\cpan\build\Devel-Callsite-1.0.1-0/blib/lib
    C:/Strawberry/perl/site/lib/MSWin32-x86-multi-thread-64int
    C:/Strawberry/perl/site/lib
    C:/Strawberry/perl/vendor/lib
    C:/Strawberry/perl/lib
    .