Back
From: metabase:user:30ae4450-2aae-11df-837a-5e0a49663a4f
Subject: PASS Text-MacroScript-2.10 v5.14.3
Date: 2015-06-12T17:51:07Z
This distribution has been tested as part of the CPAN Testers
project, supporting the Perl programming language. See
http://wiki.cpantesters.org/ for more information or email
questions to cpan-testers-discuss@perl.org
--
Dear Paulo Custodio,
This is a computer-generated report for Text-MacroScript-2.10
on perl 5.14.3, created by CPAN-Reporter-1.2010_01.
Thank you for uploading your work to CPAN. Congratulations!
All tests were successful.
Sections of this report:
* Tester comments
* Program output
* Prerequisites
* Environment and other context
------------------------------
TESTER COMMENTS
------------------------------
Additional comments from tester:
this report is from an automated smoke testing program
and was not reviewed by a human for accuracy
------------------------------
PROGRAM OUTPUT
------------------------------
Output from 'C:\strawberry5143\c\bin\dmake.exe test':
C:\strawberry5143\perl\bin\perl.exe "-MExtUtils::Command::MM" "-e" "test_harness(0, 'blib\lib', 'blib\arch')" t/*.t
t/case.t ......... ok
t/comment.t ...... ok
# directory '~' not found
# Issue #46: Syntax error in %CASE expression is not caught
# Issue #47 eval error when evaluating a SCRIPT is not caught and Perl error message is output
# Issue #49: Missing parameter or unescaped # in MACRO not reported for all missing parameters
t/expand_file.t .. ok
# Issue #10: macrodir always in embedded mode, ignoring -p option
# Issue #10: macrodir always in embedded mode, ignoring -p option
# Issue #10: macrodir always in embedded mode, ignoring -p option
# Issue #10: macrodir always in embedded mode, ignoring -p option
# Issue #10: macrodir always in embedded mode, ignoring -p option
# Issue #10: macrodir always in embedded mode, ignoring -p option
# Issue #10: macrodir always in embedded mode, ignoring -p option
# Issue #10: macrodir always in embedded mode, ignoring -p option
# Issue #10: macrodir always in embedded mode, ignoring -p option
# Issue #9: macrodir -d: does not replicate source tree in target directory
# Issue #10: macrodir always in embedded mode, ignoring -p option
# Issue #10: macrodir always in embedded mode, ignoring -p option
# Issue #10: macrodir always in embedded mode, ignoring -p option
# Issue #10: macrodir always in embedded mode, ignoring -p option
# Issue #10: macrodir always in embedded mode, ignoring -p option
# Issue #10: macrodir always in embedded mode, ignoring -p option
# Issue #10: macrodir always in embedded mode, ignoring -p option
# Issue #10: macrodir always in embedded mode, ignoring -p option
# Issue #10: macrodir always in embedded mode, ignoring -p option
# Issue #10: macrodir always in embedded mode, ignoring -p option
t/macrodir.t ..... ok
# Issue #23: macropp: report errors on syntax error
# Issue #23: macropp: report errors on syntax error
t/macropp.t ...... ok
# Issue #1: expansion depends on size of macro name
# Issue #4: undefine_all() should carp if no option is given
# Issue #2: expand() does not accept a multi-line text
# Issue #1: expansion depends on size of macro name
# Issue #3: Cannot catch error "missing parameter or unescaped # in MACRO"
# Issue #37: Variables should be expanded in all input text, not only in macro scripts
# Issue #37: Variables should be expanded in all input text, not only in macro scripts
t/macros.t ....... ok
t/macroscript.t .. ok
# Issue #2: expand() does not accept a multi-line text
t/new.t .......... ok
# Issue #41: Macro/script arguments do not nest
# Issue #5: Syntax SUM[] should be accepted to call script without parameters
# Issue #7: expansion depends on size of script name
# Issue #3: Cannot catch error "missing parameter or unescaped # in MACRO"
# Issue #37: Variables should be expanded in all input text, not only in macro scripts
t/scripts.t ...... ok
# Issue #38: Variables with # syntax not parsed by $Macro->define()
# Issue #39: Undefined #var use causes perl error message without location
# Issue #38: Variables with # syntax not parsed by $Macro->define()
# Issue #39: Undefined #var use causes perl error message without location
# Issue #38: Variables with # syntax not parsed by $Macro->define()
# Issue #39: Undefined #var use causes perl error message without location
# Issue #38: Variables with # syntax not parsed by $Macro->define()
# Issue #39: Undefined #var use causes perl error message without location
# Issue #38: Variables with # syntax not parsed by $Macro->define()
# Issue #39: Undefined #var use causes perl error message without location
Cannot undefine non-existent VARIABLE N3 at t/variables.t line 65.
Cannot undefine non-existent VARIABLE N4 at t/variables.t line 65.
Cannot undefine non-existent VARIABLE N5 at t/variables.t line 65.
# Issue #40: Variables should accept expressions and compute them
t/variables.t .... ok
All tests successful.
Files=10, Tests=699, 15 wallclock secs ( 0.08 usr + 0.06 sys = 0.14 CPU)
Result: PASS
------------------------------
PREREQUISITES
------------------------------
Prerequisite modules loaded:
requires:
Module Need Have
------------------- -------- --------
Capture::Tiny 0.22 0.30
Object::Tiny::RW 1.07 1.07
Path::Tiny 0.068 0.068
perl 5.01 5.014003
Test::Differences 0.61 0.61
Test::More 1.001014 1.001014
build_requires:
Module Need Have
------------------- -------- --------
ExtUtils::MakeMaker 0 6.62
configure_requires:
Module Need Have
------------------- -------- --------
ExtUtils::MakeMaker 0 6.62
------------------------------
ENVIRONMENT AND OTHER CONTEXT
------------------------------
Environment variables:
AUTOMATED_TESTING = 1
COMSPEC = C:\WINDOWS\system32\cmd.exe
NUMBER_OF_PROCESSORS = 1
PATH = C:\IM\ImageMagick-6.8.2-Q16;C:\WINDOWS\system32;C:\WINDOWS;C:\WINDOWS\System32\Wbem;C:\strawberry5143\c\bin;C:\strawberry5143\perl\site\bin;C:\strawberry5143\perl\bin
PERL5LIB = C:\strawberry5143\cpan\build\Path-Tiny-0.068-1ZLrmR/blib/arch;C:\strawberry5143\cpan\build\Path-Tiny-0.068-1ZLrmR/blib/lib;C:\strawberry5143\cpan\build\PathTools-3.47-IE4rNW/blib/arch;C:\strawberry5143\cpan\build\PathTools-3.47-IE4rNW/blib/lib;C:\strawberry5143\cpan\build\Capture-Tiny-0.30-ASU8ef/blib/arch;C:\strawberry5143\cpan\build\Capture-Tiny-0.30-ASU8ef/blib/lib;C:\strawberry5143\cpan\build\Object-Tiny-RW-1.07-3uCcBJ/blib/arch;C:\strawberry5143\cpan\build\Object-Tiny-RW-1.07-3uCcBJ/blib/lib;C:\strawberry5143\cpan\build\Test-Simple-1.001014-129MRO/blib/arch;C:\strawberry5143\cpan\build\Test-Simple-1.001014-129MRO/blib/lib
PERL5OPT =
PERL5_CPANPLUS_IS_RUNNING = 6036
PERL5_CPAN_IS_RUNNING = 6036
PERL5_CPAN_IS_RUNNING_IN_RECURSION = 1588,6036
PERL_CR_SMOKER_CURRENT = Text-MacroScript-2.10
PERL_CR_SMOKER_RUNONCE = 1
PERL_EXTUTILS_AUTOINSTALL = --defaultdeps
PERL_MM_USE_DEFAULT = 1
PROCESSOR_IDENTIFIER = x86 Family 16 Model 5 Stepping 3, AuthenticAMD
TEMP = C:\DOCUME~1\c\LOCALS~1\Temp
TERM = dumb
Perl special variables (and OS-specific diagnostics, for MSWin32):
$^X = C:\strawberry5143\perl\bin\perl.exe
$UID/$EUID = 0 / 0
$GID = 0
$EGID = 0
Win32::GetOSName = WinXP/.Net
Win32::GetOSVersion = Service Pack 3, 5, 1, 2600, 2, 3, 0, 256, 1
Win32::FsType = NTFS
Win32::IsAdminUser = 1
Perl module toolchain versions installed:
Module Have
------------------- --------
CPAN 1.9800
CPAN::Meta 2.120921
Cwd 3.47
ExtUtils::CBuilder 0.280205
ExtUtils::Command 1.17
ExtUtils::Install 1.56
ExtUtils::MakeMaker 6.62
ExtUtils::Manifest 1.61
ExtUtils::ParseXS 3.15
File::Spec 3.47
JSON 2.53
JSON::PP 2.27200
Module::Build 0.4003
Module::Signature 0.68
Parse::CPAN::Meta 1.4404
Test::Harness 3.25
Test::More 1.001014
YAML 0.84
YAML::Syck 1.22
version 0.9901
--
Summary of my perl5 (revision 5 version 14 subversion 3) configuration:
Platform:
osname=MSWin32, osvers=4.0, archname=MSWin32-x86-multi-thread
uname='Win32 strawberry-perl 5.14.3.1 #1 Wed Oct 17 22:51:55 2012 i386'
config_args='undef'
hint=recommended, useposix=true, d_sigaction=undef
useithreads=define, usemultiplicity=define
useperlio=define, d_sfio=undef, uselargefiles=define, usesocks=undef
use64bitint=undef, use64bitall=undef, uselongdouble=undef
usemymalloc=n, bincompat5005=undef
Compiler:
cc='gcc', ccflags =' -s -O2 -DWIN32 -DPERL_TEXTMODE_SCRIPTS -DPERL_IMPLICIT_CONTEXT -DPERL_IMPLICIT_SYS -fno-strict-aliasing -mms-bitfields',
optimize='-s -O2',
cppflags='-DWIN32'
ccversion='', gccversion='4.6.3', gccosandvers=''
intsize=4, longsize=4, ptrsize=4, doublesize=8, byteorder=1234
d_longlong=undef, longlongsize=8, d_longdbl=define, longdblsize=12
ivtype='long', ivsize=4, nvtype='double', nvsize=8, Off_t='long long', lseeksize=8
alignbytes=8, prototype=define
Linker and Libraries:
ld='g++', ldflags ='-s -L"C:\strawberry5143\perl\lib\CORE" -L"C:\strawberry5143\c\lib"'
libpth=C:\strawberry5143\c\lib C:\strawberry5143\c\i686-w64-mingw32\lib
libs=-lmoldname -lkernel32 -luser32 -lgdi32 -lwinspool -lcomdlg32 -ladvapi32 -lshell32 -lole32 -loleaut32 -lnetapi32 -luuid -lws2_32 -lmpr -lwinmm -lversion -lodbc32 -lodbccp32 -lcomctl32
perllibs=-lmoldname -lkernel32 -luser32 -lgdi32 -lwinspool -lcomdlg32 -ladvapi32 -lshell32 -lole32 -loleaut32 -lnetapi32 -luuid -lws2_32 -lmpr -lwinmm -lversion -lodbc32 -lodbccp32 -lcomctl32
libc=, so=dll, useshrplib=true, libperl=libperl514.a
gnulibc_version=''
Dynamic Linking:
dlsrc=dl_win32.xs, dlext=dll, d_dlsymun=undef, ccdlflags=' '
cccdlflags=' ', lddlflags='-mdll -s -L"C:\strawberry5143\perl\lib\CORE" -L"C:\strawberry5143\c\lib"'
Characteristics of this binary (from libperl):
Compile-time options: MULTIPLICITY PERL_DONT_CREATE_GVSV
PERL_IMPLICIT_CONTEXT PERL_IMPLICIT_SYS
PERL_MALLOC_WRAP PERL_PRESERVE_IVUV PL_OP_SLAB_ALLOC
USE_ITHREADS USE_LARGE_FILES USE_PERLIO
USE_PERL_ATOF
Built under MSWin32
Compiled at Oct 17 2012 23:05:06
%ENV:
PERL5LIB="C:\strawberry5143\cpan\build\Path-Tiny-0.068-1ZLrmR/blib/arch;C:\strawberry5143\cpan\build\Path-Tiny-0.068-1ZLrmR/blib/lib;C:\strawberry5143\cpan\build\PathTools-3.47-IE4rNW/blib/arch;C:\strawberry5143\cpan\build\PathTools-3.47-IE4rNW/blib/lib;C:\strawberry5143\cpan\build\Capture-Tiny-0.30-ASU8ef/blib/arch;C:\strawberry5143\cpan\build\Capture-Tiny-0.30-ASU8ef/blib/lib;C:\strawberry5143\cpan\build\Object-Tiny-RW-1.07-3uCcBJ/blib/arch;C:\strawberry5143\cpan\build\Object-Tiny-RW-1.07-3uCcBJ/blib/lib;C:\strawberry5143\cpan\build\Test-Simple-1.001014-129MRO/blib/arch;C:\strawberry5143\cpan\build\Test-Simple-1.001014-129MRO/blib/lib"
PERL5_CPANPLUS_IS_RUNNING="6036"
PERL5_CPAN_IS_RUNNING="6036"
PERL5_CPAN_IS_RUNNING_IN_RECURSION="1588,6036"
PERL_CR_SMOKER_CURRENT="Text-MacroScript-2.10"
PERL_CR_SMOKER_RUNONCE="1"
PERL_EXTUTILS_AUTOINSTALL="--defaultdeps"
PERL_MM_USE_DEFAULT="1"
@INC:
C:\strawberry5143\cpan\build\Path-Tiny-0.068-1ZLrmR/blib/arch
C:\strawberry5143\cpan\build\Path-Tiny-0.068-1ZLrmR/blib/lib
C:\strawberry5143\cpan\build\PathTools-3.47-IE4rNW/blib/arch
C:\strawberry5143\cpan\build\PathTools-3.47-IE4rNW/blib/lib
C:\strawberry5143\cpan\build\Capture-Tiny-0.30-ASU8ef/blib/arch
C:\strawberry5143\cpan\build\Capture-Tiny-0.30-ASU8ef/blib/lib
C:\strawberry5143\cpan\build\Object-Tiny-RW-1.07-3uCcBJ/blib/arch
C:\strawberry5143\cpan\build\Object-Tiny-RW-1.07-3uCcBJ/blib/lib
C:\strawberry5143\cpan\build\Test-Simple-1.001014-129MRO/blib/arch
C:\strawberry5143\cpan\build\Test-Simple-1.001014-129MRO/blib/lib
C:/strawberry5143/perl/site/lib
C:/strawberry5143/perl/vendor/lib
C:/strawberry5143/perl/lib
.