autodie v2.29 Perl 5 v5.8.9 x86_64-linux

Status
Pass
From
Nigel Horne
Dist
autodie v2.29
Platform
Perl 5 v5.8.9 x86_64-linux
Date
2018-11-14 16:05:55
ID
2aba9c66-e827-11e8-afbf-aec3b07506ca
This distribution has been tested as part of the CPAN Testers
project, supporting the Perl programming language.  See
http://wiki.cpantesters.org/ for more information or email
questions to cpan-testers-discuss@perl.org


--
Dear Paul Jamieson Fenwick,

This is a computer-generated report for autodie-2.29
on perl 5.8.9, created by CPAN-Reporter-1.2018.

Thank you for uploading your work to CPAN.  Congratulations!
All tests were successful.

Sections of this report:

    * Tester comments
    * Program output
    * Prerequisites
    * Environment and other context

------------------------------
TESTER COMMENTS
------------------------------

Additional comments from tester:

none provided

------------------------------
PROGRAM OUTPUT
------------------------------

Output from '/usr/bin/make test':

PERL_DL_NONLAZY=1 "/home/smoker/perl5/perlbrew/perls/perl-5.8.9/bin/perl" "-MExtUtils::Command::MM" "-MTest::Harness" "-e" "undef *Test::Harness::Switches; test_harness(0, 'blib/lib', 'blib/arch')" t/*.t
t/00-load.t ...................... ok
t/backcompat.t ................... ok
t/author-critic.t ................ skipped: these tests are for testing by the author
t/binmode.t ...................... ok
t/basic_exceptions.t ............. ok
t/args.t ......................... ok
t/autodie.t ...................... ok
t/blog_hints.t ................... ok
t/chmod.t ........................ ok
t/chown.t ........................ ok
t/caller.t ....................... ok
t/context.t ...................... ok
t/critic.t ....................... skipped: Author test.  Set $ENV{AUTHOR_TESTING} to true to run.
t/core-trampoline-slurp.t ........ ok
t/crickey.t ...................... ok
t/context_lexical.t .............. ok
t/exceptions.t ................... skipped: Perl 5.10 only tests
t/dbmopen.t ...................... ok
t/eval_error.t ................... ok
t/filehandles.t .................. ok
t/Fatal.t ........................ ok
t/exec.t ......................... ok
t/exception_class.t .............. ok
t/fileno.t ....................... ok
t/fork.t ......................... skipped: BSD::Resource required to test fork()
t/flock.t ........................ ok
t/format-clobber.t ............... ok
t/hints_pod_examples.t ........... skipped: Only subroutine hints supported in 5.8.x
# Sub::Identify is not loaded
t/import-into.t .................. skipped: Test needs Import::Into >= 1.002004
t/hints.t ........................ ok
t/hints_provider_does.t .......... ok
t/internal-backcompat.t .......... ok
t/hints_insist.t ................. ok
t/hints_provider_isa.t ........... ok
t/internal.t ..................... ok
t/kill.t ......................... skipped: Can unexpectedly signal process 1. Won't run as root.
t/kwalitee.t ..................... skipped: Author test.  Set $ENV{RELEASE_TESTING} to true to run.
t/hints_provider_easy_does_it.t .. ok
t/no_carp.t ...................... ok
t/pod-coverage.t ................. skipped: Author test.  Set $ENV{AUTHOR_TESTING} to true to run.
t/pod.t .......................... skipped: Author test.  Set $ENV{AUTHOR_TESTING} to true to run.
t/lex58.t ........................ ok
t/lethal.t ....................... ok
t/read.t ......................... ok
t/mkdir.t ........................ ok
t/open.t ......................... ok
t/recv.t ......................... ok
t/release-pod-coverage.t ......... skipped: these tests are for release candidate testing
t/release-pod-syntax.t ........... skipped: these tests are for release candidate testing
t/repeat.t ....................... ok
Variable "$open" is not imported at (eval 5) line 5.
	(Did you mean &open instead?)
t/socket.t ....................... skipped: Author test.  Set $ENV{AUTHOR_TESTING} to true to run.
t/rt-74246.t ..................... ok
t/scope_leak.t ................... ok
t/skip.t ......................... ok
t/string-eval-leak.t ............. ok
t/sysopen.t ...................... ok
t/string-eval-basic.t ............ ok
t/system.t ....................... ok
t/unlink.t ....................... ok
t/truncate.t ..................... ok
t/version.t ...................... skipped: Release test.  Set $ENV{RELEASE_TESTING} to true to run.
t/usersub.t ...................... ok
t/user-context.t ................. ok
t/utime.t ........................ ok
t/version_tag.t .................. ok
t/utf8_open.t .................... skipped: autodie does not honor the open pragma before 5.10
All tests successful.
Files=66, Tests=395,  0 wallclock secs ( 0.12 usr  0.07 sys +  2.24 cusr  0.47 csys =  2.90 CPU)
Result: PASS

------------------------------
PREREQUISITES
------------------------------

Prerequisite modules loaded:

requires:

    Module              Need     Have    
    ------------------- -------- --------
    B                   0        1.19    
    Carp                0        1.10    
    constant            0        1.17    
    Exporter            5.57     5.63    
    Fcntl               0        1.06    
    overload            0        1.06    
    parent              0        0.237   
    perl                5.008004 5.008009
    POSIX               0        1.15    
    Scalar::Util        0        1.19    
    strict              0        1.03    
    Tie::RefHash        0        1.38    
    warnings            0        1.05_01 

build_requires:

    Module              Need     Have    
    ------------------- -------- --------
    ExtUtils::MakeMaker 0        7.34    
    File::Copy          0        2.13    
    File::Spec          0        3.75    
    File::Temp          0        0.22    
    FindBin             0        1.49    
    if                  0        0.05    
    IO::Handle          0        1.27    
    lib                 0        0.61    
    Socket              0        1.81    
    Test::More          0        1.302140

configure_requires:

    Module              Need     Have    
    ------------------- -------- --------
    ExtUtils::MakeMaker 0        7.34    


------------------------------
ENVIRONMENT AND OTHER CONTEXT
------------------------------

Environment variables:

    HARNESS_OPTIONS = c:j10
    NONINTERACTIVE_TESTING = 1
    PATH = /home/smoker/perl5/perlbrew/bin:/home/smoker/perl5/perlbrew/perls/perl-5.8.9/bin:/usr/local/sbin:/usr/local/bin:/usr/sbin:/usr/bin:/sbin:/bin
    PERL5LIB = 
    PERL5OPT = 
    PERL5_CPANPLUS_IS_RUNNING = 6292
    PERL5_CPAN_IS_RUNNING = 6292
    PERLBREW_HOME = /home/smoker/.perlbrew
    PERLBREW_MANPATH = /home/smoker/perl5/perlbrew/perls/perl-5.8.9/man
    PERLBREW_PATH = /home/smoker/perl5/perlbrew/bin:/home/smoker/perl5/perlbrew/perls/perl-5.8.9/bin
    PERLBREW_PERL = perl-5.8.9
    PERLBREW_ROOT = /home/smoker/perl5/perlbrew
    PERLBREW_SHELLRC_VERSION = 0.84
    PERLBREW_VERSION = 0.84
    PERL_MM_USE_DEFAULT = 1
    SHELL = /bin/bash
    TMPDIR = /tmp

Perl special variables (and OS-specific diagnostics, for MSWin32):

    $^X = /home/smoker/perl5/perlbrew/perls/perl-5.8.9/bin/perl
    $UID/$EUID = 1000 / 1000
    $GID = 1000
    $EGID = 1000

Perl module toolchain versions installed:

    Module              Have    
    ------------------- --------
    CPAN                2.16    
    CPAN::Meta          2.143240
    Cwd                 3.75    
    ExtUtils::CBuilder  n/a     
    ExtUtils::Command   7.34    
    ExtUtils::Install   2.06    
    ExtUtils::MakeMaker 7.34    
    ExtUtils::Manifest  1.70    
    ExtUtils::ParseXS   2.19    
    File::Spec          3.75    
    JSON                n/a     
    JSON::PP            2.27203 
    Module::Build       n/a     
    Module::Signature   n/a     
    Parse::CPAN::Meta   1.4414  
    Test::Harness       3.42    
    Test::More          1.302140
    YAML                1.27    
    YAML::Syck          1.31    
    version             0.9924  


--

Summary of my perl5 (revision 5 version 8 subversion 9) configuration:
  Platform:
    osname=linux, osvers=4.18.0-2-amd64, archname=x86_64-linux
    uname='linux 3d5eebac10e6 4.18.0-2-amd64 #1 smp debian 4.18.10-2 (2018-11-02) x86_64 gnulinux '
    config_args='-de -Dprefix=/home/smoker/perl5/perlbrew/perls/perl-5.8.9 -Aeval:scriptdir=/home/smoker/perl5/perlbrew/perls/perl-5.8.9/bin'
    hint=recommended, useposix=true, d_sigaction=define
    usethreads=undef use5005threads=undef useithreads=undef usemultiplicity=undef
    useperlio=define d_sfio=undef uselargefiles=define usesocks=undef
    use64bitint=define use64bitall=define uselongdouble=undef
    usemymalloc=n, bincompat5005=undef
  Compiler:
    cc='cc', ccflags ='-fno-strict-aliasing -pipe -I/usr/local/include -D_LARGEFILE_SOURCE -D_FILE_OFFSET_BITS=64',
    optimize='-O2',
    cppflags='-fno-strict-aliasing -pipe -I/usr/local/include'
    ccversion='', gccversion='6.3.0 20170516', gccosandvers=''
    intsize=4, longsize=8, ptrsize=8, doublesize=8, byteorder=12345678
    d_longlong=define, longlongsize=8, d_longdbl=define, longdblsize=16
    ivtype='long', ivsize=8, nvtype='double', nvsize=8, Off_t='off_t', lseeksize=8
    alignbytes=8, prototype=define
  Linker and Libraries:
    ld='cc', ldflags =' -L/usr/local/lib'
    libpth=/usr/local/lib /lib/x86_64-linux-gnu /lib/../lib /usr/lib/x86_64-linux-gnu /usr/lib/../lib /lib /usr/lib
    libs=-lnsl -ldl -lm -lcrypt -lutil -lc
    perllibs=-lnsl -ldl -lm -lcrypt -lutil -lc
    libc=libc-2.24.so, so=so, useshrplib=false, libperl=libperl.a
    gnulibc_version='2.24'
  Dynamic Linking:
    dlsrc=dl_dlopen.xs, dlext=so, d_dlsymun=undef, ccdlflags='-Wl,-E'
    cccdlflags='-fPIC', lddlflags='-shared -O2 -L/usr/local/lib'


Characteristics of this binary (from libperl): 
  Compile-time options: PERL_MALLOC_WRAP USE_64_BIT_ALL USE_64_BIT_INT
                        USE_FAST_STDIO USE_LARGE_FILES USE_PERLIO
  Locally applied patches:
	Devel::PatchPerl 1.52
  Built under linux
  Compiled at Nov 14 2018 15:56:46
  %ENV:
    PERL5LIB=""
    PERL5OPT=""
    PERL5_CPANPLUS_IS_RUNNING="6292"
    PERL5_CPAN_IS_RUNNING="6292"
    PERLBREW_HOME="/home/smoker/.perlbrew"
    PERLBREW_MANPATH="/home/smoker/perl5/perlbrew/perls/perl-5.8.9/man"
    PERLBREW_PATH="/home/smoker/perl5/perlbrew/bin:/home/smoker/perl5/perlbrew/perls/perl-5.8.9/bin"
    PERLBREW_PERL="perl-5.8.9"
    PERLBREW_ROOT="/home/smoker/perl5/perlbrew"
    PERLBREW_SHELLRC_VERSION="0.84"
    PERLBREW_VERSION="0.84"
    PERL_MM_USE_DEFAULT="1"
  @INC:
    /home/smoker/perl5/perlbrew/perls/perl-5.8.9/lib/5.8.9/x86_64-linux
    /home/smoker/perl5/perlbrew/perls/perl-5.8.9/lib/5.8.9
    /home/smoker/perl5/perlbrew/perls/perl-5.8.9/lib/site_perl/5.8.9/x86_64-linux
    /home/smoker/perl5/perlbrew/perls/perl-5.8.9/lib/site_perl/5.8.9
    .