Net-Statsd-Server v0.20 Perl 5 v5.36.0 x86_64-linux

Status
Pass
From
Andreas J. König (ANDK)
Dist
Net-Statsd-Server v0.20
Platform
Perl 5 v5.36.0 x86_64-linux
Date
2023-03-21 07:29:51
ID
2ac34a7e-c7ba-11ed-a873-1cc1c279c674
This distribution has been tested as part of the CPAN Testers
project, supporting the Perl programming language.  See
http://wiki.cpantesters.org/ for more information or email
questions to cpan-testers-discuss@perl.org


--
Dear Cosimo Streppone,

This is a computer-generated report for Net-Statsd-Server-0.20
on perl 5.36.0, created by CPAN-Reporter-1.2018.

Thank you for uploading your work to CPAN.  Congratulations!
All tests were successful.

Sections of this report:

    * Tester comments
    * Program output
    * Prerequisites
    * Environment and other context

------------------------------
TESTER COMMENTS
------------------------------

Additional comments from tester:

this report is from an automated smoke testing program
and was not reviewed by a human for accuracy

------------------------------
PROGRAM OUTPUT
------------------------------

Output from '/usr/bin/make test':

PERL_DL_NONLAZY=1 "/home/sand/src/perl/repoperls/installed-perls/host/k93msid/v5.36.0/bb7f/bin/perl" "-MExtUtils::Command::MM" "-MTest::Harness" "-e" "undef *Test::Harness::Switches; test_harness(0, 'blib/lib', 'blib/arch')" t/*.t t/integration-tests/*.t
t/000-sanity.t ............................. ok
t/config.t ................................. ok
t/graphite.t ............................... ok
2023-03-21 08:29:33.000000 +0100 note  Net::Statsd::Server: Initializing Net::Statsd::Server::Backend::Console backend
2023-03-21 08:29:33.000000 +0100 note  Net::Statsd::Server: Initializing Net::Statsd::Server::Backend::Graphite backend
2023-03-21 08:29:33.000000 +0100 info  AnyEvent: Autoloaded model 'AnyEvent::Impl::EV', using it.
2023-03-21 08:29:33.940069 +0100 note  Net::Statsd::Server: statsd server started on 0.0.0.0:40001 (v0.17)
2023-03-21 08:29:33.940116 +0100 note  Net::Statsd::Server: manager interface started on 0.0.0.0:40002
2023-03-21 08:29:33.940151 +0100 note  Net::Statsd::Server: metrics flush will happen every 1s
2023-03-21 08:29:34.348294 +0100 warn  Net::Statsd::Server: Bad line: 1 in msg "a_bad_test_value|z"
2023-03-21 08:29:34.940077 +0100 note  Net::Statsd::Server: flushing metrics
Flushing stats at Tue Mar 21 08:29:34 2023
{"counter_rates":{"statsd.bad_lines_seen":1,"statsd.packets_received":1},"pctThreshold":[90],"counters":{"statsd.bad_lines_seen":1,"statsd.packets_received":1},"timer_data":{},"sets":null,"gauges":{},"timers":{}}
t/integration-tests/bad-message.t .......... ok
2023-03-21 08:29:35.000000 +0100 note  Net::Statsd::Server: Initializing Net::Statsd::Server::Backend::Console backend
2023-03-21 08:29:35.000000 +0100 note  Net::Statsd::Server: Initializing Net::Statsd::Server::Backend::Graphite backend
2023-03-21 08:29:35.000000 +0100 info  AnyEvent: Autoloaded model 'AnyEvent::Impl::EV', using it.
2023-03-21 08:29:35.248413 +0100 note  Net::Statsd::Server: statsd server started on 0.0.0.0:40001 (v0.17)
2023-03-21 08:29:35.248459 +0100 note  Net::Statsd::Server: manager interface started on 0.0.0.0:40002
2023-03-21 08:29:35.248493 +0100 note  Net::Statsd::Server: metrics flush will happen every 1s
2023-03-21 08:29:36.248480 +0100 note  Net::Statsd::Server: flushing metrics
Flushing stats at Tue Mar 21 08:29:36 2023
{"gauges":{},"sets":null,"timers":{},"counter_rates":{"a_test_value":100,"statsd.packets_received":1,"statsd.bad_lines_seen":0},"timer_data":{},"counters":{"a_test_value":100,"statsd.bad_lines_seen":0,"statsd.packets_received":1},"pctThreshold":[90]}
# stats.counters.a_test_value.rate 100.000000 1679383776
# stats.counters.a_test_value.count 100 1679383776
# stats.counters.statsd.bad_lines_seen.rate 0.000000 1679383776
# stats.counters.statsd.bad_lines_seen.count 0 1679383776
# stats.counters.statsd.packets_received.rate 1.000000 1679383776
# stats.counters.statsd.packets_received.count 1 1679383776
# stats.statsd.numStats 3 1679383776
# stats.statsd.graphiteStats.calculationtime 0.098000 1679383776
# stats.statsd.processing_time 0.02 1679383776
# stats.statsd.graphiteStats.last_exception 94847114353016 1679383776
# stats.statsd.graphiteStats.last_flush 94847114353016 1679383776
t/integration-tests/counts-are-valid.t ..... ok
2023-03-21 08:29:36.000000 +0100 note  Net::Statsd::Server: Initializing Net::Statsd::Server::Backend::Graphite backend
2023-03-21 08:29:36.000000 +0100 info  AnyEvent: Autoloaded model 'AnyEvent::Impl::EV', using it.
2023-03-21 08:29:36.525804 +0100 note  Net::Statsd::Server: statsd server started on 0.0.0.0:40001 (v0.17)
2023-03-21 08:29:36.525852 +0100 note  Net::Statsd::Server: manager interface started on 0.0.0.0:40002
2023-03-21 08:29:36.525890 +0100 note  Net::Statsd::Server: metrics flush will happen every 1s
2023-03-21 08:29:37.523660 +0100 note  Net::Statsd::Server: flushing metrics
# First flush. Test gauge should be there.
2023-03-21 08:29:38.522689 +0100 note  Net::Statsd::Server: flushing metrics
# Second flush. deleteGauges=false should keep the test gauge.
t/integration-tests/delete-gauges-false.t .. ok
2023-03-21 08:29:38.000000 +0100 note  Net::Statsd::Server: Initializing Net::Statsd::Server::Backend::Graphite backend
2023-03-21 08:29:38.000000 +0100 info  AnyEvent: Autoloaded model 'AnyEvent::Impl::EV', using it.
2023-03-21 08:29:38.765372 +0100 note  Net::Statsd::Server: statsd server started on 0.0.0.0:40001 (v0.17)
2023-03-21 08:29:38.765418 +0100 note  Net::Statsd::Server: manager interface started on 0.0.0.0:40002
2023-03-21 08:29:38.765454 +0100 note  Net::Statsd::Server: metrics flush will happen every 1s
2023-03-21 08:29:39.765269 +0100 note  Net::Statsd::Server: flushing metrics
# First flush. Test gauge should be there.
2023-03-21 08:29:40.765222 +0100 note  Net::Statsd::Server: flushing metrics
# Second flush. deleteIdleStats should have cleared the test gauge.
t/integration-tests/delete-idle-stats.t .... ok
2023-03-21 08:29:41.000000 +0100 note  Net::Statsd::Server: Initializing Net::Statsd::Server::Backend::Console backend
2023-03-21 08:29:41.000000 +0100 note  Net::Statsd::Server: Initializing Net::Statsd::Server::Backend::Graphite backend
2023-03-21 08:29:41.000000 +0100 info  AnyEvent: Autoloaded model 'AnyEvent::Impl::EV', using it.
2023-03-21 08:29:41.050084 +0100 note  Net::Statsd::Server: statsd server started on 0.0.0.0:40001 (v0.17)
2023-03-21 08:29:41.050213 +0100 note  Net::Statsd::Server: manager interface started on 0.0.0.0:40002
2023-03-21 08:29:41.050496 +0100 note  Net::Statsd::Server: metrics flush will happen every 1s
2023-03-21 08:29:42.049581 +0100 note  Net::Statsd::Server: flushing metrics
Flushing stats at Tue Mar 21 08:29:42 2023
{"counter_rates":{"statsd.bad_lines_seen":0,"a_test_value,category=web,severity=high":100,"statsd.packets_received":1},"timers":{},"pctThreshold":[90],"sets":null,"gauges":{},"timer_data":{},"counters":{"a_test_value,category=web,severity=high":100,"statsd.bad_lines_seen":0,"statsd.packets_received":1}}
# stats.counters.a_test_value,category=web,severity=high.rate 100.000000 1679383782
# stats.counters.a_test_value,category=web,severity=high.count 100 1679383782
# stats.counters.statsd.bad_lines_seen.rate 0.000000 1679383782
# stats.counters.statsd.bad_lines_seen.count 0 1679383782
# stats.counters.statsd.packets_received.rate 1.000000 1679383782
# stats.counters.statsd.packets_received.count 1 1679383782
# stats.statsd.numStats 3 1679383782
# stats.statsd.graphiteStats.calculationtime 0.056000 1679383782
# stats.statsd.processing_time 0.021 1679383782
# stats.statsd.graphiteStats.last_exception 94825848559992 1679383782
# stats.statsd.graphiteStats.last_flush 94825848559992 1679383782
t/integration-tests/keys-with-tags.t ....... ok
2023-03-21 08:29:42.000000 +0100 note  Net::Statsd::Server: Initializing Net::Statsd::Server::Backend::Graphite backend
2023-03-21 08:29:42.000000 +0100 info  AnyEvent: Autoloaded model 'AnyEvent::Impl::EV', using it.
2023-03-21 08:29:42.309611 +0100 note  Net::Statsd::Server: statsd server started on 0.0.0.0:40001 (v0.17)
2023-03-21 08:29:42.309811 +0100 note  Net::Statsd::Server: manager interface started on 0.0.0.0:40002
2023-03-21 08:29:42.309969 +0100 note  Net::Statsd::Server: metrics flush will happen every 1s
# Expected mean value is 1974.48
2023-03-21 08:29:43.309426 +0100 note  Net::Statsd::Server: flushing metrics
# stats.counters.statsd.packets_received.rate 100.000000 1679383783
# stats.counters.statsd.packets_received.count 100 1679383783
# stats.counters.statsd.bad_lines_seen.rate 0.000000 1679383783
# stats.counters.statsd.bad_lines_seen.count 0 1679383783
# stats.timers.read_latency.sum_99 194500.000000 1679383783
# stats.timers.read_latency.upper_98 2826.000000 1679383783
# stats.timers.read_latency.std 527.910286 1679383783
# stats.timers.read_latency.count_ps 100.000000 1679383783
# stats.timers.read_latency.mean_99 1964.646465 1679383783
# stats.timers.read_latency.sum_squares_99 409035350.000000 1679383783
# stats.timers.read_latency.sum_95 183120.000000 1679383783
# stats.timers.read_latency.mean_98 1954.653061 1679383783
# stats.timers.read_latency.count 100.000000 1679383783
# stats.timers.read_latency.sum 197448.000000 1679383783
# stats.timers.read_latency.upper_99 2944.000000 1679383783
# stats.timers.read_latency.mean_95 1927.578947 1679383783
# stats.timers.read_latency.upper_95 2779.000000 1679383783
# stats.timers.read_latency.count_95 95.000000 1679383783
# stats.timers.read_latency.median 2025.000000 1679383783
# stats.timers.read_latency.upper 2948.000000 1679383783
# stats.timers.read_latency.count_99 99.000000 1679383783
# stats.timers.read_latency.sum_98 191556.000000 1679383783
# stats.timers.read_latency.mean 1974.480000 1679383783
# stats.timers.read_latency.sum_squares 417726054.000000 1679383783
# stats.timers.read_latency.count_98 98.000000 1679383783
# stats.timers.read_latency.sum_squares_98 400368214.000000 1679383783
# stats.timers.read_latency.lower 1056.000000 1679383783
# stats.timers.read_latency.sum_squares_95 376645496.000000 1679383783
# stats.statsd.numStats 3 1679383783
# stats.statsd.graphiteStats.calculationtime 0.088000 1679383783
# stats.statsd.processing_time 0.338 1679383783
# stats.statsd.graphiteStats.last_exception 94489568917880 1679383783
# stats.statsd.graphiteStats.last_flush 94489568917880 1679383783
t/integration-tests/percent-threshold.t .... ok
2023-03-21 08:29:43.000000 +0100 note  Net::Statsd::Server: Initializing Net::Statsd::Server::Backend::Console backend
2023-03-21 08:29:43.000000 +0100 note  Net::Statsd::Server: Initializing Net::Statsd::Server::Backend::Graphite backend
2023-03-21 08:29:43.000000 +0100 info  AnyEvent: Autoloaded model 'AnyEvent::Impl::EV', using it.
2023-03-21 08:29:43.586064 +0100 note  Net::Statsd::Server: statsd server started on 0.0.0.0:40001 (v0.17)
2023-03-21 08:29:43.586111 +0100 note  Net::Statsd::Server: manager interface started on 0.0.0.0:40002
2023-03-21 08:29:43.586148 +0100 note  Net::Statsd::Server: metrics flush will happen every 1s
2023-03-21 08:29:44.585944 +0100 note  Net::Statsd::Server: flushing metrics
Flushing stats at Tue Mar 21 08:29:44 2023
{"timer_data":{"a_test_value":{"median":"100","upper_90":"100","sum_squares":10000,"count":1,"mean":100,"count_ps":1,"sum_90":"100","std":0,"sum":"100","mean_90":"100","sum_squares_90":10000,"upper":"100","count_90":1,"lower":"100"}},"timers":{"a_test_value":["100"]},"gauges":{},"counter_rates":{"statsd.packets_received":1,"statsd.bad_lines_seen":0},"counters":{"statsd.bad_lines_seen":0,"statsd.packets_received":1},"pctThreshold":["90"],"sets":null}
# stats.counters.statsd.bad_lines_seen.rate 0.000000 1679383784
# stats.counters.statsd.bad_lines_seen.count 0 1679383784
# stats.counters.statsd.packets_received.rate 1.000000 1679383784
# stats.counters.statsd.packets_received.count 1 1679383784
# stats.timers.a_test_value.median 100.000000 1679383784
# stats.timers.a_test_value.upper_90 100.000000 1679383784
# stats.timers.a_test_value.sum_squares 10000.000000 1679383784
# stats.timers.a_test_value.count 1.000000 1679383784
# stats.timers.a_test_value.mean 100.000000 1679383784
# stats.timers.a_test_value.count_ps 1.000000 1679383784
# stats.timers.a_test_value.sum_90 100.000000 1679383784
# stats.timers.a_test_value.std 0.000000 1679383784
# stats.timers.a_test_value.sum 100.000000 1679383784
# stats.timers.a_test_value.mean_90 100.000000 1679383784
# stats.timers.a_test_value.sum_squares_90 10000.000000 1679383784
# stats.timers.a_test_value.upper 100.000000 1679383784
# stats.timers.a_test_value.count_90 1.000000 1679383784
# stats.timers.a_test_value.lower 100.000000 1679383784
# stats.statsd.numStats 3 1679383784
# stats.statsd.graphiteStats.calculationtime 0.240000 1679383784
# stats.statsd.processing_time 0.062 1679383784
# stats.statsd.graphiteStats.last_exception 94722993621368 1679383784
# stats.statsd.graphiteStats.last_flush 94722993621368 1679383784
t/integration-tests/timers-are-valid.t ..... ok
t/process-metrics.t ........................ ok
t/trim.t ................................... ok
All tests successful.
Files=12, Tests=92, 11 wallclock secs ( 0.05 usr  0.04 sys +  1.24 cusr  0.30 csys =  1.63 CPU)
Result: PASS

------------------------------
PREREQUISITES
------------------------------

Prerequisite modules loaded:

requires:

    Module                Need Have    
    --------------------- ---- --------
    AnyEvent::Handle::UDP 0    0.050   
    IO::Socket::INET      0    1.49    
    JSON::XS              0    4.03    

build_requires:

    Module                Need Have    
    --------------------- ---- --------
    ExtUtils::MakeMaker   0    7.64    
    Test::More            0    1.302191

configure_requires:

    Module                Need Have    
    --------------------- ---- --------
    ExtUtils::MakeMaker   0    7.64    


------------------------------
ENVIRONMENT AND OTHER CONTEXT
------------------------------

Environment variables:

    AUTOMATED_TESTING = 1
    LANG = en_US.UTF-8
    LANGUAGE = en_US:en
    PATH = /home/sand/bin:/usr/local/bin:/usr/bin:/bin:/usr/games:/usr/local/perl/bin:/usr/X11/bin:/sbin:/usr/sbin
    PERL5LIB = 
    PERL5OPT = 
    PERL5_CPANPLUS_IS_RUNNING = 2845842
    PERL5_CPAN_IS_RUNNING = 2845842
    PERL_CANARY_STABILITY_NOPROMPT = 1
    PERL_MM_USE_DEFAULT = 1
    PERL_USE_UNSAFE_INC = 1
    SHELL = /usr/bin/zsh
    TERM = screen

Perl special variables (and OS-specific diagnostics, for MSWin32):

    $^X = /home/sand/src/perl/repoperls/installed-perls/host/k93msid/v5.36.0/bb7f/bin/perl
    $UID/$EUID = 1005 / 1005
    $GID = 1005 1005
    $EGID = 1005 1005

Perl module toolchain versions installed:

    Module              Have    
    ------------------- --------
    CPAN                2.34    
    CPAN::Meta          2.150010
    Cwd                 3.84    
    ExtUtils::CBuilder  0.280236
    ExtUtils::Command   7.64    
    ExtUtils::Install   2.20    
    ExtUtils::MakeMaker 7.64    
    ExtUtils::Manifest  1.73    
    ExtUtils::ParseXS   3.45    
    File::Spec          3.84    
    JSON                4.07    
    JSON::PP            4.12    
    Module::Build       0.4232  
    Module::Signature   0.88    
    Parse::CPAN::Meta   2.150010
    Test::Harness       3.44    
    Test::More          1.302191
    YAML                1.30    
    YAML::Syck          1.34    
    version             0.9929  


--

Summary of my perl5 (revision 5 version 36 subversion 0) configuration:
  Commit id: b3c502b607191da0e743a4fa34501a05442305b3
  Platform:
    osname=linux
    osvers=5.10.0-14-amd64
    archname=x86_64-linux
    uname='linux k93msid 5.10.0-14-amd64 #1 smp debian 5.10.113-1 (2022-04-29) x86_64 gnulinux '
    config_args='-Dprefix=/home/sand/src/perl/repoperls/installed-perls/host/k93msid/v5.36.0/bb7f -Dmyhostname=k93msid -Dinstallusrbinperl=n -Uversiononly -Dusedevel -des -Ui_db -Dlibswanted=cl pthread socket inet nsl gdbm dbm malloc dl ld sun m crypt sec util c cposix posix ucb BSD gdbm_compat -Uuseithreads -Uuselongdouble -DEBUGGING=both'
    hint=recommended
    useposix=true
    d_sigaction=define
    useithreads=undef
    usemultiplicity=undef
    use64bitint=define
    use64bitall=define
    uselongdouble=undef
    usemymalloc=n
    default_inc_excludes_dot=define
  Compiler:
    cc='cc'
    ccflags ='-fwrapv -DDEBUGGING -fno-strict-aliasing -pipe -fstack-protector-strong -I/usr/local/include -D_LARGEFILE_SOURCE -D_FILE_OFFSET_BITS=64 -D_FORTIFY_SOURCE=2'
    optimize='-O2 -g'
    cppflags='-fwrapv -DDEBUGGING -fno-strict-aliasing -pipe -fstack-protector-strong -I/usr/local/include'
    ccversion=''
    gccversion='11.3.0'
    gccosandvers=''
    intsize=4
    longsize=8
    ptrsize=8
    doublesize=8
    byteorder=12345678
    doublekind=3
    d_longlong=define
    longlongsize=8
    d_longdbl=define
    longdblsize=16
    longdblkind=3
    ivtype='long'
    ivsize=8
    nvtype='double'
    nvsize=8
    Off_t='off_t'
    lseeksize=8
    alignbytes=8
    prototype=define
  Linker and Libraries:
    ld='cc'
    ldflags =' -fstack-protector-strong -L/usr/local/lib'
    libpth=/usr/local/lib /usr/lib/x86_64-linux-gnu /usr/lib /usr/lib64
    libs=-lpthread -lnsl -ldl -lm -lcrypt -lutil -lc
    perllibs=-lpthread -lnsl -ldl -lm -lcrypt -lutil -lc
    libc=libc-2.33.so
    so=so
    useshrplib=false
    libperl=libperl.a
    gnulibc_version='2.33'
  Dynamic Linking:
    dlsrc=dl_dlopen.xs
    dlext=so
    d_dlsymun=undef
    ccdlflags='-Wl,-E'
    cccdlflags='-fPIC'
    lddlflags='-shared -O2 -g -L/usr/local/lib -fstack-protector-strong'


Characteristics of this binary (from libperl): 
  Compile-time options:
    DEBUGGING
    HAS_TIMES
    PERLIO_LAYERS
    PERL_COPY_ON_WRITE
    PERL_DONT_CREATE_GVSV
    PERL_MALLOC_WRAP
    PERL_OP_PARENT
    PERL_PRESERVE_IVUV
    PERL_USE_DEVEL
    USE_64_BIT_ALL
    USE_64_BIT_INT
    USE_LARGE_FILES
    USE_LOCALE
    USE_LOCALE_COLLATE
    USE_LOCALE_CTYPE
    USE_LOCALE_NUMERIC
    USE_LOCALE_TIME
    USE_PERLIO
    USE_PERL_ATOF
  Built under linux
  Compiled at May 30 2022 02:33:18
  %ENV:
    PERL5LIB=""
    PERL5OPT=""
    PERL5_CPANPLUS_IS_RUNNING="2845842"
    PERL5_CPAN_IS_RUNNING="2845842"
    PERL_CANARY_STABILITY_NOPROMPT="1"
    PERL_MM_USE_DEFAULT="1"
    PERL_USE_UNSAFE_INC="1"
  @INC:
    /home/sand/src/perl/repoperls/installed-perls/host/k93msid/v5.36.0/bb7f/lib/site_perl/5.36.0/x86_64-linux
    /home/sand/src/perl/repoperls/installed-perls/host/k93msid/v5.36.0/bb7f/lib/site_perl/5.36.0
    /home/sand/src/perl/repoperls/installed-perls/host/k93msid/v5.36.0/bb7f/lib/5.36.0/x86_64-linux
    /home/sand/src/perl/repoperls/installed-perls/host/k93msid/v5.36.0/bb7f/lib/5.36.0
    .