Hash-AutoHash v1.17 Perl 5 v5.26.3 RC1 x86_64-linux
- Status
- Pass
- From
- Andreas J. König (ANDK)
- Dist
-
Hash-AutoHash v1.17
- Platform
- Perl 5 v5.26.3 RC1 x86_64-linux
- Date
- 2018-11-16 09:08:22
- ID
- 2ac64c42-e97f-11e8-8ba7-a1d9f2544f93
This distribution has been tested as part of the CPAN Testers
project, supporting the Perl programming language. See
http://wiki.cpantesters.org/ for more information or email
questions to cpan-testers-discuss@perl.org
--
Dear Nathan Goodman,
This is a computer-generated report for Hash-AutoHash-1.17
on perl 5.26.3, created by CPAN-Reporter-1.2018.
Thank you for uploading your work to CPAN. Congratulations!
All tests were successful.
Sections of this report:
* Tester comments
* Program output
* Prerequisites
* Environment and other context
------------------------------
TESTER COMMENTS
------------------------------
Additional comments from tester:
this report is from an automated smoke testing program
and was not reviewed by a human for accuracy
------------------------------
PROGRAM OUTPUT
------------------------------
Output from '/usr/bin/make test':
/tmp/basesmoker-reloperl-TZYI/bin/perl Build --makefile_env_macros 1 test
# Testing Hash::AutoHash 1.17, Perl 5.026003, /tmp/basesmoker-reloperl-TZYI/bin/perl
t/autohash.000.code_exists.t .... ok
t/autohash.001.boilerplate.t .... ok
t/autohash.002.pod.t ............ ok
t/autohash.010.cons_funcs.t ..... ok
t/autohash.011.new_func.t ....... ok
t/autohash.012.new_method.t ..... ok
t/autohash.013.ashash.t ......... ok
t/autohash.013.exthash.t ........ ok
t/autohash.013.extobj.t ......... ok
t/autohash.019.export_ok.t ...... ok
t/autohash.020.class_methods.t .. ok
t/autohash.020.special_keys.t ... ok
t/autohash.020.universal.t ...... ok
t/autohash.030.alias.t .......... ok
t/autohash.030.clear.t .......... ok
t/autohash.030.count_etc.t ...... ok
t/autohash.030.delete.t ......... ok
t/autohash.030.each.t ........... ok
t/autohash.030.exists.t ......... ok
t/autohash.030.get.t ............ ok
t/autohash.030.keys.t ........... ok
t/autohash.030.set.t ............ ok
t/autohash.030.tied.t ........... ok
t/autohash.030.values.t ......... ok
t/autohash.031.delete_exists.t .. ok
t/autohash.031.delete_keys.t .... ok
t/autohash.031.delete_values.t .. ok
t/autohash.040.destroy.t ........ ok
t/autohash.050.child.t .......... ok
t/autohash.050.grandchild.t ..... ok
t/autohash.055.typicalchild.t ... ok
t/autohash.099.docs.t ........... ok
All tests successful.
Files=32, Tests=2813, 4 wallclock secs ( 0.21 usr 0.27 sys + 3.09 cusr 0.46 csys = 4.03 CPU)
Result: PASS
------------------------------
PREREQUISITES
------------------------------
Prerequisite modules loaded:
requires:
Module Need Have
--------------------- ------ --------
Carp 1.2 1.50
Cwd 3.4 3.75
Exporter 5.68 5.72
List::MoreUtils 0.33 0.428
List::Util 1.32 1.50
perl v5.8.3 5.026003
Tie::Hash 1.04 1.05
Tie::ToObject 0.03 0.03
XSLoader 0.15 0.27
build_requires:
Module Need Have
--------------------- ------ --------
Carp 1.2 1.50
Exporter 5.68 5.72
File::Spec 3.4 3.75
List::MoreUtils 0.33 0.428
Module::Build 0.4007 0.4224
Scalar::Util 1.23 1.50
Storable 2.3 2.62
Test::Deep 0.11 1.128
Test::More 0.98 1.302140
Test::Pod 1.48 1.52
Test::Pod::Content v0.0.6 0.0.6
Tie::Hash 1.04 1.05
Tie::Hash::MultiValue 1.02 1.05
configure_requires:
Module Need Have
--------------------- ------ --------
Module::Build 0.4007 0.4224
------------------------------
ENVIRONMENT AND OTHER CONTEXT
------------------------------
Environment variables:
AUTOMATED_TESTING = 1
LANG = C
PATH = /home/sand/bin:/usr/local/bin:/usr/bin:/bin:/usr/games:/usr/local/perl/bin:/usr/X11/bin:/sbin:/usr/sbin
PERL5LIB =
PERL5OPT =
PERL5_CPANPLUS_IS_RUNNING = 32678
PERL5_CPAN_IS_RUNNING = 32678
PERL_CANARY_STABILITY_NOPROMPT = 1
PERL_MM_USE_DEFAULT = 1
PERL_USE_UNSAFE_INC = 1
SHELL = /usr/bin/zsh
TERM = screen
Perl special variables (and OS-specific diagnostics, for MSWin32):
$^X = /tmp/basesmoker-reloperl-TZYI/bin/perl
$UID/$EUID = 1005 / 1005
$GID = 1005 1005
$EGID = 1005 1005
Perl module toolchain versions installed:
Module Have
------------------- --------
CPAN 2.21
CPAN::Meta 2.150010
Cwd 3.75
ExtUtils::CBuilder 0.280230
ExtUtils::Command 7.34
ExtUtils::Install 2.06
ExtUtils::MakeMaker 7.34
ExtUtils::Manifest 1.70
ExtUtils::ParseXS 3.34
File::Spec 3.75
JSON 2.97001
JSON::PP 2.97001
Module::Build 0.4224
Module::Signature 0.83
Parse::CPAN::Meta 2.150010
Test::Harness 3.42
Test::More 1.302140
YAML 1.27
YAML::Syck 1.31
version 0.9917
--
Summary of my perl5 (revision 5 version 26 subversion 3) configuration:
Platform:
osname=linux
osvers=4.9.0-2-amd64
archname=x86_64-linux
uname='linux k93jessie 4.9.0-2-amd64 #1 smp debian 4.9.18-1 (2017-03-30) x86_64 gnulinux '
config_args='-Dprefix=/home/sand/src/perl/repoperls/installed-perls/host/k93jessie/perl-5.26.3-RC1/b42d -Dmyhostname=k93jessie -Dinstallusrbinperl=n -Uversiononly -Dusedevel -des -Ui_db -Dlibswanted=cl pthread socket inet nsl gdbm dbm malloc dl ld sun m crypt sec util c cposix posix ucb BSD gdbm_compat -Uuseithreads -Uuselongdouble -DEBUGGING=-g'
hint=recommended
useposix=true
d_sigaction=define
useithreads=undef
usemultiplicity=undef
use64bitint=define
use64bitall=define
uselongdouble=undef
usemymalloc=n
default_inc_excludes_dot=define
bincompat5005=undef
Compiler:
cc='cc'
ccflags ='-fwrapv -fno-strict-aliasing -pipe -fstack-protector-strong -I/usr/local/include -D_LARGEFILE_SOURCE -D_FILE_OFFSET_BITS=64 -D_FORTIFY_SOURCE=2'
optimize='-O2 -g'
cppflags='-fwrapv -fno-strict-aliasing -pipe -fstack-protector-strong -I/usr/local/include'
ccversion=''
gccversion='4.9.2'
gccosandvers=''
intsize=4
longsize=8
ptrsize=8
doublesize=8
byteorder=12345678
doublekind=3
d_longlong=define
longlongsize=8
d_longdbl=define
longdblsize=16
longdblkind=3
ivtype='long'
ivsize=8
nvtype='double'
nvsize=8
Off_t='off_t'
lseeksize=8
alignbytes=8
prototype=define
Linker and Libraries:
ld='cc'
ldflags =' -fstack-protector-strong -L/usr/local/lib'
libpth=/usr/local/lib /usr/lib/gcc/x86_64-linux-gnu/4.9/include-fixed /usr/include/x86_64-linux-gnu /usr/lib /lib/x86_64-linux-gnu /lib/../lib /usr/lib/x86_64-linux-gnu /usr/lib/../lib /lib
libs=-lpthread -lnsl -ldl -lm -lcrypt -lutil -lc
perllibs=-lpthread -lnsl -ldl -lm -lcrypt -lutil -lc
libc=libc-2.19.so
so=so
useshrplib=false
libperl=libperl.a
gnulibc_version='2.19'
Dynamic Linking:
dlsrc=dl_dlopen.xs
dlext=so
d_dlsymun=undef
ccdlflags='-Wl,-E'
cccdlflags='-fPIC'
lddlflags='-shared -O2 -g -L/usr/local/lib -fstack-protector-strong'
Characteristics of this binary (from libperl):
Compile-time options:
HAS_TIMES
PERLIO_LAYERS
PERL_COPY_ON_WRITE
PERL_DONT_CREATE_GVSV
PERL_MALLOC_WRAP
PERL_OP_PARENT
PERL_PRESERVE_IVUV
PERL_USE_DEVEL
USE_64_BIT_ALL
USE_64_BIT_INT
USE_LARGE_FILES
USE_LOCALE
USE_LOCALE_COLLATE
USE_LOCALE_CTYPE
USE_LOCALE_NUMERIC
USE_LOCALE_TIME
USE_PERLIO
USE_PERL_ATOF
Locally applied patches:
RC1
Devel::PatchPerl 1.52
Built under linux
Compiled at Nov 15 2018 22:20:55
%ENV:
PERL5LIB=""
PERL5OPT=""
PERL5_CPANPLUS_IS_RUNNING="32678"
PERL5_CPAN_IS_RUNNING="32678"
PERL_CANARY_STABILITY_NOPROMPT="1"
PERL_MM_USE_DEFAULT="1"
PERL_USE_UNSAFE_INC="1"
@INC:
/home/sand/src/perl/repoperls/installed-perls/host/k93jessie/perl-5.26.3-RC1/b42d/lib/site_perl/5.26.3/x86_64-linux
/home/sand/src/perl/repoperls/installed-perls/host/k93jessie/perl-5.26.3-RC1/b42d/lib/site_perl/5.26.3
/home/sand/src/perl/repoperls/installed-perls/host/k93jessie/perl-5.26.3-RC1/b42d/lib/5.26.3/x86_64-linux
/home/sand/src/perl/repoperls/installed-perls/host/k93jessie/perl-5.26.3-RC1/b42d/lib/5.26.3
.