Back
From: metabase:user:314402c4-2aae-11df-837a-5e0a49663a4f
Subject: PASS RDF-AllegroGraph-Easy-0.08 v5.22.1 RC4 GNU/Linux
Date: 2015-12-13T17:51:41Z
This distribution has been tested as part of the CPAN Testers
project, supporting the Perl programming language. See
http://wiki.cpantesters.org/ for more information or email
questions to cpan-testers-discuss@perl.org
--
Dear Robert Barta,
This is a computer-generated report for RDF-AllegroGraph-Easy-0.08
on perl 5.22.1, created by CPAN-Reporter-1.2015.
Thank you for uploading your work to CPAN. Congratulations!
All tests were successful.
Sections of this report:
* Tester comments
* Program output
* Prerequisites
* Environment and other context
------------------------------
TESTER COMMENTS
------------------------------
Additional comments from tester:
none provided
------------------------------
PROGRAM OUTPUT
------------------------------
Output from './Build test':
given is experimental at /tmpfs/.cpan-build/2015121315/RDF-AllegroGraph-Easy-0.08-Az_Ibm/blib/lib/RDF/AllegroGraph/Repository.pm line 167.
when is experimental at /tmpfs/.cpan-build/2015121315/RDF-AllegroGraph-Easy-0.08-Az_Ibm/blib/lib/RDF/AllegroGraph/Repository.pm line 168.
when is experimental at /tmpfs/.cpan-build/2015121315/RDF-AllegroGraph-Easy-0.08-Az_Ibm/blib/lib/RDF/AllegroGraph/Repository.pm line 173.
when is experimental at /tmpfs/.cpan-build/2015121315/RDF-AllegroGraph-Easy-0.08-Az_Ibm/blib/lib/RDF/AllegroGraph/Repository.pm line 179.
given is experimental at /tmpfs/.cpan-build/2015121315/RDF-AllegroGraph-Easy-0.08-Az_Ibm/blib/lib/RDF/AllegroGraph/Repository.pm line 207.
when is experimental at /tmpfs/.cpan-build/2015121315/RDF-AllegroGraph-Easy-0.08-Az_Ibm/blib/lib/RDF/AllegroGraph/Repository.pm line 208.
when is experimental at /tmpfs/.cpan-build/2015121315/RDF-AllegroGraph-Easy-0.08-Az_Ibm/blib/lib/RDF/AllegroGraph/Repository.pm line 209.
when is experimental at /tmpfs/.cpan-build/2015121315/RDF-AllegroGraph-Easy-0.08-Az_Ibm/blib/lib/RDF/AllegroGraph/Repository.pm line 210.
when is experimental at /tmpfs/.cpan-build/2015121315/RDF-AllegroGraph-Easy-0.08-Az_Ibm/blib/lib/RDF/AllegroGraph/Repository.pm line 211.
given is experimental at /tmpfs/.cpan-build/2015121315/RDF-AllegroGraph-Easy-0.08-Az_Ibm/blib/lib/RDF/AllegroGraph/Repository3.pm line 83.
when is experimental at /tmpfs/.cpan-build/2015121315/RDF-AllegroGraph-Easy-0.08-Az_Ibm/blib/lib/RDF/AllegroGraph/Repository3.pm line 84.
when is experimental at /tmpfs/.cpan-build/2015121315/RDF-AllegroGraph-Easy-0.08-Az_Ibm/blib/lib/RDF/AllegroGraph/Repository3.pm line 89.
when is experimental at /tmpfs/.cpan-build/2015121315/RDF-AllegroGraph-Easy-0.08-Az_Ibm/blib/lib/RDF/AllegroGraph/Repository3.pm line 95.
given is experimental at /tmpfs/.cpan-build/2015121315/RDF-AllegroGraph-Easy-0.08-Az_Ibm/blib/lib/RDF/AllegroGraph/Repository3.pm line 123.
when is experimental at /tmpfs/.cpan-build/2015121315/RDF-AllegroGraph-Easy-0.08-Az_Ibm/blib/lib/RDF/AllegroGraph/Repository3.pm line 124.
when is experimental at /tmpfs/.cpan-build/2015121315/RDF-AllegroGraph-Easy-0.08-Az_Ibm/blib/lib/RDF/AllegroGraph/Repository3.pm line 125.
when is experimental at /tmpfs/.cpan-build/2015121315/RDF-AllegroGraph-Easy-0.08-Az_Ibm/blib/lib/RDF/AllegroGraph/Repository3.pm line 126.
when is experimental at /tmpfs/.cpan-build/2015121315/RDF-AllegroGraph-Easy-0.08-Az_Ibm/blib/lib/RDF/AllegroGraph/Repository3.pm line 127.
given is experimental at /tmpfs/.cpan-build/2015121315/RDF-AllegroGraph-Easy-0.08-Az_Ibm/blib/lib/RDF/AllegroGraph/Repository3.pm line 185.
when is experimental at /tmpfs/.cpan-build/2015121315/RDF-AllegroGraph-Easy-0.08-Az_Ibm/blib/lib/RDF/AllegroGraph/Repository3.pm line 186.
given is experimental at /tmpfs/.cpan-build/2015121315/RDF-AllegroGraph-Easy-0.08-Az_Ibm/blib/lib/RDF/AllegroGraph/Session4.pm line 123.
when is experimental at /tmpfs/.cpan-build/2015121315/RDF-AllegroGraph-Easy-0.08-Az_Ibm/blib/lib/RDF/AllegroGraph/Session4.pm line 124.
when is experimental at /tmpfs/.cpan-build/2015121315/RDF-AllegroGraph-Easy-0.08-Az_Ibm/blib/lib/RDF/AllegroGraph/Session4.pm line 127.
when is experimental at /tmpfs/.cpan-build/2015121315/RDF-AllegroGraph-Easy-0.08-Az_Ibm/blib/lib/RDF/AllegroGraph/Session4.pm line 130.
given is experimental at /tmpfs/.cpan-build/2015121315/RDF-AllegroGraph-Easy-0.08-Az_Ibm/blib/lib/RDF/AllegroGraph/Repository4.pm line 257.
when is experimental at /tmpfs/.cpan-build/2015121315/RDF-AllegroGraph-Easy-0.08-Az_Ibm/blib/lib/RDF/AllegroGraph/Repository4.pm line 258.
when is experimental at /tmpfs/.cpan-build/2015121315/RDF-AllegroGraph-Easy-0.08-Az_Ibm/blib/lib/RDF/AllegroGraph/Repository4.pm line 263.
when is experimental at /tmpfs/.cpan-build/2015121315/RDF-AllegroGraph-Easy-0.08-Az_Ibm/blib/lib/RDF/AllegroGraph/Repository4.pm line 269.
given is experimental at /tmpfs/.cpan-build/2015121315/RDF-AllegroGraph-Easy-0.08-Az_Ibm/blib/lib/RDF/AllegroGraph/Repository4.pm line 297.
when is experimental at /tmpfs/.cpan-build/2015121315/RDF-AllegroGraph-Easy-0.08-Az_Ibm/blib/lib/RDF/AllegroGraph/Repository4.pm line 298.
when is experimental at /tmpfs/.cpan-build/2015121315/RDF-AllegroGraph-Easy-0.08-Az_Ibm/blib/lib/RDF/AllegroGraph/Repository4.pm line 299.
when is experimental at /tmpfs/.cpan-build/2015121315/RDF-AllegroGraph-Easy-0.08-Az_Ibm/blib/lib/RDF/AllegroGraph/Repository4.pm line 300.
when is experimental at /tmpfs/.cpan-build/2015121315/RDF-AllegroGraph-Easy-0.08-Az_Ibm/blib/lib/RDF/AllegroGraph/Repository4.pm line 301.
given is experimental at /tmpfs/.cpan-build/2015121315/RDF-AllegroGraph-Easy-0.08-Az_Ibm/blib/lib/RDF/AllegroGraph/Repository4.pm line 436.
when is experimental at /tmpfs/.cpan-build/2015121315/RDF-AllegroGraph-Easy-0.08-Az_Ibm/blib/lib/RDF/AllegroGraph/Repository4.pm line 437.
t/01_server.t .......... ok
given is experimental at /tmpfs/.cpan-build/2015121315/RDF-AllegroGraph-Easy-0.08-Az_Ibm/blib/lib/RDF/AllegroGraph/Repository.pm line 167.
when is experimental at /tmpfs/.cpan-build/2015121315/RDF-AllegroGraph-Easy-0.08-Az_Ibm/blib/lib/RDF/AllegroGraph/Repository.pm line 168.
when is experimental at /tmpfs/.cpan-build/2015121315/RDF-AllegroGraph-Easy-0.08-Az_Ibm/blib/lib/RDF/AllegroGraph/Repository.pm line 173.
when is experimental at /tmpfs/.cpan-build/2015121315/RDF-AllegroGraph-Easy-0.08-Az_Ibm/blib/lib/RDF/AllegroGraph/Repository.pm line 179.
given is experimental at /tmpfs/.cpan-build/2015121315/RDF-AllegroGraph-Easy-0.08-Az_Ibm/blib/lib/RDF/AllegroGraph/Repository.pm line 207.
when is experimental at /tmpfs/.cpan-build/2015121315/RDF-AllegroGraph-Easy-0.08-Az_Ibm/blib/lib/RDF/AllegroGraph/Repository.pm line 208.
when is experimental at /tmpfs/.cpan-build/2015121315/RDF-AllegroGraph-Easy-0.08-Az_Ibm/blib/lib/RDF/AllegroGraph/Repository.pm line 209.
when is experimental at /tmpfs/.cpan-build/2015121315/RDF-AllegroGraph-Easy-0.08-Az_Ibm/blib/lib/RDF/AllegroGraph/Repository.pm line 210.
when is experimental at /tmpfs/.cpan-build/2015121315/RDF-AllegroGraph-Easy-0.08-Az_Ibm/blib/lib/RDF/AllegroGraph/Repository.pm line 211.
given is experimental at /tmpfs/.cpan-build/2015121315/RDF-AllegroGraph-Easy-0.08-Az_Ibm/blib/lib/RDF/AllegroGraph/Repository3.pm line 83.
when is experimental at /tmpfs/.cpan-build/2015121315/RDF-AllegroGraph-Easy-0.08-Az_Ibm/blib/lib/RDF/AllegroGraph/Repository3.pm line 84.
when is experimental at /tmpfs/.cpan-build/2015121315/RDF-AllegroGraph-Easy-0.08-Az_Ibm/blib/lib/RDF/AllegroGraph/Repository3.pm line 89.
when is experimental at /tmpfs/.cpan-build/2015121315/RDF-AllegroGraph-Easy-0.08-Az_Ibm/blib/lib/RDF/AllegroGraph/Repository3.pm line 95.
given is experimental at /tmpfs/.cpan-build/2015121315/RDF-AllegroGraph-Easy-0.08-Az_Ibm/blib/lib/RDF/AllegroGraph/Repository3.pm line 123.
when is experimental at /tmpfs/.cpan-build/2015121315/RDF-AllegroGraph-Easy-0.08-Az_Ibm/blib/lib/RDF/AllegroGraph/Repository3.pm line 124.
when is experimental at /tmpfs/.cpan-build/2015121315/RDF-AllegroGraph-Easy-0.08-Az_Ibm/blib/lib/RDF/AllegroGraph/Repository3.pm line 125.
when is experimental at /tmpfs/.cpan-build/2015121315/RDF-AllegroGraph-Easy-0.08-Az_Ibm/blib/lib/RDF/AllegroGraph/Repository3.pm line 126.
when is experimental at /tmpfs/.cpan-build/2015121315/RDF-AllegroGraph-Easy-0.08-Az_Ibm/blib/lib/RDF/AllegroGraph/Repository3.pm line 127.
given is experimental at /tmpfs/.cpan-build/2015121315/RDF-AllegroGraph-Easy-0.08-Az_Ibm/blib/lib/RDF/AllegroGraph/Repository3.pm line 185.
when is experimental at /tmpfs/.cpan-build/2015121315/RDF-AllegroGraph-Easy-0.08-Az_Ibm/blib/lib/RDF/AllegroGraph/Repository3.pm line 186.
given is experimental at /tmpfs/.cpan-build/2015121315/RDF-AllegroGraph-Easy-0.08-Az_Ibm/blib/lib/RDF/AllegroGraph/Session4.pm line 123.
when is experimental at /tmpfs/.cpan-build/2015121315/RDF-AllegroGraph-Easy-0.08-Az_Ibm/blib/lib/RDF/AllegroGraph/Session4.pm line 124.
when is experimental at /tmpfs/.cpan-build/2015121315/RDF-AllegroGraph-Easy-0.08-Az_Ibm/blib/lib/RDF/AllegroGraph/Session4.pm line 127.
when is experimental at /tmpfs/.cpan-build/2015121315/RDF-AllegroGraph-Easy-0.08-Az_Ibm/blib/lib/RDF/AllegroGraph/Session4.pm line 130.
given is experimental at /tmpfs/.cpan-build/2015121315/RDF-AllegroGraph-Easy-0.08-Az_Ibm/blib/lib/RDF/AllegroGraph/Repository4.pm line 257.
when is experimental at /tmpfs/.cpan-build/2015121315/RDF-AllegroGraph-Easy-0.08-Az_Ibm/blib/lib/RDF/AllegroGraph/Repository4.pm line 258.
when is experimental at /tmpfs/.cpan-build/2015121315/RDF-AllegroGraph-Easy-0.08-Az_Ibm/blib/lib/RDF/AllegroGraph/Repository4.pm line 263.
when is experimental at /tmpfs/.cpan-build/2015121315/RDF-AllegroGraph-Easy-0.08-Az_Ibm/blib/lib/RDF/AllegroGraph/Repository4.pm line 269.
given is experimental at /tmpfs/.cpan-build/2015121315/RDF-AllegroGraph-Easy-0.08-Az_Ibm/blib/lib/RDF/AllegroGraph/Repository4.pm line 297.
when is experimental at /tmpfs/.cpan-build/2015121315/RDF-AllegroGraph-Easy-0.08-Az_Ibm/blib/lib/RDF/AllegroGraph/Repository4.pm line 298.
when is experimental at /tmpfs/.cpan-build/2015121315/RDF-AllegroGraph-Easy-0.08-Az_Ibm/blib/lib/RDF/AllegroGraph/Repository4.pm line 299.
when is experimental at /tmpfs/.cpan-build/2015121315/RDF-AllegroGraph-Easy-0.08-Az_Ibm/blib/lib/RDF/AllegroGraph/Repository4.pm line 300.
when is experimental at /tmpfs/.cpan-build/2015121315/RDF-AllegroGraph-Easy-0.08-Az_Ibm/blib/lib/RDF/AllegroGraph/Repository4.pm line 301.
given is experimental at /tmpfs/.cpan-build/2015121315/RDF-AllegroGraph-Easy-0.08-Az_Ibm/blib/lib/RDF/AllegroGraph/Repository4.pm line 436.
when is experimental at /tmpfs/.cpan-build/2015121315/RDF-AllegroGraph-Easy-0.08-Az_Ibm/blib/lib/RDF/AllegroGraph/Repository4.pm line 437.
t/pod-coverage.t ....... ok
t/pod.t ................ ok
given is experimental at /tmpfs/.cpan-build/2015121315/RDF-AllegroGraph-Easy-0.08-Az_Ibm/blib/lib/RDF/AllegroGraph/Repository.pm line 167.
when is experimental at /tmpfs/.cpan-build/2015121315/RDF-AllegroGraph-Easy-0.08-Az_Ibm/blib/lib/RDF/AllegroGraph/Repository.pm line 168.
when is experimental at /tmpfs/.cpan-build/2015121315/RDF-AllegroGraph-Easy-0.08-Az_Ibm/blib/lib/RDF/AllegroGraph/Repository.pm line 173.
when is experimental at /tmpfs/.cpan-build/2015121315/RDF-AllegroGraph-Easy-0.08-Az_Ibm/blib/lib/RDF/AllegroGraph/Repository.pm line 179.
given is experimental at /tmpfs/.cpan-build/2015121315/RDF-AllegroGraph-Easy-0.08-Az_Ibm/blib/lib/RDF/AllegroGraph/Repository.pm line 207.
when is experimental at /tmpfs/.cpan-build/2015121315/RDF-AllegroGraph-Easy-0.08-Az_Ibm/blib/lib/RDF/AllegroGraph/Repository.pm line 208.
when is experimental at /tmpfs/.cpan-build/2015121315/RDF-AllegroGraph-Easy-0.08-Az_Ibm/blib/lib/RDF/AllegroGraph/Repository.pm line 209.
when is experimental at /tmpfs/.cpan-build/2015121315/RDF-AllegroGraph-Easy-0.08-Az_Ibm/blib/lib/RDF/AllegroGraph/Repository.pm line 210.
when is experimental at /tmpfs/.cpan-build/2015121315/RDF-AllegroGraph-Easy-0.08-Az_Ibm/blib/lib/RDF/AllegroGraph/Repository.pm line 211.
given is experimental at /tmpfs/.cpan-build/2015121315/RDF-AllegroGraph-Easy-0.08-Az_Ibm/blib/lib/RDF/AllegroGraph/Session4.pm line 123.
when is experimental at /tmpfs/.cpan-build/2015121315/RDF-AllegroGraph-Easy-0.08-Az_Ibm/blib/lib/RDF/AllegroGraph/Session4.pm line 124.
when is experimental at /tmpfs/.cpan-build/2015121315/RDF-AllegroGraph-Easy-0.08-Az_Ibm/blib/lib/RDF/AllegroGraph/Session4.pm line 127.
when is experimental at /tmpfs/.cpan-build/2015121315/RDF-AllegroGraph-Easy-0.08-Az_Ibm/blib/lib/RDF/AllegroGraph/Session4.pm line 130.
given is experimental at /tmpfs/.cpan-build/2015121315/RDF-AllegroGraph-Easy-0.08-Az_Ibm/blib/lib/RDF/AllegroGraph/Repository4.pm line 257.
when is experimental at /tmpfs/.cpan-build/2015121315/RDF-AllegroGraph-Easy-0.08-Az_Ibm/blib/lib/RDF/AllegroGraph/Repository4.pm line 258.
when is experimental at /tmpfs/.cpan-build/2015121315/RDF-AllegroGraph-Easy-0.08-Az_Ibm/blib/lib/RDF/AllegroGraph/Repository4.pm line 263.
when is experimental at /tmpfs/.cpan-build/2015121315/RDF-AllegroGraph-Easy-0.08-Az_Ibm/blib/lib/RDF/AllegroGraph/Repository4.pm line 269.
given is experimental at /tmpfs/.cpan-build/2015121315/RDF-AllegroGraph-Easy-0.08-Az_Ibm/blib/lib/RDF/AllegroGraph/Repository4.pm line 297.
when is experimental at /tmpfs/.cpan-build/2015121315/RDF-AllegroGraph-Easy-0.08-Az_Ibm/blib/lib/RDF/AllegroGraph/Repository4.pm line 298.
when is experimental at /tmpfs/.cpan-build/2015121315/RDF-AllegroGraph-Easy-0.08-Az_Ibm/blib/lib/RDF/AllegroGraph/Repository4.pm line 299.
when is experimental at /tmpfs/.cpan-build/2015121315/RDF-AllegroGraph-Easy-0.08-Az_Ibm/blib/lib/RDF/AllegroGraph/Repository4.pm line 300.
when is experimental at /tmpfs/.cpan-build/2015121315/RDF-AllegroGraph-Easy-0.08-Az_Ibm/blib/lib/RDF/AllegroGraph/Repository4.pm line 301.
given is experimental at /tmpfs/.cpan-build/2015121315/RDF-AllegroGraph-Easy-0.08-Az_Ibm/blib/lib/RDF/AllegroGraph/Repository4.pm line 436.
when is experimental at /tmpfs/.cpan-build/2015121315/RDF-AllegroGraph-Easy-0.08-Az_Ibm/blib/lib/RDF/AllegroGraph/Repository4.pm line 437.
given is experimental at /tmpfs/.cpan-build/2015121315/RDF-AllegroGraph-Easy-0.08-Az_Ibm/blib/lib/RDF/AllegroGraph/Repository3.pm line 83.
when is experimental at /tmpfs/.cpan-build/2015121315/RDF-AllegroGraph-Easy-0.08-Az_Ibm/blib/lib/RDF/AllegroGraph/Repository3.pm line 84.
when is experimental at /tmpfs/.cpan-build/2015121315/RDF-AllegroGraph-Easy-0.08-Az_Ibm/blib/lib/RDF/AllegroGraph/Repository3.pm line 89.
when is experimental at /tmpfs/.cpan-build/2015121315/RDF-AllegroGraph-Easy-0.08-Az_Ibm/blib/lib/RDF/AllegroGraph/Repository3.pm line 95.
given is experimental at /tmpfs/.cpan-build/2015121315/RDF-AllegroGraph-Easy-0.08-Az_Ibm/blib/lib/RDF/AllegroGraph/Repository3.pm line 123.
when is experimental at /tmpfs/.cpan-build/2015121315/RDF-AllegroGraph-Easy-0.08-Az_Ibm/blib/lib/RDF/AllegroGraph/Repository3.pm line 124.
when is experimental at /tmpfs/.cpan-build/2015121315/RDF-AllegroGraph-Easy-0.08-Az_Ibm/blib/lib/RDF/AllegroGraph/Repository3.pm line 125.
when is experimental at /tmpfs/.cpan-build/2015121315/RDF-AllegroGraph-Easy-0.08-Az_Ibm/blib/lib/RDF/AllegroGraph/Repository3.pm line 126.
when is experimental at /tmpfs/.cpan-build/2015121315/RDF-AllegroGraph-Easy-0.08-Az_Ibm/blib/lib/RDF/AllegroGraph/Repository3.pm line 127.
given is experimental at /tmpfs/.cpan-build/2015121315/RDF-AllegroGraph-Easy-0.08-Az_Ibm/blib/lib/RDF/AllegroGraph/Repository3.pm line 185.
when is experimental at /tmpfs/.cpan-build/2015121315/RDF-AllegroGraph-Easy-0.08-Az_Ibm/blib/lib/RDF/AllegroGraph/Repository3.pm line 186.
t/v3_01_catalog.t ...... ok
given is experimental at /tmpfs/.cpan-build/2015121315/RDF-AllegroGraph-Easy-0.08-Az_Ibm/blib/lib/RDF/AllegroGraph/Repository.pm line 167.
when is experimental at /tmpfs/.cpan-build/2015121315/RDF-AllegroGraph-Easy-0.08-Az_Ibm/blib/lib/RDF/AllegroGraph/Repository.pm line 168.
when is experimental at /tmpfs/.cpan-build/2015121315/RDF-AllegroGraph-Easy-0.08-Az_Ibm/blib/lib/RDF/AllegroGraph/Repository.pm line 173.
when is experimental at /tmpfs/.cpan-build/2015121315/RDF-AllegroGraph-Easy-0.08-Az_Ibm/blib/lib/RDF/AllegroGraph/Repository.pm line 179.
given is experimental at /tmpfs/.cpan-build/2015121315/RDF-AllegroGraph-Easy-0.08-Az_Ibm/blib/lib/RDF/AllegroGraph/Repository.pm line 207.
when is experimental at /tmpfs/.cpan-build/2015121315/RDF-AllegroGraph-Easy-0.08-Az_Ibm/blib/lib/RDF/AllegroGraph/Repository.pm line 208.
when is experimental at /tmpfs/.cpan-build/2015121315/RDF-AllegroGraph-Easy-0.08-Az_Ibm/blib/lib/RDF/AllegroGraph/Repository.pm line 209.
when is experimental at /tmpfs/.cpan-build/2015121315/RDF-AllegroGraph-Easy-0.08-Az_Ibm/blib/lib/RDF/AllegroGraph/Repository.pm line 210.
when is experimental at /tmpfs/.cpan-build/2015121315/RDF-AllegroGraph-Easy-0.08-Az_Ibm/blib/lib/RDF/AllegroGraph/Repository.pm line 211.
given is experimental at /tmpfs/.cpan-build/2015121315/RDF-AllegroGraph-Easy-0.08-Az_Ibm/blib/lib/RDF/AllegroGraph/Session4.pm line 123.
when is experimental at /tmpfs/.cpan-build/2015121315/RDF-AllegroGraph-Easy-0.08-Az_Ibm/blib/lib/RDF/AllegroGraph/Session4.pm line 124.
when is experimental at /tmpfs/.cpan-build/2015121315/RDF-AllegroGraph-Easy-0.08-Az_Ibm/blib/lib/RDF/AllegroGraph/Session4.pm line 127.
when is experimental at /tmpfs/.cpan-build/2015121315/RDF-AllegroGraph-Easy-0.08-Az_Ibm/blib/lib/RDF/AllegroGraph/Session4.pm line 130.
given is experimental at /tmpfs/.cpan-build/2015121315/RDF-AllegroGraph-Easy-0.08-Az_Ibm/blib/lib/RDF/AllegroGraph/Repository4.pm line 257.
when is experimental at /tmpfs/.cpan-build/2015121315/RDF-AllegroGraph-Easy-0.08-Az_Ibm/blib/lib/RDF/AllegroGraph/Repository4.pm line 258.
when is experimental at /tmpfs/.cpan-build/2015121315/RDF-AllegroGraph-Easy-0.08-Az_Ibm/blib/lib/RDF/AllegroGraph/Repository4.pm line 263.
when is experimental at /tmpfs/.cpan-build/2015121315/RDF-AllegroGraph-Easy-0.08-Az_Ibm/blib/lib/RDF/AllegroGraph/Repository4.pm line 269.
given is experimental at /tmpfs/.cpan-build/2015121315/RDF-AllegroGraph-Easy-0.08-Az_Ibm/blib/lib/RDF/AllegroGraph/Repository4.pm line 297.
when is experimental at /tmpfs/.cpan-build/2015121315/RDF-AllegroGraph-Easy-0.08-Az_Ibm/blib/lib/RDF/AllegroGraph/Repository4.pm line 298.
when is experimental at /tmpfs/.cpan-build/2015121315/RDF-AllegroGraph-Easy-0.08-Az_Ibm/blib/lib/RDF/AllegroGraph/Repository4.pm line 299.
when is experimental at /tmpfs/.cpan-build/2015121315/RDF-AllegroGraph-Easy-0.08-Az_Ibm/blib/lib/RDF/AllegroGraph/Repository4.pm line 300.
when is experimental at /tmpfs/.cpan-build/2015121315/RDF-AllegroGraph-Easy-0.08-Az_Ibm/blib/lib/RDF/AllegroGraph/Repository4.pm line 301.
given is experimental at /tmpfs/.cpan-build/2015121315/RDF-AllegroGraph-Easy-0.08-Az_Ibm/blib/lib/RDF/AllegroGraph/Repository4.pm line 436.
when is experimental at /tmpfs/.cpan-build/2015121315/RDF-AllegroGraph-Easy-0.08-Az_Ibm/blib/lib/RDF/AllegroGraph/Repository4.pm line 437.
given is experimental at /tmpfs/.cpan-build/2015121315/RDF-AllegroGraph-Easy-0.08-Az_Ibm/blib/lib/RDF/AllegroGraph/Repository3.pm line 83.
when is experimental at /tmpfs/.cpan-build/2015121315/RDF-AllegroGraph-Easy-0.08-Az_Ibm/blib/lib/RDF/AllegroGraph/Repository3.pm line 84.
when is experimental at /tmpfs/.cpan-build/2015121315/RDF-AllegroGraph-Easy-0.08-Az_Ibm/blib/lib/RDF/AllegroGraph/Repository3.pm line 89.
when is experimental at /tmpfs/.cpan-build/2015121315/RDF-AllegroGraph-Easy-0.08-Az_Ibm/blib/lib/RDF/AllegroGraph/Repository3.pm line 95.
given is experimental at /tmpfs/.cpan-build/2015121315/RDF-AllegroGraph-Easy-0.08-Az_Ibm/blib/lib/RDF/AllegroGraph/Repository3.pm line 123.
when is experimental at /tmpfs/.cpan-build/2015121315/RDF-AllegroGraph-Easy-0.08-Az_Ibm/blib/lib/RDF/AllegroGraph/Repository3.pm line 124.
when is experimental at /tmpfs/.cpan-build/2015121315/RDF-AllegroGraph-Easy-0.08-Az_Ibm/blib/lib/RDF/AllegroGraph/Repository3.pm line 125.
when is experimental at /tmpfs/.cpan-build/2015121315/RDF-AllegroGraph-Easy-0.08-Az_Ibm/blib/lib/RDF/AllegroGraph/Repository3.pm line 126.
when is experimental at /tmpfs/.cpan-build/2015121315/RDF-AllegroGraph-Easy-0.08-Az_Ibm/blib/lib/RDF/AllegroGraph/Repository3.pm line 127.
given is experimental at /tmpfs/.cpan-build/2015121315/RDF-AllegroGraph-Easy-0.08-Az_Ibm/blib/lib/RDF/AllegroGraph/Repository3.pm line 185.
when is experimental at /tmpfs/.cpan-build/2015121315/RDF-AllegroGraph-Easy-0.08-Az_Ibm/blib/lib/RDF/AllegroGraph/Repository3.pm line 186.
t/v3_02_repos.t ........ ok
given is experimental at /tmpfs/.cpan-build/2015121315/RDF-AllegroGraph-Easy-0.08-Az_Ibm/blib/lib/RDF/AllegroGraph/Repository.pm line 167.
when is experimental at /tmpfs/.cpan-build/2015121315/RDF-AllegroGraph-Easy-0.08-Az_Ibm/blib/lib/RDF/AllegroGraph/Repository.pm line 168.
when is experimental at /tmpfs/.cpan-build/2015121315/RDF-AllegroGraph-Easy-0.08-Az_Ibm/blib/lib/RDF/AllegroGraph/Repository.pm line 173.
when is experimental at /tmpfs/.cpan-build/2015121315/RDF-AllegroGraph-Easy-0.08-Az_Ibm/blib/lib/RDF/AllegroGraph/Repository.pm line 179.
given is experimental at /tmpfs/.cpan-build/2015121315/RDF-AllegroGraph-Easy-0.08-Az_Ibm/blib/lib/RDF/AllegroGraph/Repository.pm line 207.
when is experimental at /tmpfs/.cpan-build/2015121315/RDF-AllegroGraph-Easy-0.08-Az_Ibm/blib/lib/RDF/AllegroGraph/Repository.pm line 208.
when is experimental at /tmpfs/.cpan-build/2015121315/RDF-AllegroGraph-Easy-0.08-Az_Ibm/blib/lib/RDF/AllegroGraph/Repository.pm line 209.
when is experimental at /tmpfs/.cpan-build/2015121315/RDF-AllegroGraph-Easy-0.08-Az_Ibm/blib/lib/RDF/AllegroGraph/Repository.pm line 210.
when is experimental at /tmpfs/.cpan-build/2015121315/RDF-AllegroGraph-Easy-0.08-Az_Ibm/blib/lib/RDF/AllegroGraph/Repository.pm line 211.
given is experimental at /tmpfs/.cpan-build/2015121315/RDF-AllegroGraph-Easy-0.08-Az_Ibm/blib/lib/RDF/AllegroGraph/Repository3.pm line 83.
when is experimental at /tmpfs/.cpan-build/2015121315/RDF-AllegroGraph-Easy-0.08-Az_Ibm/blib/lib/RDF/AllegroGraph/Repository3.pm line 84.
when is experimental at /tmpfs/.cpan-build/2015121315/RDF-AllegroGraph-Easy-0.08-Az_Ibm/blib/lib/RDF/AllegroGraph/Repository3.pm line 89.
when is experimental at /tmpfs/.cpan-build/2015121315/RDF-AllegroGraph-Easy-0.08-Az_Ibm/blib/lib/RDF/AllegroGraph/Repository3.pm line 95.
given is experimental at /tmpfs/.cpan-build/2015121315/RDF-AllegroGraph-Easy-0.08-Az_Ibm/blib/lib/RDF/AllegroGraph/Repository3.pm line 123.
when is experimental at /tmpfs/.cpan-build/2015121315/RDF-AllegroGraph-Easy-0.08-Az_Ibm/blib/lib/RDF/AllegroGraph/Repository3.pm line 124.
when is experimental at /tmpfs/.cpan-build/2015121315/RDF-AllegroGraph-Easy-0.08-Az_Ibm/blib/lib/RDF/AllegroGraph/Repository3.pm line 125.
when is experimental at /tmpfs/.cpan-build/2015121315/RDF-AllegroGraph-Easy-0.08-Az_Ibm/blib/lib/RDF/AllegroGraph/Repository3.pm line 126.
when is experimental at /tmpfs/.cpan-build/2015121315/RDF-AllegroGraph-Easy-0.08-Az_Ibm/blib/lib/RDF/AllegroGraph/Repository3.pm line 127.
given is experimental at /tmpfs/.cpan-build/2015121315/RDF-AllegroGraph-Easy-0.08-Az_Ibm/blib/lib/RDF/AllegroGraph/Repository3.pm line 185.
when is experimental at /tmpfs/.cpan-build/2015121315/RDF-AllegroGraph-Easy-0.08-Az_Ibm/blib/lib/RDF/AllegroGraph/Repository3.pm line 186.
given is experimental at /tmpfs/.cpan-build/2015121315/RDF-AllegroGraph-Easy-0.08-Az_Ibm/blib/lib/RDF/AllegroGraph/Session4.pm line 123.
when is experimental at /tmpfs/.cpan-build/2015121315/RDF-AllegroGraph-Easy-0.08-Az_Ibm/blib/lib/RDF/AllegroGraph/Session4.pm line 124.
when is experimental at /tmpfs/.cpan-build/2015121315/RDF-AllegroGraph-Easy-0.08-Az_Ibm/blib/lib/RDF/AllegroGraph/Session4.pm line 127.
when is experimental at /tmpfs/.cpan-build/2015121315/RDF-AllegroGraph-Easy-0.08-Az_Ibm/blib/lib/RDF/AllegroGraph/Session4.pm line 130.
given is experimental at /tmpfs/.cpan-build/2015121315/RDF-AllegroGraph-Easy-0.08-Az_Ibm/blib/lib/RDF/AllegroGraph/Repository4.pm line 257.
when is experimental at /tmpfs/.cpan-build/2015121315/RDF-AllegroGraph-Easy-0.08-Az_Ibm/blib/lib/RDF/AllegroGraph/Repository4.pm line 258.
when is experimental at /tmpfs/.cpan-build/2015121315/RDF-AllegroGraph-Easy-0.08-Az_Ibm/blib/lib/RDF/AllegroGraph/Repository4.pm line 263.
when is experimental at /tmpfs/.cpan-build/2015121315/RDF-AllegroGraph-Easy-0.08-Az_Ibm/blib/lib/RDF/AllegroGraph/Repository4.pm line 269.
given is experimental at /tmpfs/.cpan-build/2015121315/RDF-AllegroGraph-Easy-0.08-Az_Ibm/blib/lib/RDF/AllegroGraph/Repository4.pm line 297.
when is experimental at /tmpfs/.cpan-build/2015121315/RDF-AllegroGraph-Easy-0.08-Az_Ibm/blib/lib/RDF/AllegroGraph/Repository4.pm line 298.
when is experimental at /tmpfs/.cpan-build/2015121315/RDF-AllegroGraph-Easy-0.08-Az_Ibm/blib/lib/RDF/AllegroGraph/Repository4.pm line 299.
when is experimental at /tmpfs/.cpan-build/2015121315/RDF-AllegroGraph-Easy-0.08-Az_Ibm/blib/lib/RDF/AllegroGraph/Repository4.pm line 300.
when is experimental at /tmpfs/.cpan-build/2015121315/RDF-AllegroGraph-Easy-0.08-Az_Ibm/blib/lib/RDF/AllegroGraph/Repository4.pm line 301.
given is experimental at /tmpfs/.cpan-build/2015121315/RDF-AllegroGraph-Easy-0.08-Az_Ibm/blib/lib/RDF/AllegroGraph/Repository4.pm line 436.
when is experimental at /tmpfs/.cpan-build/2015121315/RDF-AllegroGraph-Easy-0.08-Az_Ibm/blib/lib/RDF/AllegroGraph/Repository4.pm line 437.
t/v3_03_geo.t .......... ok
given is experimental at /tmpfs/.cpan-build/2015121315/RDF-AllegroGraph-Easy-0.08-Az_Ibm/blib/lib/RDF/AllegroGraph/Repository.pm line 167.
when is experimental at /tmpfs/.cpan-build/2015121315/RDF-AllegroGraph-Easy-0.08-Az_Ibm/blib/lib/RDF/AllegroGraph/Repository.pm line 168.
when is experimental at /tmpfs/.cpan-build/2015121315/RDF-AllegroGraph-Easy-0.08-Az_Ibm/blib/lib/RDF/AllegroGraph/Repository.pm line 173.
when is experimental at /tmpfs/.cpan-build/2015121315/RDF-AllegroGraph-Easy-0.08-Az_Ibm/blib/lib/RDF/AllegroGraph/Repository.pm line 179.
given is experimental at /tmpfs/.cpan-build/2015121315/RDF-AllegroGraph-Easy-0.08-Az_Ibm/blib/lib/RDF/AllegroGraph/Repository.pm line 207.
when is experimental at /tmpfs/.cpan-build/2015121315/RDF-AllegroGraph-Easy-0.08-Az_Ibm/blib/lib/RDF/AllegroGraph/Repository.pm line 208.
when is experimental at /tmpfs/.cpan-build/2015121315/RDF-AllegroGraph-Easy-0.08-Az_Ibm/blib/lib/RDF/AllegroGraph/Repository.pm line 209.
when is experimental at /tmpfs/.cpan-build/2015121315/RDF-AllegroGraph-Easy-0.08-Az_Ibm/blib/lib/RDF/AllegroGraph/Repository.pm line 210.
when is experimental at /tmpfs/.cpan-build/2015121315/RDF-AllegroGraph-Easy-0.08-Az_Ibm/blib/lib/RDF/AllegroGraph/Repository.pm line 211.
given is experimental at /tmpfs/.cpan-build/2015121315/RDF-AllegroGraph-Easy-0.08-Az_Ibm/blib/lib/RDF/AllegroGraph/Repository3.pm line 83.
when is experimental at /tmpfs/.cpan-build/2015121315/RDF-AllegroGraph-Easy-0.08-Az_Ibm/blib/lib/RDF/AllegroGraph/Repository3.pm line 84.
when is experimental at /tmpfs/.cpan-build/2015121315/RDF-AllegroGraph-Easy-0.08-Az_Ibm/blib/lib/RDF/AllegroGraph/Repository3.pm line 89.
when is experimental at /tmpfs/.cpan-build/2015121315/RDF-AllegroGraph-Easy-0.08-Az_Ibm/blib/lib/RDF/AllegroGraph/Repository3.pm line 95.
given is experimental at /tmpfs/.cpan-build/2015121315/RDF-AllegroGraph-Easy-0.08-Az_Ibm/blib/lib/RDF/AllegroGraph/Repository3.pm line 123.
when is experimental at /tmpfs/.cpan-build/2015121315/RDF-AllegroGraph-Easy-0.08-Az_Ibm/blib/lib/RDF/AllegroGraph/Repository3.pm line 124.
when is experimental at /tmpfs/.cpan-build/2015121315/RDF-AllegroGraph-Easy-0.08-Az_Ibm/blib/lib/RDF/AllegroGraph/Repository3.pm line 125.
when is experimental at /tmpfs/.cpan-build/2015121315/RDF-AllegroGraph-Easy-0.08-Az_Ibm/blib/lib/RDF/AllegroGraph/Repository3.pm line 126.
when is experimental at /tmpfs/.cpan-build/2015121315/RDF-AllegroGraph-Easy-0.08-Az_Ibm/blib/lib/RDF/AllegroGraph/Repository3.pm line 127.
given is experimental at /tmpfs/.cpan-build/2015121315/RDF-AllegroGraph-Easy-0.08-Az_Ibm/blib/lib/RDF/AllegroGraph/Repository3.pm line 185.
when is experimental at /tmpfs/.cpan-build/2015121315/RDF-AllegroGraph-Easy-0.08-Az_Ibm/blib/lib/RDF/AllegroGraph/Repository3.pm line 186.
given is experimental at /tmpfs/.cpan-build/2015121315/RDF-AllegroGraph-Easy-0.08-Az_Ibm/blib/lib/RDF/AllegroGraph/Session4.pm line 123.
when is experimental at /tmpfs/.cpan-build/2015121315/RDF-AllegroGraph-Easy-0.08-Az_Ibm/blib/lib/RDF/AllegroGraph/Session4.pm line 124.
when is experimental at /tmpfs/.cpan-build/2015121315/RDF-AllegroGraph-Easy-0.08-Az_Ibm/blib/lib/RDF/AllegroGraph/Session4.pm line 127.
when is experimental at /tmpfs/.cpan-build/2015121315/RDF-AllegroGraph-Easy-0.08-Az_Ibm/blib/lib/RDF/AllegroGraph/Session4.pm line 130.
given is experimental at /tmpfs/.cpan-build/2015121315/RDF-AllegroGraph-Easy-0.08-Az_Ibm/blib/lib/RDF/AllegroGraph/Repository4.pm line 257.
when is experimental at /tmpfs/.cpan-build/2015121315/RDF-AllegroGraph-Easy-0.08-Az_Ibm/blib/lib/RDF/AllegroGraph/Repository4.pm line 258.
when is experimental at /tmpfs/.cpan-build/2015121315/RDF-AllegroGraph-Easy-0.08-Az_Ibm/blib/lib/RDF/AllegroGraph/Repository4.pm line 263.
when is experimental at /tmpfs/.cpan-build/2015121315/RDF-AllegroGraph-Easy-0.08-Az_Ibm/blib/lib/RDF/AllegroGraph/Repository4.pm line 269.
given is experimental at /tmpfs/.cpan-build/2015121315/RDF-AllegroGraph-Easy-0.08-Az_Ibm/blib/lib/RDF/AllegroGraph/Repository4.pm line 297.
when is experimental at /tmpfs/.cpan-build/2015121315/RDF-AllegroGraph-Easy-0.08-Az_Ibm/blib/lib/RDF/AllegroGraph/Repository4.pm line 298.
when is experimental at /tmpfs/.cpan-build/2015121315/RDF-AllegroGraph-Easy-0.08-Az_Ibm/blib/lib/RDF/AllegroGraph/Repository4.pm line 299.
when is experimental at /tmpfs/.cpan-build/2015121315/RDF-AllegroGraph-Easy-0.08-Az_Ibm/blib/lib/RDF/AllegroGraph/Repository4.pm line 300.
when is experimental at /tmpfs/.cpan-build/2015121315/RDF-AllegroGraph-Easy-0.08-Az_Ibm/blib/lib/RDF/AllegroGraph/Repository4.pm line 301.
given is experimental at /tmpfs/.cpan-build/2015121315/RDF-AllegroGraph-Easy-0.08-Az_Ibm/blib/lib/RDF/AllegroGraph/Repository4.pm line 436.
when is experimental at /tmpfs/.cpan-build/2015121315/RDF-AllegroGraph-Easy-0.08-Az_Ibm/blib/lib/RDF/AllegroGraph/Repository4.pm line 437.
t/v3_03_namespaces.t ... ok
given is experimental at /tmpfs/.cpan-build/2015121315/RDF-AllegroGraph-Easy-0.08-Az_Ibm/blib/lib/RDF/AllegroGraph/Repository.pm line 167.
when is experimental at /tmpfs/.cpan-build/2015121315/RDF-AllegroGraph-Easy-0.08-Az_Ibm/blib/lib/RDF/AllegroGraph/Repository.pm line 168.
when is experimental at /tmpfs/.cpan-build/2015121315/RDF-AllegroGraph-Easy-0.08-Az_Ibm/blib/lib/RDF/AllegroGraph/Repository.pm line 173.
when is experimental at /tmpfs/.cpan-build/2015121315/RDF-AllegroGraph-Easy-0.08-Az_Ibm/blib/lib/RDF/AllegroGraph/Repository.pm line 179.
given is experimental at /tmpfs/.cpan-build/2015121315/RDF-AllegroGraph-Easy-0.08-Az_Ibm/blib/lib/RDF/AllegroGraph/Repository.pm line 207.
when is experimental at /tmpfs/.cpan-build/2015121315/RDF-AllegroGraph-Easy-0.08-Az_Ibm/blib/lib/RDF/AllegroGraph/Repository.pm line 208.
when is experimental at /tmpfs/.cpan-build/2015121315/RDF-AllegroGraph-Easy-0.08-Az_Ibm/blib/lib/RDF/AllegroGraph/Repository.pm line 209.
when is experimental at /tmpfs/.cpan-build/2015121315/RDF-AllegroGraph-Easy-0.08-Az_Ibm/blib/lib/RDF/AllegroGraph/Repository.pm line 210.
when is experimental at /tmpfs/.cpan-build/2015121315/RDF-AllegroGraph-Easy-0.08-Az_Ibm/blib/lib/RDF/AllegroGraph/Repository.pm line 211.
given is experimental at /tmpfs/.cpan-build/2015121315/RDF-AllegroGraph-Easy-0.08-Az_Ibm/blib/lib/RDF/AllegroGraph/Repository3.pm line 83.
when is experimental at /tmpfs/.cpan-build/2015121315/RDF-AllegroGraph-Easy-0.08-Az_Ibm/blib/lib/RDF/AllegroGraph/Repository3.pm line 84.
when is experimental at /tmpfs/.cpan-build/2015121315/RDF-AllegroGraph-Easy-0.08-Az_Ibm/blib/lib/RDF/AllegroGraph/Repository3.pm line 89.
when is experimental at /tmpfs/.cpan-build/2015121315/RDF-AllegroGraph-Easy-0.08-Az_Ibm/blib/lib/RDF/AllegroGraph/Repository3.pm line 95.
given is experimental at /tmpfs/.cpan-build/2015121315/RDF-AllegroGraph-Easy-0.08-Az_Ibm/blib/lib/RDF/AllegroGraph/Repository3.pm line 123.
when is experimental at /tmpfs/.cpan-build/2015121315/RDF-AllegroGraph-Easy-0.08-Az_Ibm/blib/lib/RDF/AllegroGraph/Repository3.pm line 124.
when is experimental at /tmpfs/.cpan-build/2015121315/RDF-AllegroGraph-Easy-0.08-Az_Ibm/blib/lib/RDF/AllegroGraph/Repository3.pm line 125.
when is experimental at /tmpfs/.cpan-build/2015121315/RDF-AllegroGraph-Easy-0.08-Az_Ibm/blib/lib/RDF/AllegroGraph/Repository3.pm line 126.
when is experimental at /tmpfs/.cpan-build/2015121315/RDF-AllegroGraph-Easy-0.08-Az_Ibm/blib/lib/RDF/AllegroGraph/Repository3.pm line 127.
given is experimental at /tmpfs/.cpan-build/2015121315/RDF-AllegroGraph-Easy-0.08-Az_Ibm/blib/lib/RDF/AllegroGraph/Repository3.pm line 185.
when is experimental at /tmpfs/.cpan-build/2015121315/RDF-AllegroGraph-Easy-0.08-Az_Ibm/blib/lib/RDF/AllegroGraph/Repository3.pm line 186.
given is experimental at /tmpfs/.cpan-build/2015121315/RDF-AllegroGraph-Easy-0.08-Az_Ibm/blib/lib/RDF/AllegroGraph/Session4.pm line 123.
when is experimental at /tmpfs/.cpan-build/2015121315/RDF-AllegroGraph-Easy-0.08-Az_Ibm/blib/lib/RDF/AllegroGraph/Session4.pm line 124.
when is experimental at /tmpfs/.cpan-build/2015121315/RDF-AllegroGraph-Easy-0.08-Az_Ibm/blib/lib/RDF/AllegroGraph/Session4.pm line 127.
when is experimental at /tmpfs/.cpan-build/2015121315/RDF-AllegroGraph-Easy-0.08-Az_Ibm/blib/lib/RDF/AllegroGraph/Session4.pm line 130.
given is experimental at /tmpfs/.cpan-build/2015121315/RDF-AllegroGraph-Easy-0.08-Az_Ibm/blib/lib/RDF/AllegroGraph/Repository4.pm line 257.
when is experimental at /tmpfs/.cpan-build/2015121315/RDF-AllegroGraph-Easy-0.08-Az_Ibm/blib/lib/RDF/AllegroGraph/Repository4.pm line 258.
when is experimental at /tmpfs/.cpan-build/2015121315/RDF-AllegroGraph-Easy-0.08-Az_Ibm/blib/lib/RDF/AllegroGraph/Repository4.pm line 263.
when is experimental at /tmpfs/.cpan-build/2015121315/RDF-AllegroGraph-Easy-0.08-Az_Ibm/blib/lib/RDF/AllegroGraph/Repository4.pm line 269.
given is experimental at /tmpfs/.cpan-build/2015121315/RDF-AllegroGraph-Easy-0.08-Az_Ibm/blib/lib/RDF/AllegroGraph/Repository4.pm line 297.
when is experimental at /tmpfs/.cpan-build/2015121315/RDF-AllegroGraph-Easy-0.08-Az_Ibm/blib/lib/RDF/AllegroGraph/Repository4.pm line 298.
when is experimental at /tmpfs/.cpan-build/2015121315/RDF-AllegroGraph-Easy-0.08-Az_Ibm/blib/lib/RDF/AllegroGraph/Repository4.pm line 299.
when is experimental at /tmpfs/.cpan-build/2015121315/RDF-AllegroGraph-Easy-0.08-Az_Ibm/blib/lib/RDF/AllegroGraph/Repository4.pm line 300.
when is experimental at /tmpfs/.cpan-build/2015121315/RDF-AllegroGraph-Easy-0.08-Az_Ibm/blib/lib/RDF/AllegroGraph/Repository4.pm line 301.
given is experimental at /tmpfs/.cpan-build/2015121315/RDF-AllegroGraph-Easy-0.08-Az_Ibm/blib/lib/RDF/AllegroGraph/Repository4.pm line 436.
when is experimental at /tmpfs/.cpan-build/2015121315/RDF-AllegroGraph-Easy-0.08-Az_Ibm/blib/lib/RDF/AllegroGraph/Repository4.pm line 437.
t/v3_04_easy.t ......... ok
given is experimental at /tmpfs/.cpan-build/2015121315/RDF-AllegroGraph-Easy-0.08-Az_Ibm/blib/lib/RDF/AllegroGraph/Repository.pm line 167.
when is experimental at /tmpfs/.cpan-build/2015121315/RDF-AllegroGraph-Easy-0.08-Az_Ibm/blib/lib/RDF/AllegroGraph/Repository.pm line 168.
when is experimental at /tmpfs/.cpan-build/2015121315/RDF-AllegroGraph-Easy-0.08-Az_Ibm/blib/lib/RDF/AllegroGraph/Repository.pm line 173.
when is experimental at /tmpfs/.cpan-build/2015121315/RDF-AllegroGraph-Easy-0.08-Az_Ibm/blib/lib/RDF/AllegroGraph/Repository.pm line 179.
given is experimental at /tmpfs/.cpan-build/2015121315/RDF-AllegroGraph-Easy-0.08-Az_Ibm/blib/lib/RDF/AllegroGraph/Repository.pm line 207.
when is experimental at /tmpfs/.cpan-build/2015121315/RDF-AllegroGraph-Easy-0.08-Az_Ibm/blib/lib/RDF/AllegroGraph/Repository.pm line 208.
when is experimental at /tmpfs/.cpan-build/2015121315/RDF-AllegroGraph-Easy-0.08-Az_Ibm/blib/lib/RDF/AllegroGraph/Repository.pm line 209.
when is experimental at /tmpfs/.cpan-build/2015121315/RDF-AllegroGraph-Easy-0.08-Az_Ibm/blib/lib/RDF/AllegroGraph/Repository.pm line 210.
when is experimental at /tmpfs/.cpan-build/2015121315/RDF-AllegroGraph-Easy-0.08-Az_Ibm/blib/lib/RDF/AllegroGraph/Repository.pm line 211.
given is experimental at /tmpfs/.cpan-build/2015121315/RDF-AllegroGraph-Easy-0.08-Az_Ibm/blib/lib/RDF/AllegroGraph/Repository3.pm line 83.
when is experimental at /tmpfs/.cpan-build/2015121315/RDF-AllegroGraph-Easy-0.08-Az_Ibm/blib/lib/RDF/AllegroGraph/Repository3.pm line 84.
when is experimental at /tmpfs/.cpan-build/2015121315/RDF-AllegroGraph-Easy-0.08-Az_Ibm/blib/lib/RDF/AllegroGraph/Repository3.pm line 89.
when is experimental at /tmpfs/.cpan-build/2015121315/RDF-AllegroGraph-Easy-0.08-Az_Ibm/blib/lib/RDF/AllegroGraph/Repository3.pm line 95.
given is experimental at /tmpfs/.cpan-build/2015121315/RDF-AllegroGraph-Easy-0.08-Az_Ibm/blib/lib/RDF/AllegroGraph/Repository3.pm line 123.
when is experimental at /tmpfs/.cpan-build/2015121315/RDF-AllegroGraph-Easy-0.08-Az_Ibm/blib/lib/RDF/AllegroGraph/Repository3.pm line 124.
when is experimental at /tmpfs/.cpan-build/2015121315/RDF-AllegroGraph-Easy-0.08-Az_Ibm/blib/lib/RDF/AllegroGraph/Repository3.pm line 125.
when is experimental at /tmpfs/.cpan-build/2015121315/RDF-AllegroGraph-Easy-0.08-Az_Ibm/blib/lib/RDF/AllegroGraph/Repository3.pm line 126.
when is experimental at /tmpfs/.cpan-build/2015121315/RDF-AllegroGraph-Easy-0.08-Az_Ibm/blib/lib/RDF/AllegroGraph/Repository3.pm line 127.
given is experimental at /tmpfs/.cpan-build/2015121315/RDF-AllegroGraph-Easy-0.08-Az_Ibm/blib/lib/RDF/AllegroGraph/Repository3.pm line 185.
when is experimental at /tmpfs/.cpan-build/2015121315/RDF-AllegroGraph-Easy-0.08-Az_Ibm/blib/lib/RDF/AllegroGraph/Repository3.pm line 186.
given is experimental at /tmpfs/.cpan-build/2015121315/RDF-AllegroGraph-Easy-0.08-Az_Ibm/blib/lib/RDF/AllegroGraph/Session4.pm line 123.
when is experimental at /tmpfs/.cpan-build/2015121315/RDF-AllegroGraph-Easy-0.08-Az_Ibm/blib/lib/RDF/AllegroGraph/Session4.pm line 124.
when is experimental at /tmpfs/.cpan-build/2015121315/RDF-AllegroGraph-Easy-0.08-Az_Ibm/blib/lib/RDF/AllegroGraph/Session4.pm line 127.
when is experimental at /tmpfs/.cpan-build/2015121315/RDF-AllegroGraph-Easy-0.08-Az_Ibm/blib/lib/RDF/AllegroGraph/Session4.pm line 130.
given is experimental at /tmpfs/.cpan-build/2015121315/RDF-AllegroGraph-Easy-0.08-Az_Ibm/blib/lib/RDF/AllegroGraph/Repository4.pm line 257.
when is experimental at /tmpfs/.cpan-build/2015121315/RDF-AllegroGraph-Easy-0.08-Az_Ibm/blib/lib/RDF/AllegroGraph/Repository4.pm line 258.
when is experimental at /tmpfs/.cpan-build/2015121315/RDF-AllegroGraph-Easy-0.08-Az_Ibm/blib/lib/RDF/AllegroGraph/Repository4.pm line 263.
when is experimental at /tmpfs/.cpan-build/2015121315/RDF-AllegroGraph-Easy-0.08-Az_Ibm/blib/lib/RDF/AllegroGraph/Repository4.pm line 269.
given is experimental at /tmpfs/.cpan-build/2015121315/RDF-AllegroGraph-Easy-0.08-Az_Ibm/blib/lib/RDF/AllegroGraph/Repository4.pm line 297.
when is experimental at /tmpfs/.cpan-build/2015121315/RDF-AllegroGraph-Easy-0.08-Az_Ibm/blib/lib/RDF/AllegroGraph/Repository4.pm line 298.
when is experimental at /tmpfs/.cpan-build/2015121315/RDF-AllegroGraph-Easy-0.08-Az_Ibm/blib/lib/RDF/AllegroGraph/Repository4.pm line 299.
when is experimental at /tmpfs/.cpan-build/2015121315/RDF-AllegroGraph-Easy-0.08-Az_Ibm/blib/lib/RDF/AllegroGraph/Repository4.pm line 300.
when is experimental at /tmpfs/.cpan-build/2015121315/RDF-AllegroGraph-Easy-0.08-Az_Ibm/blib/lib/RDF/AllegroGraph/Repository4.pm line 301.
given is experimental at /tmpfs/.cpan-build/2015121315/RDF-AllegroGraph-Easy-0.08-Az_Ibm/blib/lib/RDF/AllegroGraph/Repository4.pm line 436.
when is experimental at /tmpfs/.cpan-build/2015121315/RDF-AllegroGraph-Easy-0.08-Az_Ibm/blib/lib/RDF/AllegroGraph/Repository4.pm line 437.
# Tests skipped. Use "export AG4_SERVER=http://my.server:port" before running the test suite. See README for details.
t/v4_01_catalog.t ...... ok
given is experimental at /tmpfs/.cpan-build/2015121315/RDF-AllegroGraph-Easy-0.08-Az_Ibm/blib/lib/RDF/AllegroGraph/Repository.pm line 167.
when is experimental at /tmpfs/.cpan-build/2015121315/RDF-AllegroGraph-Easy-0.08-Az_Ibm/blib/lib/RDF/AllegroGraph/Repository.pm line 168.
when is experimental at /tmpfs/.cpan-build/2015121315/RDF-AllegroGraph-Easy-0.08-Az_Ibm/blib/lib/RDF/AllegroGraph/Repository.pm line 173.
when is experimental at /tmpfs/.cpan-build/2015121315/RDF-AllegroGraph-Easy-0.08-Az_Ibm/blib/lib/RDF/AllegroGraph/Repository.pm line 179.
given is experimental at /tmpfs/.cpan-build/2015121315/RDF-AllegroGraph-Easy-0.08-Az_Ibm/blib/lib/RDF/AllegroGraph/Repository.pm line 207.
when is experimental at /tmpfs/.cpan-build/2015121315/RDF-AllegroGraph-Easy-0.08-Az_Ibm/blib/lib/RDF/AllegroGraph/Repository.pm line 208.
when is experimental at /tmpfs/.cpan-build/2015121315/RDF-AllegroGraph-Easy-0.08-Az_Ibm/blib/lib/RDF/AllegroGraph/Repository.pm line 209.
when is experimental at /tmpfs/.cpan-build/2015121315/RDF-AllegroGraph-Easy-0.08-Az_Ibm/blib/lib/RDF/AllegroGraph/Repository.pm line 210.
when is experimental at /tmpfs/.cpan-build/2015121315/RDF-AllegroGraph-Easy-0.08-Az_Ibm/blib/lib/RDF/AllegroGraph/Repository.pm line 211.
given is experimental at /tmpfs/.cpan-build/2015121315/RDF-AllegroGraph-Easy-0.08-Az_Ibm/blib/lib/RDF/AllegroGraph/Repository3.pm line 83.
when is experimental at /tmpfs/.cpan-build/2015121315/RDF-AllegroGraph-Easy-0.08-Az_Ibm/blib/lib/RDF/AllegroGraph/Repository3.pm line 84.
when is experimental at /tmpfs/.cpan-build/2015121315/RDF-AllegroGraph-Easy-0.08-Az_Ibm/blib/lib/RDF/AllegroGraph/Repository3.pm line 89.
when is experimental at /tmpfs/.cpan-build/2015121315/RDF-AllegroGraph-Easy-0.08-Az_Ibm/blib/lib/RDF/AllegroGraph/Repository3.pm line 95.
given is experimental at /tmpfs/.cpan-build/2015121315/RDF-AllegroGraph-Easy-0.08-Az_Ibm/blib/lib/RDF/AllegroGraph/Repository3.pm line 123.
when is experimental at /tmpfs/.cpan-build/2015121315/RDF-AllegroGraph-Easy-0.08-Az_Ibm/blib/lib/RDF/AllegroGraph/Repository3.pm line 124.
when is experimental at /tmpfs/.cpan-build/2015121315/RDF-AllegroGraph-Easy-0.08-Az_Ibm/blib/lib/RDF/AllegroGraph/Repository3.pm line 125.
when is experimental at /tmpfs/.cpan-build/2015121315/RDF-AllegroGraph-Easy-0.08-Az_Ibm/blib/lib/RDF/AllegroGraph/Repository3.pm line 126.
when is experimental at /tmpfs/.cpan-build/2015121315/RDF-AllegroGraph-Easy-0.08-Az_Ibm/blib/lib/RDF/AllegroGraph/Repository3.pm line 127.
given is experimental at /tmpfs/.cpan-build/2015121315/RDF-AllegroGraph-Easy-0.08-Az_Ibm/blib/lib/RDF/AllegroGraph/Repository3.pm line 185.
when is experimental at /tmpfs/.cpan-build/2015121315/RDF-AllegroGraph-Easy-0.08-Az_Ibm/blib/lib/RDF/AllegroGraph/Repository3.pm line 186.
given is experimental at /tmpfs/.cpan-build/2015121315/RDF-AllegroGraph-Easy-0.08-Az_Ibm/blib/lib/RDF/AllegroGraph/Session4.pm line 123.
when is experimental at /tmpfs/.cpan-build/2015121315/RDF-AllegroGraph-Easy-0.08-Az_Ibm/blib/lib/RDF/AllegroGraph/Session4.pm line 124.
when is experimental at /tmpfs/.cpan-build/2015121315/RDF-AllegroGraph-Easy-0.08-Az_Ibm/blib/lib/RDF/AllegroGraph/Session4.pm line 127.
when is experimental at /tmpfs/.cpan-build/2015121315/RDF-AllegroGraph-Easy-0.08-Az_Ibm/blib/lib/RDF/AllegroGraph/Session4.pm line 130.
given is experimental at /tmpfs/.cpan-build/2015121315/RDF-AllegroGraph-Easy-0.08-Az_Ibm/blib/lib/RDF/AllegroGraph/Repository4.pm line 257.
when is experimental at /tmpfs/.cpan-build/2015121315/RDF-AllegroGraph-Easy-0.08-Az_Ibm/blib/lib/RDF/AllegroGraph/Repository4.pm line 258.
when is experimental at /tmpfs/.cpan-build/2015121315/RDF-AllegroGraph-Easy-0.08-Az_Ibm/blib/lib/RDF/AllegroGraph/Repository4.pm line 263.
when is experimental at /tmpfs/.cpan-build/2015121315/RDF-AllegroGraph-Easy-0.08-Az_Ibm/blib/lib/RDF/AllegroGraph/Repository4.pm line 269.
given is experimental at /tmpfs/.cpan-build/2015121315/RDF-AllegroGraph-Easy-0.08-Az_Ibm/blib/lib/RDF/AllegroGraph/Repository4.pm line 297.
when is experimental at /tmpfs/.cpan-build/2015121315/RDF-AllegroGraph-Easy-0.08-Az_Ibm/blib/lib/RDF/AllegroGraph/Repository4.pm line 298.
when is experimental at /tmpfs/.cpan-build/2015121315/RDF-AllegroGraph-Easy-0.08-Az_Ibm/blib/lib/RDF/AllegroGraph/Repository4.pm line 299.
when is experimental at /tmpfs/.cpan-build/2015121315/RDF-AllegroGraph-Easy-0.08-Az_Ibm/blib/lib/RDF/AllegroGraph/Repository4.pm line 300.
when is experimental at /tmpfs/.cpan-build/2015121315/RDF-AllegroGraph-Easy-0.08-Az_Ibm/blib/lib/RDF/AllegroGraph/Repository4.pm line 301.
given is experimental at /tmpfs/.cpan-build/2015121315/RDF-AllegroGraph-Easy-0.08-Az_Ibm/blib/lib/RDF/AllegroGraph/Repository4.pm line 436.
when is experimental at /tmpfs/.cpan-build/2015121315/RDF-AllegroGraph-Easy-0.08-Az_Ibm/blib/lib/RDF/AllegroGraph/Repository4.pm line 437.
t/v4_02_repos.t ........ ok
given is experimental at /tmpfs/.cpan-build/2015121315/RDF-AllegroGraph-Easy-0.08-Az_Ibm/blib/lib/RDF/AllegroGraph/Repository.pm line 167.
when is experimental at /tmpfs/.cpan-build/2015121315/RDF-AllegroGraph-Easy-0.08-Az_Ibm/blib/lib/RDF/AllegroGraph/Repository.pm line 168.
when is experimental at /tmpfs/.cpan-build/2015121315/RDF-AllegroGraph-Easy-0.08-Az_Ibm/blib/lib/RDF/AllegroGraph/Repository.pm line 173.
when is experimental at /tmpfs/.cpan-build/2015121315/RDF-AllegroGraph-Easy-0.08-Az_Ibm/blib/lib/RDF/AllegroGraph/Repository.pm line 179.
given is experimental at /tmpfs/.cpan-build/2015121315/RDF-AllegroGraph-Easy-0.08-Az_Ibm/blib/lib/RDF/AllegroGraph/Repository.pm line 207.
when is experimental at /tmpfs/.cpan-build/2015121315/RDF-AllegroGraph-Easy-0.08-Az_Ibm/blib/lib/RDF/AllegroGraph/Repository.pm line 208.
when is experimental at /tmpfs/.cpan-build/2015121315/RDF-AllegroGraph-Easy-0.08-Az_Ibm/blib/lib/RDF/AllegroGraph/Repository.pm line 209.
when is experimental at /tmpfs/.cpan-build/2015121315/RDF-AllegroGraph-Easy-0.08-Az_Ibm/blib/lib/RDF/AllegroGraph/Repository.pm line 210.
when is experimental at /tmpfs/.cpan-build/2015121315/RDF-AllegroGraph-Easy-0.08-Az_Ibm/blib/lib/RDF/AllegroGraph/Repository.pm line 211.
given is experimental at /tmpfs/.cpan-build/2015121315/RDF-AllegroGraph-Easy-0.08-Az_Ibm/blib/lib/RDF/AllegroGraph/Repository3.pm line 83.
when is experimental at /tmpfs/.cpan-build/2015121315/RDF-AllegroGraph-Easy-0.08-Az_Ibm/blib/lib/RDF/AllegroGraph/Repository3.pm line 84.
when is experimental at /tmpfs/.cpan-build/2015121315/RDF-AllegroGraph-Easy-0.08-Az_Ibm/blib/lib/RDF/AllegroGraph/Repository3.pm line 89.
when is experimental at /tmpfs/.cpan-build/2015121315/RDF-AllegroGraph-Easy-0.08-Az_Ibm/blib/lib/RDF/AllegroGraph/Repository3.pm line 95.
given is experimental at /tmpfs/.cpan-build/2015121315/RDF-AllegroGraph-Easy-0.08-Az_Ibm/blib/lib/RDF/AllegroGraph/Repository3.pm line 123.
when is experimental at /tmpfs/.cpan-build/2015121315/RDF-AllegroGraph-Easy-0.08-Az_Ibm/blib/lib/RDF/AllegroGraph/Repository3.pm line 124.
when is experimental at /tmpfs/.cpan-build/2015121315/RDF-AllegroGraph-Easy-0.08-Az_Ibm/blib/lib/RDF/AllegroGraph/Repository3.pm line 125.
when is experimental at /tmpfs/.cpan-build/2015121315/RDF-AllegroGraph-Easy-0.08-Az_Ibm/blib/lib/RDF/AllegroGraph/Repository3.pm line 126.
when is experimental at /tmpfs/.cpan-build/2015121315/RDF-AllegroGraph-Easy-0.08-Az_Ibm/blib/lib/RDF/AllegroGraph/Repository3.pm line 127.
given is experimental at /tmpfs/.cpan-build/2015121315/RDF-AllegroGraph-Easy-0.08-Az_Ibm/blib/lib/RDF/AllegroGraph/Repository3.pm line 185.
when is experimental at /tmpfs/.cpan-build/2015121315/RDF-AllegroGraph-Easy-0.08-Az_Ibm/blib/lib/RDF/AllegroGraph/Repository3.pm line 186.
given is experimental at /tmpfs/.cpan-build/2015121315/RDF-AllegroGraph-Easy-0.08-Az_Ibm/blib/lib/RDF/AllegroGraph/Session4.pm line 123.
when is experimental at /tmpfs/.cpan-build/2015121315/RDF-AllegroGraph-Easy-0.08-Az_Ibm/blib/lib/RDF/AllegroGraph/Session4.pm line 124.
when is experimental at /tmpfs/.cpan-build/2015121315/RDF-AllegroGraph-Easy-0.08-Az_Ibm/blib/lib/RDF/AllegroGraph/Session4.pm line 127.
when is experimental at /tmpfs/.cpan-build/2015121315/RDF-AllegroGraph-Easy-0.08-Az_Ibm/blib/lib/RDF/AllegroGraph/Session4.pm line 130.
given is experimental at /tmpfs/.cpan-build/2015121315/RDF-AllegroGraph-Easy-0.08-Az_Ibm/blib/lib/RDF/AllegroGraph/Repository4.pm line 257.
when is experimental at /tmpfs/.cpan-build/2015121315/RDF-AllegroGraph-Easy-0.08-Az_Ibm/blib/lib/RDF/AllegroGraph/Repository4.pm line 258.
when is experimental at /tmpfs/.cpan-build/2015121315/RDF-AllegroGraph-Easy-0.08-Az_Ibm/blib/lib/RDF/AllegroGraph/Repository4.pm line 263.
when is experimental at /tmpfs/.cpan-build/2015121315/RDF-AllegroGraph-Easy-0.08-Az_Ibm/blib/lib/RDF/AllegroGraph/Repository4.pm line 269.
given is experimental at /tmpfs/.cpan-build/2015121315/RDF-AllegroGraph-Easy-0.08-Az_Ibm/blib/lib/RDF/AllegroGraph/Repository4.pm line 297.
when is experimental at /tmpfs/.cpan-build/2015121315/RDF-AllegroGraph-Easy-0.08-Az_Ibm/blib/lib/RDF/AllegroGraph/Repository4.pm line 298.
when is experimental at /tmpfs/.cpan-build/2015121315/RDF-AllegroGraph-Easy-0.08-Az_Ibm/blib/lib/RDF/AllegroGraph/Repository4.pm line 299.
when is experimental at /tmpfs/.cpan-build/2015121315/RDF-AllegroGraph-Easy-0.08-Az_Ibm/blib/lib/RDF/AllegroGraph/Repository4.pm line 300.
when is experimental at /tmpfs/.cpan-build/2015121315/RDF-AllegroGraph-Easy-0.08-Az_Ibm/blib/lib/RDF/AllegroGraph/Repository4.pm line 301.
given is experimental at /tmpfs/.cpan-build/2015121315/RDF-AllegroGraph-Easy-0.08-Az_Ibm/blib/lib/RDF/AllegroGraph/Repository4.pm line 436.
when is experimental at /tmpfs/.cpan-build/2015121315/RDF-AllegroGraph-Easy-0.08-Az_Ibm/blib/lib/RDF/AllegroGraph/Repository4.pm line 437.
t/v4_02_session.t ...... ok
given is experimental at /tmpfs/.cpan-build/2015121315/RDF-AllegroGraph-Easy-0.08-Az_Ibm/blib/lib/RDF/AllegroGraph/Repository.pm line 167.
when is experimental at /tmpfs/.cpan-build/2015121315/RDF-AllegroGraph-Easy-0.08-Az_Ibm/blib/lib/RDF/AllegroGraph/Repository.pm line 168.
when is experimental at /tmpfs/.cpan-build/2015121315/RDF-AllegroGraph-Easy-0.08-Az_Ibm/blib/lib/RDF/AllegroGraph/Repository.pm line 173.
when is experimental at /tmpfs/.cpan-build/2015121315/RDF-AllegroGraph-Easy-0.08-Az_Ibm/blib/lib/RDF/AllegroGraph/Repository.pm line 179.
given is experimental at /tmpfs/.cpan-build/2015121315/RDF-AllegroGraph-Easy-0.08-Az_Ibm/blib/lib/RDF/AllegroGraph/Repository.pm line 207.
when is experimental at /tmpfs/.cpan-build/2015121315/RDF-AllegroGraph-Easy-0.08-Az_Ibm/blib/lib/RDF/AllegroGraph/Repository.pm line 208.
when is experimental at /tmpfs/.cpan-build/2015121315/RDF-AllegroGraph-Easy-0.08-Az_Ibm/blib/lib/RDF/AllegroGraph/Repository.pm line 209.
when is experimental at /tmpfs/.cpan-build/2015121315/RDF-AllegroGraph-Easy-0.08-Az_Ibm/blib/lib/RDF/AllegroGraph/Repository.pm line 210.
when is experimental at /tmpfs/.cpan-build/2015121315/RDF-AllegroGraph-Easy-0.08-Az_Ibm/blib/lib/RDF/AllegroGraph/Repository.pm line 211.
given is experimental at /tmpfs/.cpan-build/2015121315/RDF-AllegroGraph-Easy-0.08-Az_Ibm/blib/lib/RDF/AllegroGraph/Repository3.pm line 83.
when is experimental at /tmpfs/.cpan-build/2015121315/RDF-AllegroGraph-Easy-0.08-Az_Ibm/blib/lib/RDF/AllegroGraph/Repository3.pm line 84.
when is experimental at /tmpfs/.cpan-build/2015121315/RDF-AllegroGraph-Easy-0.08-Az_Ibm/blib/lib/RDF/AllegroGraph/Repository3.pm line 89.
when is experimental at /tmpfs/.cpan-build/2015121315/RDF-AllegroGraph-Easy-0.08-Az_Ibm/blib/lib/RDF/AllegroGraph/Repository3.pm line 95.
given is experimental at /tmpfs/.cpan-build/2015121315/RDF-AllegroGraph-Easy-0.08-Az_Ibm/blib/lib/RDF/AllegroGraph/Repository3.pm line 123.
when is experimental at /tmpfs/.cpan-build/2015121315/RDF-AllegroGraph-Easy-0.08-Az_Ibm/blib/lib/RDF/AllegroGraph/Repository3.pm line 124.
when is experimental at /tmpfs/.cpan-build/2015121315/RDF-AllegroGraph-Easy-0.08-Az_Ibm/blib/lib/RDF/AllegroGraph/Repository3.pm line 125.
when is experimental at /tmpfs/.cpan-build/2015121315/RDF-AllegroGraph-Easy-0.08-Az_Ibm/blib/lib/RDF/AllegroGraph/Repository3.pm line 126.
when is experimental at /tmpfs/.cpan-build/2015121315/RDF-AllegroGraph-Easy-0.08-Az_Ibm/blib/lib/RDF/AllegroGraph/Repository3.pm line 127.
given is experimental at /tmpfs/.cpan-build/2015121315/RDF-AllegroGraph-Easy-0.08-Az_Ibm/blib/lib/RDF/AllegroGraph/Repository3.pm line 185.
when is experimental at /tmpfs/.cpan-build/2015121315/RDF-AllegroGraph-Easy-0.08-Az_Ibm/blib/lib/RDF/AllegroGraph/Repository3.pm line 186.
given is experimental at /tmpfs/.cpan-build/2015121315/RDF-AllegroGraph-Easy-0.08-Az_Ibm/blib/lib/RDF/AllegroGraph/Session4.pm line 123.
when is experimental at /tmpfs/.cpan-build/2015121315/RDF-AllegroGraph-Easy-0.08-Az_Ibm/blib/lib/RDF/AllegroGraph/Session4.pm line 124.
when is experimental at /tmpfs/.cpan-build/2015121315/RDF-AllegroGraph-Easy-0.08-Az_Ibm/blib/lib/RDF/AllegroGraph/Session4.pm line 127.
when is experimental at /tmpfs/.cpan-build/2015121315/RDF-AllegroGraph-Easy-0.08-Az_Ibm/blib/lib/RDF/AllegroGraph/Session4.pm line 130.
given is experimental at /tmpfs/.cpan-build/2015121315/RDF-AllegroGraph-Easy-0.08-Az_Ibm/blib/lib/RDF/AllegroGraph/Repository4.pm line 257.
when is experimental at /tmpfs/.cpan-build/2015121315/RDF-AllegroGraph-Easy-0.08-Az_Ibm/blib/lib/RDF/AllegroGraph/Repository4.pm line 258.
when is experimental at /tmpfs/.cpan-build/2015121315/RDF-AllegroGraph-Easy-0.08-Az_Ibm/blib/lib/RDF/AllegroGraph/Repository4.pm line 263.
when is experimental at /tmpfs/.cpan-build/2015121315/RDF-AllegroGraph-Easy-0.08-Az_Ibm/blib/lib/RDF/AllegroGraph/Repository4.pm line 269.
given is experimental at /tmpfs/.cpan-build/2015121315/RDF-AllegroGraph-Easy-0.08-Az_Ibm/blib/lib/RDF/AllegroGraph/Repository4.pm line 297.
when is experimental at /tmpfs/.cpan-build/2015121315/RDF-AllegroGraph-Easy-0.08-Az_Ibm/blib/lib/RDF/AllegroGraph/Repository4.pm line 298.
when is experimental at /tmpfs/.cpan-build/2015121315/RDF-AllegroGraph-Easy-0.08-Az_Ibm/blib/lib/RDF/AllegroGraph/Repository4.pm line 299.
when is experimental at /tmpfs/.cpan-build/2015121315/RDF-AllegroGraph-Easy-0.08-Az_Ibm/blib/lib/RDF/AllegroGraph/Repository4.pm line 300.
when is experimental at /tmpfs/.cpan-build/2015121315/RDF-AllegroGraph-Easy-0.08-Az_Ibm/blib/lib/RDF/AllegroGraph/Repository4.pm line 301.
given is experimental at /tmpfs/.cpan-build/2015121315/RDF-AllegroGraph-Easy-0.08-Az_Ibm/blib/lib/RDF/AllegroGraph/Repository4.pm line 436.
when is experimental at /tmpfs/.cpan-build/2015121315/RDF-AllegroGraph-Easy-0.08-Az_Ibm/blib/lib/RDF/AllegroGraph/Repository4.pm line 437.
t/v4_02_transaction.t .. ok
given is experimental at /tmpfs/.cpan-build/2015121315/RDF-AllegroGraph-Easy-0.08-Az_Ibm/blib/lib/RDF/AllegroGraph/Repository.pm line 167.
when is experimental at /tmpfs/.cpan-build/2015121315/RDF-AllegroGraph-Easy-0.08-Az_Ibm/blib/lib/RDF/AllegroGraph/Repository.pm line 168.
when is experimental at /tmpfs/.cpan-build/2015121315/RDF-AllegroGraph-Easy-0.08-Az_Ibm/blib/lib/RDF/AllegroGraph/Repository.pm line 173.
when is experimental at /tmpfs/.cpan-build/2015121315/RDF-AllegroGraph-Easy-0.08-Az_Ibm/blib/lib/RDF/AllegroGraph/Repository.pm line 179.
given is experimental at /tmpfs/.cpan-build/2015121315/RDF-AllegroGraph-Easy-0.08-Az_Ibm/blib/lib/RDF/AllegroGraph/Repository.pm line 207.
when is experimental at /tmpfs/.cpan-build/2015121315/RDF-AllegroGraph-Easy-0.08-Az_Ibm/blib/lib/RDF/AllegroGraph/Repository.pm line 208.
when is experimental at /tmpfs/.cpan-build/2015121315/RDF-AllegroGraph-Easy-0.08-Az_Ibm/blib/lib/RDF/AllegroGraph/Repository.pm line 209.
when is experimental at /tmpfs/.cpan-build/2015121315/RDF-AllegroGraph-Easy-0.08-Az_Ibm/blib/lib/RDF/AllegroGraph/Repository.pm line 210.
when is experimental at /tmpfs/.cpan-build/2015121315/RDF-AllegroGraph-Easy-0.08-Az_Ibm/blib/lib/RDF/AllegroGraph/Repository.pm line 211.
given is experimental at /tmpfs/.cpan-build/2015121315/RDF-AllegroGraph-Easy-0.08-Az_Ibm/blib/lib/RDF/AllegroGraph/Repository3.pm line 83.
when is experimental at /tmpfs/.cpan-build/2015121315/RDF-AllegroGraph-Easy-0.08-Az_Ibm/blib/lib/RDF/AllegroGraph/Repository3.pm line 84.
when is experimental at /tmpfs/.cpan-build/2015121315/RDF-AllegroGraph-Easy-0.08-Az_Ibm/blib/lib/RDF/AllegroGraph/Repository3.pm line 89.
when is experimental at /tmpfs/.cpan-build/2015121315/RDF-AllegroGraph-Easy-0.08-Az_Ibm/blib/lib/RDF/AllegroGraph/Repository3.pm line 95.
given is experimental at /tmpfs/.cpan-build/2015121315/RDF-AllegroGraph-Easy-0.08-Az_Ibm/blib/lib/RDF/AllegroGraph/Repository3.pm line 123.
when is experimental at /tmpfs/.cpan-build/2015121315/RDF-AllegroGraph-Easy-0.08-Az_Ibm/blib/lib/RDF/AllegroGraph/Repository3.pm line 124.
when is experimental at /tmpfs/.cpan-build/2015121315/RDF-AllegroGraph-Easy-0.08-Az_Ibm/blib/lib/RDF/AllegroGraph/Repository3.pm line 125.
when is experimental at /tmpfs/.cpan-build/2015121315/RDF-AllegroGraph-Easy-0.08-Az_Ibm/blib/lib/RDF/AllegroGraph/Repository3.pm line 126.
when is experimental at /tmpfs/.cpan-build/2015121315/RDF-AllegroGraph-Easy-0.08-Az_Ibm/blib/lib/RDF/AllegroGraph/Repository3.pm line 127.
given is experimental at /tmpfs/.cpan-build/2015121315/RDF-AllegroGraph-Easy-0.08-Az_Ibm/blib/lib/RDF/AllegroGraph/Repository3.pm line 185.
when is experimental at /tmpfs/.cpan-build/2015121315/RDF-AllegroGraph-Easy-0.08-Az_Ibm/blib/lib/RDF/AllegroGraph/Repository3.pm line 186.
given is experimental at /tmpfs/.cpan-build/2015121315/RDF-AllegroGraph-Easy-0.08-Az_Ibm/blib/lib/RDF/AllegroGraph/Session4.pm line 123.
when is experimental at /tmpfs/.cpan-build/2015121315/RDF-AllegroGraph-Easy-0.08-Az_Ibm/blib/lib/RDF/AllegroGraph/Session4.pm line 124.
when is experimental at /tmpfs/.cpan-build/2015121315/RDF-AllegroGraph-Easy-0.08-Az_Ibm/blib/lib/RDF/AllegroGraph/Session4.pm line 127.
when is experimental at /tmpfs/.cpan-build/2015121315/RDF-AllegroGraph-Easy-0.08-Az_Ibm/blib/lib/RDF/AllegroGraph/Session4.pm line 130.
given is experimental at /tmpfs/.cpan-build/2015121315/RDF-AllegroGraph-Easy-0.08-Az_Ibm/blib/lib/RDF/AllegroGraph/Repository4.pm line 257.
when is experimental at /tmpfs/.cpan-build/2015121315/RDF-AllegroGraph-Easy-0.08-Az_Ibm/blib/lib/RDF/AllegroGraph/Repository4.pm line 258.
when is experimental at /tmpfs/.cpan-build/2015121315/RDF-AllegroGraph-Easy-0.08-Az_Ibm/blib/lib/RDF/AllegroGraph/Repository4.pm line 263.
when is experimental at /tmpfs/.cpan-build/2015121315/RDF-AllegroGraph-Easy-0.08-Az_Ibm/blib/lib/RDF/AllegroGraph/Repository4.pm line 269.
given is experimental at /tmpfs/.cpan-build/2015121315/RDF-AllegroGraph-Easy-0.08-Az_Ibm/blib/lib/RDF/AllegroGraph/Repository4.pm line 297.
when is experimental at /tmpfs/.cpan-build/2015121315/RDF-AllegroGraph-Easy-0.08-Az_Ibm/blib/lib/RDF/AllegroGraph/Repository4.pm line 298.
when is experimental at /tmpfs/.cpan-build/2015121315/RDF-AllegroGraph-Easy-0.08-Az_Ibm/blib/lib/RDF/AllegroGraph/Repository4.pm line 299.
when is experimental at /tmpfs/.cpan-build/2015121315/RDF-AllegroGraph-Easy-0.08-Az_Ibm/blib/lib/RDF/AllegroGraph/Repository4.pm line 300.
when is experimental at /tmpfs/.cpan-build/2015121315/RDF-AllegroGraph-Easy-0.08-Az_Ibm/blib/lib/RDF/AllegroGraph/Repository4.pm line 301.
given is experimental at /tmpfs/.cpan-build/2015121315/RDF-AllegroGraph-Easy-0.08-Az_Ibm/blib/lib/RDF/AllegroGraph/Repository4.pm line 436.
when is experimental at /tmpfs/.cpan-build/2015121315/RDF-AllegroGraph-Easy-0.08-Az_Ibm/blib/lib/RDF/AllegroGraph/Repository4.pm line 437.
t/v4_03_geo.t .......... ok
given is experimental at /tmpfs/.cpan-build/2015121315/RDF-AllegroGraph-Easy-0.08-Az_Ibm/blib/lib/RDF/AllegroGraph/Repository.pm line 167.
when is experimental at /tmpfs/.cpan-build/2015121315/RDF-AllegroGraph-Easy-0.08-Az_Ibm/blib/lib/RDF/AllegroGraph/Repository.pm line 168.
when is experimental at /tmpfs/.cpan-build/2015121315/RDF-AllegroGraph-Easy-0.08-Az_Ibm/blib/lib/RDF/AllegroGraph/Repository.pm line 173.
when is experimental at /tmpfs/.cpan-build/2015121315/RDF-AllegroGraph-Easy-0.08-Az_Ibm/blib/lib/RDF/AllegroGraph/Repository.pm line 179.
given is experimental at /tmpfs/.cpan-build/2015121315/RDF-AllegroGraph-Easy-0.08-Az_Ibm/blib/lib/RDF/AllegroGraph/Repository.pm line 207.
when is experimental at /tmpfs/.cpan-build/2015121315/RDF-AllegroGraph-Easy-0.08-Az_Ibm/blib/lib/RDF/AllegroGraph/Repository.pm line 208.
when is experimental at /tmpfs/.cpan-build/2015121315/RDF-AllegroGraph-Easy-0.08-Az_Ibm/blib/lib/RDF/AllegroGraph/Repository.pm line 209.
when is experimental at /tmpfs/.cpan-build/2015121315/RDF-AllegroGraph-Easy-0.08-Az_Ibm/blib/lib/RDF/AllegroGraph/Repository.pm line 210.
when is experimental at /tmpfs/.cpan-build/2015121315/RDF-AllegroGraph-Easy-0.08-Az_Ibm/blib/lib/RDF/AllegroGraph/Repository.pm line 211.
given is experimental at /tmpfs/.cpan-build/2015121315/RDF-AllegroGraph-Easy-0.08-Az_Ibm/blib/lib/RDF/AllegroGraph/Repository3.pm line 83.
when is experimental at /tmpfs/.cpan-build/2015121315/RDF-AllegroGraph-Easy-0.08-Az_Ibm/blib/lib/RDF/AllegroGraph/Repository3.pm line 84.
when is experimental at /tmpfs/.cpan-build/2015121315/RDF-AllegroGraph-Easy-0.08-Az_Ibm/blib/lib/RDF/AllegroGraph/Repository3.pm line 89.
when is experimental at /tmpfs/.cpan-build/2015121315/RDF-AllegroGraph-Easy-0.08-Az_Ibm/blib/lib/RDF/AllegroGraph/Repository3.pm line 95.
given is experimental at /tmpfs/.cpan-build/2015121315/RDF-AllegroGraph-Easy-0.08-Az_Ibm/blib/lib/RDF/AllegroGraph/Repository3.pm line 123.
when is experimental at /tmpfs/.cpan-build/2015121315/RDF-AllegroGraph-Easy-0.08-Az_Ibm/blib/lib/RDF/AllegroGraph/Repository3.pm line 124.
when is experimental at /tmpfs/.cpan-build/2015121315/RDF-AllegroGraph-Easy-0.08-Az_Ibm/blib/lib/RDF/AllegroGraph/Repository3.pm line 125.
when is experimental at /tmpfs/.cpan-build/2015121315/RDF-AllegroGraph-Easy-0.08-Az_Ibm/blib/lib/RDF/AllegroGraph/Repository3.pm line 126.
when is experimental at /tmpfs/.cpan-build/2015121315/RDF-AllegroGraph-Easy-0.08-Az_Ibm/blib/lib/RDF/AllegroGraph/Repository3.pm line 127.
given is experimental at /tmpfs/.cpan-build/2015121315/RDF-AllegroGraph-Easy-0.08-Az_Ibm/blib/lib/RDF/AllegroGraph/Repository3.pm line 185.
when is experimental at /tmpfs/.cpan-build/2015121315/RDF-AllegroGraph-Easy-0.08-Az_Ibm/blib/lib/RDF/AllegroGraph/Repository3.pm line 186.
given is experimental at /tmpfs/.cpan-build/2015121315/RDF-AllegroGraph-Easy-0.08-Az_Ibm/blib/lib/RDF/AllegroGraph/Session4.pm line 123.
when is experimental at /tmpfs/.cpan-build/2015121315/RDF-AllegroGraph-Easy-0.08-Az_Ibm/blib/lib/RDF/AllegroGraph/Session4.pm line 124.
when is experimental at /tmpfs/.cpan-build/2015121315/RDF-AllegroGraph-Easy-0.08-Az_Ibm/blib/lib/RDF/AllegroGraph/Session4.pm line 127.
when is experimental at /tmpfs/.cpan-build/2015121315/RDF-AllegroGraph-Easy-0.08-Az_Ibm/blib/lib/RDF/AllegroGraph/Session4.pm line 130.
given is experimental at /tmpfs/.cpan-build/2015121315/RDF-AllegroGraph-Easy-0.08-Az_Ibm/blib/lib/RDF/AllegroGraph/Repository4.pm line 257.
when is experimental at /tmpfs/.cpan-build/2015121315/RDF-AllegroGraph-Easy-0.08-Az_Ibm/blib/lib/RDF/AllegroGraph/Repository4.pm line 258.
when is experimental at /tmpfs/.cpan-build/2015121315/RDF-AllegroGraph-Easy-0.08-Az_Ibm/blib/lib/RDF/AllegroGraph/Repository4.pm line 263.
when is experimental at /tmpfs/.cpan-build/2015121315/RDF-AllegroGraph-Easy-0.08-Az_Ibm/blib/lib/RDF/AllegroGraph/Repository4.pm line 269.
given is experimental at /tmpfs/.cpan-build/2015121315/RDF-AllegroGraph-Easy-0.08-Az_Ibm/blib/lib/RDF/AllegroGraph/Repository4.pm line 297.
when is experimental at /tmpfs/.cpan-build/2015121315/RDF-AllegroGraph-Easy-0.08-Az_Ibm/blib/lib/RDF/AllegroGraph/Repository4.pm line 298.
when is experimental at /tmpfs/.cpan-build/2015121315/RDF-AllegroGraph-Easy-0.08-Az_Ibm/blib/lib/RDF/AllegroGraph/Repository4.pm line 299.
when is experimental at /tmpfs/.cpan-build/2015121315/RDF-AllegroGraph-Easy-0.08-Az_Ibm/blib/lib/RDF/AllegroGraph/Repository4.pm line 300.
when is experimental at /tmpfs/.cpan-build/2015121315/RDF-AllegroGraph-Easy-0.08-Az_Ibm/blib/lib/RDF/AllegroGraph/Repository4.pm line 301.
given is experimental at /tmpfs/.cpan-build/2015121315/RDF-AllegroGraph-Easy-0.08-Az_Ibm/blib/lib/RDF/AllegroGraph/Repository4.pm line 436.
when is experimental at /tmpfs/.cpan-build/2015121315/RDF-AllegroGraph-Easy-0.08-Az_Ibm/blib/lib/RDF/AllegroGraph/Repository4.pm line 437.
t/v4_03_namespaces.t ... ok
given is experimental at /tmpfs/.cpan-build/2015121315/RDF-AllegroGraph-Easy-0.08-Az_Ibm/blib/lib/RDF/AllegroGraph/Repository.pm line 167.
when is experimental at /tmpfs/.cpan-build/2015121315/RDF-AllegroGraph-Easy-0.08-Az_Ibm/blib/lib/RDF/AllegroGraph/Repository.pm line 168.
when is experimental at /tmpfs/.cpan-build/2015121315/RDF-AllegroGraph-Easy-0.08-Az_Ibm/blib/lib/RDF/AllegroGraph/Repository.pm line 173.
when is experimental at /tmpfs/.cpan-build/2015121315/RDF-AllegroGraph-Easy-0.08-Az_Ibm/blib/lib/RDF/AllegroGraph/Repository.pm line 179.
given is experimental at /tmpfs/.cpan-build/2015121315/RDF-AllegroGraph-Easy-0.08-Az_Ibm/blib/lib/RDF/AllegroGraph/Repository.pm line 207.
when is experimental at /tmpfs/.cpan-build/2015121315/RDF-AllegroGraph-Easy-0.08-Az_Ibm/blib/lib/RDF/AllegroGraph/Repository.pm line 208.
when is experimental at /tmpfs/.cpan-build/2015121315/RDF-AllegroGraph-Easy-0.08-Az_Ibm/blib/lib/RDF/AllegroGraph/Repository.pm line 209.
when is experimental at /tmpfs/.cpan-build/2015121315/RDF-AllegroGraph-Easy-0.08-Az_Ibm/blib/lib/RDF/AllegroGraph/Repository.pm line 210.
when is experimental at /tmpfs/.cpan-build/2015121315/RDF-AllegroGraph-Easy-0.08-Az_Ibm/blib/lib/RDF/AllegroGraph/Repository.pm line 211.
given is experimental at /tmpfs/.cpan-build/2015121315/RDF-AllegroGraph-Easy-0.08-Az_Ibm/blib/lib/RDF/AllegroGraph/Repository3.pm line 83.
when is experimental at /tmpfs/.cpan-build/2015121315/RDF-AllegroGraph-Easy-0.08-Az_Ibm/blib/lib/RDF/AllegroGraph/Repository3.pm line 84.
when is experimental at /tmpfs/.cpan-build/2015121315/RDF-AllegroGraph-Easy-0.08-Az_Ibm/blib/lib/RDF/AllegroGraph/Repository3.pm line 89.
when is experimental at /tmpfs/.cpan-build/2015121315/RDF-AllegroGraph-Easy-0.08-Az_Ibm/blib/lib/RDF/AllegroGraph/Repository3.pm line 95.
given is experimental at /tmpfs/.cpan-build/2015121315/RDF-AllegroGraph-Easy-0.08-Az_Ibm/blib/lib/RDF/AllegroGraph/Repository3.pm line 123.
when is experimental at /tmpfs/.cpan-build/2015121315/RDF-AllegroGraph-Easy-0.08-Az_Ibm/blib/lib/RDF/AllegroGraph/Repository3.pm line 124.
when is experimental at /tmpfs/.cpan-build/2015121315/RDF-AllegroGraph-Easy-0.08-Az_Ibm/blib/lib/RDF/AllegroGraph/Repository3.pm line 125.
when is experimental at /tmpfs/.cpan-build/2015121315/RDF-AllegroGraph-Easy-0.08-Az_Ibm/blib/lib/RDF/AllegroGraph/Repository3.pm line 126.
when is experimental at /tmpfs/.cpan-build/2015121315/RDF-AllegroGraph-Easy-0.08-Az_Ibm/blib/lib/RDF/AllegroGraph/Repository3.pm line 127.
given is experimental at /tmpfs/.cpan-build/2015121315/RDF-AllegroGraph-Easy-0.08-Az_Ibm/blib/lib/RDF/AllegroGraph/Repository3.pm line 185.
when is experimental at /tmpfs/.cpan-build/2015121315/RDF-AllegroGraph-Easy-0.08-Az_Ibm/blib/lib/RDF/AllegroGraph/Repository3.pm line 186.
given is experimental at /tmpfs/.cpan-build/2015121315/RDF-AllegroGraph-Easy-0.08-Az_Ibm/blib/lib/RDF/AllegroGraph/Session4.pm line 123.
when is experimental at /tmpfs/.cpan-build/2015121315/RDF-AllegroGraph-Easy-0.08-Az_Ibm/blib/lib/RDF/AllegroGraph/Session4.pm line 124.
when is experimental at /tmpfs/.cpan-build/2015121315/RDF-AllegroGraph-Easy-0.08-Az_Ibm/blib/lib/RDF/AllegroGraph/Session4.pm line 127.
when is experimental at /tmpfs/.cpan-build/2015121315/RDF-AllegroGraph-Easy-0.08-Az_Ibm/blib/lib/RDF/AllegroGraph/Session4.pm line 130.
given is experimental at /tmpfs/.cpan-build/2015121315/RDF-AllegroGraph-Easy-0.08-Az_Ibm/blib/lib/RDF/AllegroGraph/Repository4.pm line 257.
when is experimental at /tmpfs/.cpan-build/2015121315/RDF-AllegroGraph-Easy-0.08-Az_Ibm/blib/lib/RDF/AllegroGraph/Repository4.pm line 258.
when is experimental at /tmpfs/.cpan-build/2015121315/RDF-AllegroGraph-Easy-0.08-Az_Ibm/blib/lib/RDF/AllegroGraph/Repository4.pm line 263.
when is experimental at /tmpfs/.cpan-build/2015121315/RDF-AllegroGraph-Easy-0.08-Az_Ibm/blib/lib/RDF/AllegroGraph/Repository4.pm line 269.
given is experimental at /tmpfs/.cpan-build/2015121315/RDF-AllegroGraph-Easy-0.08-Az_Ibm/blib/lib/RDF/AllegroGraph/Repository4.pm line 297.
when is experimental at /tmpfs/.cpan-build/2015121315/RDF-AllegroGraph-Easy-0.08-Az_Ibm/blib/lib/RDF/AllegroGraph/Repository4.pm line 298.
when is experimental at /tmpfs/.cpan-build/2015121315/RDF-AllegroGraph-Easy-0.08-Az_Ibm/blib/lib/RDF/AllegroGraph/Repository4.pm line 299.
when is experimental at /tmpfs/.cpan-build/2015121315/RDF-AllegroGraph-Easy-0.08-Az_Ibm/blib/lib/RDF/AllegroGraph/Repository4.pm line 300.
when is experimental at /tmpfs/.cpan-build/2015121315/RDF-AllegroGraph-Easy-0.08-Az_Ibm/blib/lib/RDF/AllegroGraph/Repository4.pm line 301.
given is experimental at /tmpfs/.cpan-build/2015121315/RDF-AllegroGraph-Easy-0.08-Az_Ibm/blib/lib/RDF/AllegroGraph/Repository4.pm line 436.
when is experimental at /tmpfs/.cpan-build/2015121315/RDF-AllegroGraph-Easy-0.08-Az_Ibm/blib/lib/RDF/AllegroGraph/Repository4.pm line 437.
t/v4_03_sna.t .......... ok
given is experimental at /tmpfs/.cpan-build/2015121315/RDF-AllegroGraph-Easy-0.08-Az_Ibm/blib/lib/RDF/AllegroGraph/Repository.pm line 167.
when is experimental at /tmpfs/.cpan-build/2015121315/RDF-AllegroGraph-Easy-0.08-Az_Ibm/blib/lib/RDF/AllegroGraph/Repository.pm line 168.
when is experimental at /tmpfs/.cpan-build/2015121315/RDF-AllegroGraph-Easy-0.08-Az_Ibm/blib/lib/RDF/AllegroGraph/Repository.pm line 173.
when is experimental at /tmpfs/.cpan-build/2015121315/RDF-AllegroGraph-Easy-0.08-Az_Ibm/blib/lib/RDF/AllegroGraph/Repository.pm line 179.
given is experimental at /tmpfs/.cpan-build/2015121315/RDF-AllegroGraph-Easy-0.08-Az_Ibm/blib/lib/RDF/AllegroGraph/Repository.pm line 207.
when is experimental at /tmpfs/.cpan-build/2015121315/RDF-AllegroGraph-Easy-0.08-Az_Ibm/blib/lib/RDF/AllegroGraph/Repository.pm line 208.
when is experimental at /tmpfs/.cpan-build/2015121315/RDF-AllegroGraph-Easy-0.08-Az_Ibm/blib/lib/RDF/AllegroGraph/Repository.pm line 209.
when is experimental at /tmpfs/.cpan-build/2015121315/RDF-AllegroGraph-Easy-0.08-Az_Ibm/blib/lib/RDF/AllegroGraph/Repository.pm line 210.
when is experimental at /tmpfs/.cpan-build/2015121315/RDF-AllegroGraph-Easy-0.08-Az_Ibm/blib/lib/RDF/AllegroGraph/Repository.pm line 211.
given is experimental at /tmpfs/.cpan-build/2015121315/RDF-AllegroGraph-Easy-0.08-Az_Ibm/blib/lib/RDF/AllegroGraph/Repository3.pm line 83.
when is experimental at /tmpfs/.cpan-build/2015121315/RDF-AllegroGraph-Easy-0.08-Az_Ibm/blib/lib/RDF/AllegroGraph/Repository3.pm line 84.
when is experimental at /tmpfs/.cpan-build/2015121315/RDF-AllegroGraph-Easy-0.08-Az_Ibm/blib/lib/RDF/AllegroGraph/Repository3.pm line 89.
when is experimental at /tmpfs/.cpan-build/2015121315/RDF-AllegroGraph-Easy-0.08-Az_Ibm/blib/lib/RDF/AllegroGraph/Repository3.pm line 95.
given is experimental at /tmpfs/.cpan-build/2015121315/RDF-AllegroGraph-Easy-0.08-Az_Ibm/blib/lib/RDF/AllegroGraph/Repository3.pm line 123.
when is experimental at /tmpfs/.cpan-build/2015121315/RDF-AllegroGraph-Easy-0.08-Az_Ibm/blib/lib/RDF/AllegroGraph/Repository3.pm line 124.
when is experimental at /tmpfs/.cpan-build/2015121315/RDF-AllegroGraph-Easy-0.08-Az_Ibm/blib/lib/RDF/AllegroGraph/Repository3.pm line 125.
when is experimental at /tmpfs/.cpan-build/2015121315/RDF-AllegroGraph-Easy-0.08-Az_Ibm/blib/lib/RDF/AllegroGraph/Repository3.pm line 126.
when is experimental at /tmpfs/.cpan-build/2015121315/RDF-AllegroGraph-Easy-0.08-Az_Ibm/blib/lib/RDF/AllegroGraph/Repository3.pm line 127.
given is experimental at /tmpfs/.cpan-build/2015121315/RDF-AllegroGraph-Easy-0.08-Az_Ibm/blib/lib/RDF/AllegroGraph/Repository3.pm line 185.
when is experimental at /tmpfs/.cpan-build/2015121315/RDF-AllegroGraph-Easy-0.08-Az_Ibm/blib/lib/RDF/AllegroGraph/Repository3.pm line 186.
given is experimental at /tmpfs/.cpan-build/2015121315/RDF-AllegroGraph-Easy-0.08-Az_Ibm/blib/lib/RDF/AllegroGraph/Session4.pm line 123.
when is experimental at /tmpfs/.cpan-build/2015121315/RDF-AllegroGraph-Easy-0.08-Az_Ibm/blib/lib/RDF/AllegroGraph/Session4.pm line 124.
when is experimental at /tmpfs/.cpan-build/2015121315/RDF-AllegroGraph-Easy-0.08-Az_Ibm/blib/lib/RDF/AllegroGraph/Session4.pm line 127.
when is experimental at /tmpfs/.cpan-build/2015121315/RDF-AllegroGraph-Easy-0.08-Az_Ibm/blib/lib/RDF/AllegroGraph/Session4.pm line 130.
given is experimental at /tmpfs/.cpan-build/2015121315/RDF-AllegroGraph-Easy-0.08-Az_Ibm/blib/lib/RDF/AllegroGraph/Repository4.pm line 257.
when is experimental at /tmpfs/.cpan-build/2015121315/RDF-AllegroGraph-Easy-0.08-Az_Ibm/blib/lib/RDF/AllegroGraph/Repository4.pm line 258.
when is experimental at /tmpfs/.cpan-build/2015121315/RDF-AllegroGraph-Easy-0.08-Az_Ibm/blib/lib/RDF/AllegroGraph/Repository4.pm line 263.
when is experimental at /tmpfs/.cpan-build/2015121315/RDF-AllegroGraph-Easy-0.08-Az_Ibm/blib/lib/RDF/AllegroGraph/Repository4.pm line 269.
given is experimental at /tmpfs/.cpan-build/2015121315/RDF-AllegroGraph-Easy-0.08-Az_Ibm/blib/lib/RDF/AllegroGraph/Repository4.pm line 297.
when is experimental at /tmpfs/.cpan-build/2015121315/RDF-AllegroGraph-Easy-0.08-Az_Ibm/blib/lib/RDF/AllegroGraph/Repository4.pm line 298.
when is experimental at /tmpfs/.cpan-build/2015121315/RDF-AllegroGraph-Easy-0.08-Az_Ibm/blib/lib/RDF/AllegroGraph/Repository4.pm line 299.
when is experimental at /tmpfs/.cpan-build/2015121315/RDF-AllegroGraph-Easy-0.08-Az_Ibm/blib/lib/RDF/AllegroGraph/Repository4.pm line 300.
when is experimental at /tmpfs/.cpan-build/2015121315/RDF-AllegroGraph-Easy-0.08-Az_Ibm/blib/lib/RDF/AllegroGraph/Repository4.pm line 301.
given is experimental at /tmpfs/.cpan-build/2015121315/RDF-AllegroGraph-Easy-0.08-Az_Ibm/blib/lib/RDF/AllegroGraph/Repository4.pm line 436.
when is experimental at /tmpfs/.cpan-build/2015121315/RDF-AllegroGraph-Easy-0.08-Az_Ibm/blib/lib/RDF/AllegroGraph/Repository4.pm line 437.
t/v4_04_easy.t ......... ok
All tests successful.
Files=16, Tests=43, 3 wallclock secs ( 0.07 usr 0.09 sys + 1.49 cusr 1.31 csys = 2.96 CPU)
Result: PASS
------------------------------
PREREQUISITES
------------------------------
Prerequisite modules loaded:
build_requires:
Module Need Have
------------------- -------- ----------
DateTime 0 1.21
JSON 0 2.90
LWP 0 6.15
Regexp::Common 0 2013031301
Test::Exception 0 0.40
Test::More 0 1.001014
Test::Pod::Coverage 0 1.10
Time::HiRes 0 1.9728
URI::Escape 0 3.31
configure_requires:
Module Need Have
------------------- -------- ----------
Module::Build 0.340201 0.4214
------------------------------
ENVIRONMENT AND OTHER CONTEXT
------------------------------
Environment variables:
LANG = C
PATH = /usr/local/bin:/usr/bin:/bin:/usr/local/sbin:/usr/sbin:/sbin:/home/eserte/bin/linux-gnu:/home/eserte/bin/sh:/home/eserte/bin:/usr/games:/home/eserte/devel:/home/eserte/src/srezic-misc/scripts
PERL5LIB = /home/eserte/.cpan/build/2015121315/XML-SAX-ExpatXS-1.33-L0npKj/blib/arch:/home/eserte/.cpan/build/2015121315/XML-SAX-ExpatXS-1.33-L0npKj/blib/lib:/home/eserte/.cpan/build/2015121315/Finance-Bank-Halifax-Sharedealing-0.03-Z2dGf_/blib/arch:/home/eserte/.cpan/build/2015121315/Finance-Bank-Halifax-Sharedealing-0.03-Z2dGf_/blib/lib:/home/eserte/.cpan/build/2015121315/Filter-BoxString-0.05-nNmyhc/blib/arch:/home/eserte/.cpan/build/2015121315/Filter-BoxString-0.05-nNmyhc/blib/lib:/home/eserte/.cpan/build/2015121315/WebService-Futu-0.02-C0PdFA/blib/arch:/home/eserte/.cpan/build/2015121315/WebService-Futu-0.02-C0PdFA/blib/lib:/home/eserte/.cpan/build/2015121315/TAIR-GeneDescriptions-1.00-mCY5yZ/blib/arch:/home/eserte/.cpan/build/2015121315/TAIR-GeneDescriptions-1.00-mCY5yZ/blib/lib:/home/eserte/.cpan/build/2015121315/PayflowPro-3101-TopHXY/blib/arch:/home/eserte/.cpan/build/2015121315/PayflowPro-3101-TopHXY/blib/lib:/home/eserte/.cpan/build/2015121315/WebService-NiigataUnyu-v0.0.6-eRmOHr/blib/arch:/home/eserte/.cpan/build/2015121315/WebService-NiigataUnyu-v0.0.6-eRmOHr/blib/lib:/home/eserte/.cpan/build/2015121315/Ticketmaster-1.02-bkT60K/blib/arch:/home/eserte/.cpan/build/2015121315/Ticketmaster-1.02-bkT60K/blib/lib:/home/eserte/.cpan/build/2015121315/Regexp-English-1.01-bjNUAK/blib/arch:/home/eserte/.cpan/build/2015121315/Regexp-English-1.01-bjNUAK/blib/lib:/home/eserte/.cpan/build/2015121315/Net-RTorrent-0.11-gfmShw/blib/arch:/home/eserte/.cpan/build/2015121315/Net-RTorrent-0.11-gfmShw/blib/lib:/home/eserte/.cpan/build/2015121315/List-Parseable-1.06-40_PvI/blib/arch:/home/eserte/.cpan/build/2015121315/List-Parseable-1.06-40_PvI/blib/lib:/home/eserte/.cpan/build/2015121315/Device-Dynamixel-0.027-R2t5Fw/blib/arch:/home/eserte/.cpan/build/2015121315/Device-Dynamixel-0.027-R2t5Fw/blib/lib:/home/eserte/.cpan/build/2015121315/Regex-Iterator-0.4-Hm4yKs/blib/arch:/home/eserte/.cpan/build/2015121315/Regex-Iterator-0.4-Hm4yKs/blib/lib:/home/eserte/.cpan/build/2015121315/Daemon-Easy-0.02-QUsrzZ/blib/arch:/home/eserte/.cpan/build/2015121315/Daemon-Easy-0.02-QUsrzZ/blib/lib:/home/eserte/.cpan/build/2015121315/MooseX-Role-DBIC-0.01-UhqgTR/blib/arch:/home/eserte/.cpan/build/2015121315/MooseX-Role-DBIC-0.01-UhqgTR/blib/lib:/home/eserte/.cpan/build/2015121315/App-Ylastic-CostAgent-0.006-qEMBRA/blib/arch:/home/eserte/.cpan/build/2015121315/App-Ylastic-CostAgent-0.006-qEMBRA/blib/lib:/home/eserte/.cpan/build/2015121315/Time-Piece-Month-1.00-s4QuAY/blib/arch:/home/eserte/.cpan/build/2015121315/Time-Piece-Month-1.00-s4QuAY/blib/lib:/home/eserte/.cpan/build/2015121315/Time-Piece-Range-1.2-yIydNn/blib/arch:/home/eserte/.cpan/build/2015121315/Time-Piece-Range-1.2-yIydNn/blib/lib:/home/eserte/.cpan/build/2015121315/Date-Range-1.41-YpWs8R/blib/arch:/home/eserte/.cpan/build/2015121315/Date-Range-1.41-YpWs8R/blib/lib:/home/eserte/.cpan/build/2015121315/POE-Component-IRC-Plugin-Eval-0.07-n3Xhgb/blib/arch:/home/eserte/.cpan/build/2015121315/POE-Component-IRC-Plugin-Eval-0.07-n3Xhgb/blib/lib:/home/eserte/.cpan/build/2015121315/App-EvalServer-0.08-YNmKXC/blib/arch:/home/eserte/.cpan/build/2015121315/App-EvalServer-0.08-YNmKXC/blib/lib:/home/eserte/.cpan/build/2015121315/POE-Filter-JSON-0.04-aShtNn/blib/arch:/home/eserte/.cpan/build/2015121315/POE-Filter-JSON-0.04-aShtNn/blib/lib:/home/eserte/.cpan/build/2015121315/Plack-App-ImageMagick-1.110990-1upMWY/blib/arch:/home/eserte/.cpan/build/2015121315/Plack-App-ImageMagick-1.110990-1upMWY/blib/lib:/home/eserte/.cpan/build/2015121315/String-Bash-1.110960-7UW2S6/blib/arch:/home/eserte/.cpan/build/2015121315/String-Bash-1.110960-7UW2S6/blib/lib:/home/eserte/.cpan/build/2015121315/Email-Send-SMTP-TLS-0.04-zCjtzR/blib/arch:/home/eserte/.cpan/build/2015121315/Email-Send-SMTP-TLS-0.04-zCjtzR/blib/lib:/home/eserte/.cpan/build/2015121315/Net-SMTP-TLS-ButMaintained-0.24-XxuLr6/blib/arch:/home/eserte/.cpan/build/2015121315/Net-SMTP-TLS-ButMaintained-0.24-XxuLr6/blib/lib:/home/eserte/.cpan/build/2015121315/Date-Darian-Mars-0.003-Nchjpt/blib/arch:/home/eserte/.cpan/build/2015121315/Date-Darian-Mars-0.003-Nchjpt/blib/lib:/home/eserte/.cpan/build/2015121315/TAIR-Blast-1.01-j24sXT/blib/arch:/home/eserte/.cpan/build/2015121315/TAIR-Blast-1.01-j24sXT/blib/lib:/home/eserte/.cpan/build/2015121315/Plack-Middleware-Firebug-Lite-0.2.3-OrXJQi/blib/arch:/home/eserte/.cpan/build/2015121315/Plack-Middleware-Firebug-Lite-0.2.3-OrXJQi/blib/lib:/home/eserte/.cpan/build/2015121315/Net-GPSD3-POE-0.17-QKZxWZ/blib/arch:/home/eserte/.cpan/build/2015121315/Net-GPSD3-POE-0.17-QKZxWZ/blib/lib:/home/eserte/.cpan/build/2015121315/Net-GPSD3-0.19-EB39ws/blib/arch:/home/eserte/.cpan/build/2015121315/Net-GPSD3-0.19-EB39ws/blib/lib:/home/eserte/.cpan/build/2015121315/GPS-Point-0.20-YNIjc3/blib/arch:/home/eserte/.cpan/build/2015121315/GPS-Point-0.20-YNIjc3/blib/lib
PERL5OPT =
PERL5_CPANPLUS_IS_RUNNING = 20168
PERL5_CPAN_IS_RUNNING = 20168
PERL5_CPAN_IS_RUNNING_IN_RECURSION = 2177,20168
PERLDOC = -MPod::Perldoc::ToTextOverstrike
PERL_BATCH = yes
PERL_CANARY_STABILITY_NOPROMPT = 1
PERL_CPAN_REPORTER_CONFIG = /var/tmp/cpansmoker-1001/2015121309/cpanreporter_001_config.ini
PERL_EXTUTILS_AUTOINSTALL = --defaultdeps
SHELL = /bin/zsh
TERM = screen
TMPDIR = /var/tmp/cpansmoker-1001/2015121309
Perl special variables (and OS-specific diagnostics, for MSWin32):
$^X = /bbbike/perl-5.22.1-RC4/bin/perl
$UID/$EUID = 1001 / 1001
$GID = 1001 109 1001
$EGID = 1001 109 1001
Perl module toolchain versions installed:
Module Have
------------------- --------
CPAN 2.10
CPAN::Meta 2.150005
Cwd 3.60
ExtUtils::CBuilder 0.280224
ExtUtils::Command 7.10
ExtUtils::Install 2.04
ExtUtils::MakeMaker 7.10
ExtUtils::Manifest 1.70
ExtUtils::ParseXS 3.30
File::Spec 3.60
JSON 2.90
JSON::PP 2.27300
Module::Build 0.4214
Module::Signature n/a
Parse::CPAN::Meta 1.4417
Test::Harness 3.35
Test::More 1.001014
YAML 1.15
YAML::Syck 1.29
version 0.9912
--
Summary of my perl5 (revision 5 version 22 subversion 1) configuration:
Platform:
osname=linux, osvers=3.2.0-4-amd64, archname=x86_64-linux
uname='linux eserte 3.2.0-4-amd64 #1 smp debian 3.2.68-1+deb7u6 x86_64 gnulinux '
config_args='-ds -e -Dprefix=/opt/perl-5.22.1-RC4 -Dcf_email=srezic@cpan.org'
hint=recommended, useposix=true, d_sigaction=define
useithreads=undef, usemultiplicity=undef
use64bitint=define, use64bitall=define, uselongdouble=undef
usemymalloc=n, bincompat5005=undef
Compiler:
cc='cc', ccflags ='-fwrapv -fno-strict-aliasing -pipe -fstack-protector -I/usr/local/include -D_LARGEFILE_SOURCE -D_FILE_OFFSET_BITS=64 -D_FORTIFY_SOURCE=2',
optimize='-O2',
cppflags='-fwrapv -fno-strict-aliasing -pipe -fstack-protector -I/usr/local/include'
ccversion='', gccversion='4.7.2', gccosandvers=''
intsize=4, longsize=8, ptrsize=8, doublesize=8, byteorder=12345678, doublekind=3
d_longlong=define, longlongsize=8, d_longdbl=define, longdblsize=16, longdblkind=3
ivtype='long', ivsize=8, nvtype='double', nvsize=8, Off_t='off_t', lseeksize=8
alignbytes=8, prototype=define
Linker and Libraries:
ld='cc', ldflags =' -fstack-protector -L/usr/local/lib'
libpth=/usr/local/lib /usr/lib/gcc/x86_64-linux-gnu/4.7/include-fixed /usr/include/x86_64-linux-gnu /usr/lib /lib/x86_64-linux-gnu /lib/../lib /usr/lib/x86_64-linux-gnu /usr/lib/../lib /lib
libs=-lpthread -lnsl -ldb -ldl -lm -lcrypt -lutil -lc
perllibs=-lpthread -lnsl -ldl -lm -lcrypt -lutil -lc
libc=libc-2.13.so, so=so, useshrplib=false, libperl=libperl.a
gnulibc_version='2.13'
Dynamic Linking:
dlsrc=dl_dlopen.xs, dlext=so, d_dlsymun=undef, ccdlflags='-Wl,-E'
cccdlflags='-fPIC', lddlflags='-shared -O2 -L/usr/local/lib -fstack-protector'
Characteristics of this binary (from libperl):
Compile-time options: HAS_TIMES PERLIO_LAYERS PERL_DONT_CREATE_GVSV
PERL_HASH_FUNC_ONE_AT_A_TIME_HARD PERL_MALLOC_WRAP
PERL_NEW_COPY_ON_WRITE PERL_PRESERVE_IVUV
USE_64_BIT_ALL USE_64_BIT_INT USE_LARGE_FILES
USE_LOCALE USE_LOCALE_COLLATE USE_LOCALE_CTYPE
USE_LOCALE_NUMERIC USE_LOCALE_TIME USE_PERLIO
USE_PERL_ATOF
Locally applied patches:
RC4
Built under linux
Compiled at Dec 8 2015 21:50:38
%ENV:
PERL5LIB="/home/eserte/.cpan/build/2015121315/XML-SAX-ExpatXS-1.33-L0npKj/blib/arch:/home/eserte/.cpan/build/2015121315/XML-SAX-ExpatXS-1.33-L0npKj/blib/lib:/home/eserte/.cpan/build/2015121315/Finance-Bank-Halifax-Sharedealing-0.03-Z2dGf_/blib/arch:/home/eserte/.cpan/build/2015121315/Finance-Bank-Halifax-Sharedealing-0.03-Z2dGf_/blib/lib:/home/eserte/.cpan/build/2015121315/Filter-BoxString-0.05-nNmyhc/blib/arch:/home/eserte/.cpan/build/2015121315/Filter-BoxString-0.05-nNmyhc/blib/lib:/home/eserte/.cpan/build/2015121315/WebService-Futu-0.02-C0PdFA/blib/arch:/home/eserte/.cpan/build/2015121315/WebService-Futu-0.02-C0PdFA/blib/lib:/home/eserte/.cpan/build/2015121315/TAIR-GeneDescriptions-1.00-mCY5yZ/blib/arch:/home/eserte/.cpan/build/2015121315/TAIR-GeneDescriptions-1.00-mCY5yZ/blib/lib:/home/eserte/.cpan/build/2015121315/PayflowPro-3101-TopHXY/blib/arch:/home/eserte/.cpan/build/2015121315/PayflowPro-3101-TopHXY/blib/lib:/home/eserte/.cpan/build/2015121315/WebService-NiigataUnyu-v0.0.6-eRmOHr/blib/arch:/home/eserte/.cpan/build/2015121315/WebService-NiigataUnyu-v0.0.6-eRmOHr/blib/lib:/home/eserte/.cpan/build/2015121315/Ticketmaster-1.02-bkT60K/blib/arch:/home/eserte/.cpan/build/2015121315/Ticketmaster-1.02-bkT60K/blib/lib:/home/eserte/.cpan/build/2015121315/Regexp-English-1.01-bjNUAK/blib/arch:/home/eserte/.cpan/build/2015121315/Regexp-English-1.01-bjNUAK/blib/lib:/home/eserte/.cpan/build/2015121315/Net-RTorrent-0.11-gfmShw/blib/arch:/home/eserte/.cpan/build/2015121315/Net-RTorrent-0.11-gfmShw/blib/lib:/home/eserte/.cpan/build/2015121315/List-Parseable-1.06-40_PvI/blib/arch:/home/eserte/.cpan/build/2015121315/List-Parseable-1.06-40_PvI/blib/lib:/home/eserte/.cpan/build/2015121315/Device-Dynamixel-0.027-R2t5Fw/blib/arch:/home/eserte/.cpan/build/2015121315/Device-Dynamixel-0.027-R2t5Fw/blib/lib:/home/eserte/.cpan/build/2015121315/Regex-Iterator-0.4-Hm4yKs/blib/arch:/home/eserte/.cpan/build/2015121315/Regex-Iterator-0.4-Hm4yKs/blib/lib:/home/eserte/.cpan/build/2015121315/Daemon-Easy-0.02-QUsrzZ/blib/arch:/home/eserte/.cpan/build/2015121315/Daemon-Easy-0.02-QUsrzZ/blib/lib:/home/eserte/.cpan/build/2015121315/MooseX-Role-DBIC-0.01-UhqgTR/blib/arch:/home/eserte/.cpan/build/2015121315/MooseX-Role-DBIC-0.01-UhqgTR/blib/lib:/home/eserte/.cpan/build/2015121315/App-Ylastic-CostAgent-0.006-qEMBRA/blib/arch:/home/eserte/.cpan/build/2015121315/App-Ylastic-CostAgent-0.006-qEMBRA/blib/lib:/home/eserte/.cpan/build/2015121315/Time-Piece-Month-1.00-s4QuAY/blib/arch:/home/eserte/.cpan/build/2015121315/Time-Piece-Month-1.00-s4QuAY/blib/lib:/home/eserte/.cpan/build/2015121315/Time-Piece-Range-1.2-yIydNn/blib/arch:/home/eserte/.cpan/build/2015121315/Time-Piece-Range-1.2-yIydNn/blib/lib:/home/eserte/.cpan/build/2015121315/Date-Range-1.41-YpWs8R/blib/arch:/home/eserte/.cpan/build/2015121315/Date-Range-1.41-YpWs8R/blib/lib:/home/eserte/.cpan/build/2015121315/POE-Component-IRC-Plugin-Eval-0.07-n3Xhgb/blib/arch:/home/eserte/.cpan/build/2015121315/POE-Component-IRC-Plugin-Eval-0.07-n3Xhgb/blib/lib:/home/eserte/.cpan/build/2015121315/App-EvalServer-0.08-YNmKXC/blib/arch:/home/eserte/.cpan/build/2015121315/App-EvalServer-0.08-YNmKXC/blib/lib:/home/eserte/.cpan/build/2015121315/POE-Filter-JSON-0.04-aShtNn/blib/arch:/home/eserte/.cpan/build/2015121315/POE-Filter-JSON-0.04-aShtNn/blib/lib:/home/eserte/.cpan/build/2015121315/Plack-App-ImageMagick-1.110990-1upMWY/blib/arch:/home/eserte/.cpan/build/2015121315/Plack-App-ImageMagick-1.110990-1upMWY/blib/lib:/home/eserte/.cpan/build/2015121315/String-Bash-1.110960-7UW2S6/blib/arch:/home/eserte/.cpan/build/2015121315/String-Bash-1.110960-7UW2S6/blib/lib:/home/eserte/.cpan/build/2015121315/Email-Send-SMTP-TLS-0.04-zCjtzR/blib/arch:/home/eserte/.cpan/build/2015121315/Email-Send-SMTP-TLS-0.04-zCjtzR/blib/lib:/home/eserte/.cpan/build/2015121315/Net-SMTP-TLS-ButMaintained-0.24-XxuLr6/blib/arch:/home/eserte/.cpan/build/2015121315/Net-SMTP-TLS-ButMaintained-0.24-XxuLr6/blib/lib:/home/eserte/.cpan/build/2015121315/Date-Darian-Mars-0.003-Nchjpt/blib/arch:/home/eserte/.cpan/build/2015121315/Date-Darian-Mars-0.003-Nchjpt/blib/lib:/home/eserte/.cpan/build/2015121315/TAIR-Blast-1.01-j24sXT/blib/arch:/home/eserte/.cpan/build/2015121315/TAIR-Blast-1.01-j24sXT/blib/lib:/home/eserte/.cpan/build/2015121315/Plack-Middleware-Firebug-Lite-0.2.3-OrXJQi/blib/arch:/home/eserte/.cpan/build/2015121315/Plack-Middleware-Firebug-Lite-0.2.3-OrXJQi/blib/lib:/home/eserte/.cpan/build/2015121315/Net-GPSD3-POE-0.17-QKZxWZ/blib/arch:/home/eserte/.cpan/build/2015121315/Net-GPSD3-POE-0.17-QKZxWZ/blib/lib:/home/eserte/.cpan/build/2015121315/Net-GPSD3-0.19-EB39ws/blib/arch:/home/eserte/.cpan/build/2015121315/Net-GPSD3-0.19-EB39ws/blib/lib:/home/eserte/.cpan/build/2015121315/GPS-Point-0.20-YNIjc3/blib/arch:/home/eserte/.cpan/build/2015121315/GPS-Point-0.20-YNIjc3/blib/lib"
PERL5OPT=""
PERL5_CPANPLUS_IS_RUNNING="20168"
PERL5_CPAN_IS_RUNNING="20168"
PERL5_CPAN_IS_RUNNING_IN_RECURSION="2177,20168"
PERLDOC="-MPod::Perldoc::ToTextOverstrike"
PERL_BATCH="yes"
PERL_CANARY_STABILITY_NOPROMPT="1"
PERL_CPAN_REPORTER_CONFIG="/var/tmp/cpansmoker-1001/2015121309/cpanreporter_001_config.ini"
PERL_EXTUTILS_AUTOINSTALL="--defaultdeps"
@INC:
/home/eserte/.cpan/build/2015121315/XML-SAX-ExpatXS-1.33-L0npKj/blib/arch
/home/eserte/.cpan/build/2015121315/XML-SAX-ExpatXS-1.33-L0npKj/blib/lib
/home/eserte/.cpan/build/2015121315/Finance-Bank-Halifax-Sharedealing-0.03-Z2dGf_/blib/arch
/home/eserte/.cpan/build/2015121315/Finance-Bank-Halifax-Sharedealing-0.03-Z2dGf_/blib/lib
/home/eserte/.cpan/build/2015121315/Filter-BoxString-0.05-nNmyhc/blib/arch
/home/eserte/.cpan/build/2015121315/Filter-BoxString-0.05-nNmyhc/blib/lib
/home/eserte/.cpan/build/2015121315/WebService-Futu-0.02-C0PdFA/blib/arch
/home/eserte/.cpan/build/2015121315/WebService-Futu-0.02-C0PdFA/blib/lib
/home/eserte/.cpan/build/2015121315/TAIR-GeneDescriptions-1.00-mCY5yZ/blib/arch
/home/eserte/.cpan/build/2015121315/TAIR-GeneDescriptions-1.00-mCY5yZ/blib/lib
/home/eserte/.cpan/build/2015121315/PayflowPro-3101-TopHXY/blib/arch
/home/eserte/.cpan/build/2015121315/PayflowPro-3101-TopHXY/blib/lib
/home/eserte/.cpan/build/2015121315/WebService-NiigataUnyu-v0.0.6-eRmOHr/blib/arch
/home/eserte/.cpan/build/2015121315/WebService-NiigataUnyu-v0.0.6-eRmOHr/blib/lib
/home/eserte/.cpan/build/2015121315/Ticketmaster-1.02-bkT60K/blib/arch
/home/eserte/.cpan/build/2015121315/Ticketmaster-1.02-bkT60K/blib/lib
/home/eserte/.cpan/build/2015121315/Regexp-English-1.01-bjNUAK/blib/arch
/home/eserte/.cpan/build/2015121315/Regexp-English-1.01-bjNUAK/blib/lib
/home/eserte/.cpan/build/2015121315/Net-RTorrent-0.11-gfmShw/blib/arch
/home/eserte/.cpan/build/2015121315/Net-RTorrent-0.11-gfmShw/blib/lib
/home/eserte/.cpan/build/2015121315/List-Parseable-1.06-40_PvI/blib/arch
/home/eserte/.cpan/build/2015121315/List-Parseable-1.06-40_PvI/blib/lib
/home/eserte/.cpan/build/2015121315/Device-Dynamixel-0.027-R2t5Fw/blib/arch
/home/eserte/.cpan/build/2015121315/Device-Dynamixel-0.027-R2t5Fw/blib/lib
/home/eserte/.cpan/build/2015121315/Regex-Iterator-0.4-Hm4yKs/blib/arch
/home/eserte/.cpan/build/2015121315/Regex-Iterator-0.4-Hm4yKs/blib/lib
/home/eserte/.cpan/build/2015121315/Daemon-Easy-0.02-QUsrzZ/blib/arch
/home/eserte/.cpan/build/2015121315/Daemon-Easy-0.02-QUsrzZ/blib/lib
/home/eserte/.cpan/build/2015121315/MooseX-Role-DBIC-0.01-UhqgTR/blib/arch
/home/eserte/.cpan/build/2015121315/MooseX-Role-DBIC-0.01-UhqgTR/blib/lib
/home/eserte/.cpan/build/2015121315/App-Ylastic-CostAgent-0.006-qEMBRA/blib/arch
/home/eserte/.cpan/build/2015121315/App-Ylastic-CostAgent-0.006-qEMBRA/blib/lib
/home/eserte/.cpan/build/2015121315/Time-Piece-Month-1.00-s4QuAY/blib/arch
/home/eserte/.cpan/build/2015121315/Time-Piece-Month-1.00-s4QuAY/blib/lib
/home/eserte/.cpan/build/2015121315/Time-Piece-Range-1.2-yIydNn/blib/arch
/home/eserte/.cpan/build/2015121315/Time-Piece-Range-1.2-yIydNn/blib/lib
/home/eserte/.cpan/build/2015121315/Date-Range-1.41-YpWs8R/blib/arch
/home/eserte/.cpan/build/2015121315/Date-Range-1.41-YpWs8R/blib/lib
/home/eserte/.cpan/build/2015121315/POE-Component-IRC-Plugin-Eval-0.07-n3Xhgb/blib/arch
/home/eserte/.cpan/build/2015121315/POE-Component-IRC-Plugin-Eval-0.07-n3Xhgb/blib/lib
/home/eserte/.cpan/build/2015121315/App-EvalServer-0.08-YNmKXC/blib/arch
/home/eserte/.cpan/build/2015121315/App-EvalServer-0.08-YNmKXC/blib/lib
/home/eserte/.cpan/build/2015121315/POE-Filter-JSON-0.04-aShtNn/blib/arch
/home/eserte/.cpan/build/2015121315/POE-Filter-JSON-0.04-aShtNn/blib/lib
/home/eserte/.cpan/build/2015121315/Plack-App-ImageMagick-1.110990-1upMWY/blib/arch
/home/eserte/.cpan/build/2015121315/Plack-App-ImageMagick-1.110990-1upMWY/blib/lib
/home/eserte/.cpan/build/2015121315/String-Bash-1.110960-7UW2S6/blib/arch
/home/eserte/.cpan/build/2015121315/String-Bash-1.110960-7UW2S6/blib/lib
/home/eserte/.cpan/build/2015121315/Email-Send-SMTP-TLS-0.04-zCjtzR/blib/arch
/home/eserte/.cpan/build/2015121315/Email-Send-SMTP-TLS-0.04-zCjtzR/blib/lib
/home/eserte/.cpan/build/2015121315/Net-SMTP-TLS-ButMaintained-0.24-XxuLr6/blib/arch
/home/eserte/.cpan/build/2015121315/Net-SMTP-TLS-ButMaintained-0.24-XxuLr6/blib/lib
/home/eserte/.cpan/build/2015121315/Date-Darian-Mars-0.003-Nchjpt/blib/arch
/home/eserte/.cpan/build/2015121315/Date-Darian-Mars-0.003-Nchjpt/blib/lib
/home/eserte/.cpan/build/2015121315/TAIR-Blast-1.01-j24sXT/blib/arch
/home/eserte/.cpan/build/2015121315/TAIR-Blast-1.01-j24sXT/blib/lib
/home/eserte/.cpan/build/2015121315/Plack-Middleware-Firebug-Lite-0.2.3-OrXJQi/blib/arch
/home/eserte/.cpan/build/2015121315/Plack-Middleware-Firebug-Lite-0.2.3-OrXJQi/blib/lib
/home/eserte/.cpan/build/2015121315/Net-GPSD3-POE-0.17-QKZxWZ/blib/arch
/home/eserte/.cpan/build/2015121315/Net-GPSD3-POE-0.17-QKZxWZ/blib/lib
/home/eserte/.cpan/build/2015121315/Net-GPSD3-0.19-EB39ws/blib/arch
/home/eserte/.cpan/build/2015121315/Net-GPSD3-0.19-EB39ws/blib/lib
/home/eserte/.cpan/build/2015121315/GPS-Point-0.20-YNIjc3/blib/arch
/home/eserte/.cpan/build/2015121315/GPS-Point-0.20-YNIjc3/blib/lib
/opt/perl-5.22.1-RC4/lib/site_perl/5.22.1/x86_64-linux
/opt/perl-5.22.1-RC4/lib/site_perl/5.22.1
/opt/perl-5.22.1-RC4/lib/5.22.1/x86_64-linux
/opt/perl-5.22.1-RC4/lib/5.22.1
.