Search-Elasticsearch-Cxn-NetCurl v7.715 Perl 5 v5.16.3 darwin-thread-multi-2level

Status
Pass
From
David Cantrell (DCANTRELL)
Dist
Search-Elasticsearch-Cxn-NetCurl v7.715
Platform
Perl 5 v5.16.3 darwin-thread-multi-2level
Date
2021-10-21 09:56:31
ID
2ad3701c-3255-11ec-ad42-d1a3a01ec2be
This distribution has been tested as part of the CPAN Testers
project, supporting the Perl programming language.  See
http://wiki.cpantesters.org/ for more information or email
questions to cpan-testers-discuss@perl.org


--
Dear Enrico Zimuel,

This is a computer-generated report for Search-Elasticsearch-Cxn-NetCurl-7.715
on perl 5.16.3, created by CPAN-Reporter-1.2018.

Thank you for uploading your work to CPAN.  Congratulations!
All tests were successful.

Sections of this report:

    * Tester comments
    * Program output
    * Prerequisites
    * Environment and other context

------------------------------
TESTER COMMENTS
------------------------------

Additional comments from tester:

this report is from an automated smoke testing program
and was not reviewed by a human for accuracy

------------------------------
PROGRAM OUTPUT
------------------------------

Output from '/usr/bin/make test':

PERL_DL_NONLAZY=1 "/Users/cpantesting/cpantesting/perl-5.16.3/bin/perl" "-MExtUtils::Command::MM" "-MTest::Harness" "-e" "undef *Test::Harness::Switches; test_harness(0, 'blib/lib', 'blib/arch')" t/*.t t/10_Basic/*.t t/20_Serializer/*.t t/30_Logger/*.t t/40_Transport/*.t t/50_Cxn_Pool/*.t t/60_Cxn/*.t t/95_TestServer/*.t t/Client_6_0/*.t t/Client_7_0/*.t
t/10_Basic/10_load.t .......................... ok
t/20_Serializer/10_load_cpanel.t .............. ok
t/20_Serializer/11_load_xs.t .................. ok
t/20_Serializer/12_load_pp.t .................. ok
t/20_Serializer/13_preload_cpanel.t ........... ok
t/20_Serializer/14_preload_xs.t ............... ok
t/20_Serializer/20_xs_encode_decode.t ......... ok
t/20_Serializer/21_xs_encode_bulk.t ........... ok
t/20_Serializer/22_xs_encode_pretty.t ......... ok
t/20_Serializer/30_cpanel_encode_decode.t ..... ok
t/20_Serializer/31_cpanel_encode_bulk.t ....... ok
t/20_Serializer/32_cpanel_encode_pretty.t ..... ok
t/20_Serializer/40_pp_encode_decode.t ......... ok
t/20_Serializer/41_pp_encode_bulk.t ........... ok
t/20_Serializer/42_pp_encode_pretty.t ......... ok
Current cxns: ["http://localhost:9200"]
Forcing ping before next use on all live cxns
Ping [http://localhost:9200] before next request
t/30_Logger/10_explicit.t ..................... ok
Current cxns: ["http://localhost:9200"]
Forcing ping before next use on all live cxns
Ping [http://localhost:9200] before next request
t/30_Logger/20_implicit.t ..................... ok
t/30_Logger/30_log_methods.t .................. ok
t/30_Logger/40_trace_request.t ................ ok
t/30_Logger/50_trace_response.t ............... ok
t/30_Logger/60_trace_error.t .................. ok
t/30_Logger/70_trace_comment.t ................ ok
t/30_Logger/80_deprecation_methods.t .......... ok
t/30_Logger/90_error_json.t ................... ok
t/40_Transport/10_tidy_request.t .............. ok
t/40_Transport/20_send_body_as.t .............. ok
t/40_Transport/30_perform_request.t ........... ok
t/50_Cxn_Pool/10_static_normal.t .............. ok
t/50_Cxn_Pool/11_static_node_missing.t ........ ok
t/50_Cxn_Pool/12_static_node_fails.t .......... ok
t/50_Cxn_Pool/13_static_node_timesout.t ....... ok
t/50_Cxn_Pool/14_static_both_nodes_timeout.t .. ok
t/50_Cxn_Pool/15_static_both_nodes_fail.t ..... ok
t/50_Cxn_Pool/16_static_nodes_starting.t ...... ok
t/50_Cxn_Pool/17_static_runaway_nodes.t ....... ok
t/50_Cxn_Pool/30_sniff_normal.t ............... ok
t/50_Cxn_Pool/31_sniff_new_nodes.t ............ ok
t/50_Cxn_Pool/32_sniff_node_fails.t ........... ok
t/50_Cxn_Pool/33_sniff_both_nodes_fail.t ...... ok
t/50_Cxn_Pool/34_sniff_node_timeout.t ......... ok
t/50_Cxn_Pool/35_sniff_both_nodes_timeout.t ... ok
t/50_Cxn_Pool/36_sniff_nodes_starting.t ....... ok
t/50_Cxn_Pool/37_sniff_runaway_nodes.t ........ ok
t/50_Cxn_Pool/38_bad_sniff.t .................. ok
t/50_Cxn_Pool/39_sniff_max_content.t .......... ok
t/50_Cxn_Pool/40_sniff_extract_host.t ......... ok
t/50_Cxn_Pool/50_noping_normal.t .............. ok
t/50_Cxn_Pool/51_noping_node_fails.t .......... ok
t/50_Cxn_Pool/52_noping_node_timesout.t ....... ok
t/50_Cxn_Pool/53_noping_all_nodes_fail.t ...... ok
t/50_Cxn_Pool/54_noping_nodes_starting.t ...... ok
t/50_Cxn_Pool/55_noping_runaway_nodes.t ....... ok
t/50_Cxn_Pool/56_max_retries.t ................ ok
t/60_Cxn/10_basic.t ........................... ok
t/60_Cxn/20_process_response.t ................ ok
t/60_Cxn/30_http.t ............................ ok
t/95_TestServer/00_test_server.t .............. ok
t/95_TestServer/10_test_server_fork.t ......... ok
t/author-eol.t ................................ skipped: these tests are for testing by the author
t/author-no-tabs.t ............................ skipped: these tests are for testing by the author
t/author-pod-syntax.t ......................... skipped: these tests are for testing by the author
t/Client_6_0/00_print_version.t ............... skipped: No $ENV{CLIENT_VER} specified
t/Client_6_0/10_live.t ........................ skipped: No $ENV{CLIENT_VER} specified
t/Client_6_0/15_conflict.t .................... skipped: No $ENV{CLIENT_VER} specified
t/Client_6_0/23_fork_netcurl.t ................ skipped: No $ENV{CLIENT_VER} specified
t/Client_6_0/30_bulk_add_action.t ............. skipped: No $ENV{CLIENT_VER} specified
t/Client_6_0/31_bulk_helpers.t ................ skipped: No $ENV{CLIENT_VER} specified
t/Client_6_0/32_bulk_flush.t .................. skipped: No $ENV{CLIENT_VER} specified
t/Client_6_0/33_bulk_errors.t ................. skipped: No $ENV{CLIENT_VER} specified
t/Client_6_0/34_bulk_cxn_errors.t ............. skipped: No $ENV{CLIENT_VER} specified
t/Client_6_0/40_scroll.t ...................... skipped: No $ENV{CLIENT_VER} specified
t/Client_6_0/62_auth_netcurl.t ................ skipped: NetCurl - No https server specified in ES_SSL
t/Client_7_0/00_print_version.t ............... skipped: No $ENV{CLIENT_VER} specified
t/Client_7_0/10_live.t ........................ skipped: No $ENV{CLIENT_VER} specified
t/Client_7_0/23_fork_netcurl.t ................ skipped: No $ENV{CLIENT_VER} specified
t/Client_7_0/30_bulk_add_action.t ............. skipped: No $ENV{CLIENT_VER} specified
t/Client_7_0/31_bulk_helpers.t ................ skipped: No $ENV{CLIENT_VER} specified
t/Client_7_0/32_bulk_flush.t .................. skipped: No $ENV{CLIENT_VER} specified
t/Client_7_0/33_bulk_errors.t ................. skipped: No $ENV{CLIENT_VER} specified
t/Client_7_0/34_bulk_cxn_errors.t ............. skipped: No $ENV{CLIENT_VER} specified
t/Client_7_0/40_scroll.t ...................... skipped: No $ENV{CLIENT_VER} specified
t/Client_7_0/62_auth_netcurl.t ................ skipped: NetCurl - No https server specified in ES_SSL
All tests successful.
Files=82, Tests=573, 16 wallclock secs ( 0.19 usr  0.13 sys + 13.78 cusr  1.91 csys = 16.01 CPU)
Result: PASS

------------------------------
PREREQUISITES
------------------------------

Prerequisite modules loaded:

requires:

    Module                      Need Have    
    --------------------------- ---- --------
    HTTP::Parser::XS            0    0.17    
    Moo                         0    2.005004
    namespace::clean            0    0.27    
    Net::Curl::Easy             0    0.49    
    Search::Elasticsearch       7.00 7.715   
    Try::Tiny                   0    0.30    

build_requires:

    Module                      Need Have    
    --------------------------- ---- --------
    Cpanel::JSON::XS            0    4.25    
    Data::Dumper                0    2.135_06
    File::Temp                  0    0.22    
    JSON::PP                    0    4.05    
    JSON::XS                    0    4.03    
    lib                         0    0.63    
    Log::Any::Adapter           0    1.710   
    Log::Any::Adapter::Callback 0.09 0.101   
    MIME::Base64                0    3.13    
    POSIX                       0    1.30    
    strict                      0    1.07    
    Sub::Exporter               0    0.987   
    Test::Deep                  0    1.130   
    Test::Exception             0    0.43    
    Test::More                  0.98 1.302183
    Test::SharedFork            0    0.35    
    warnings                    0    1.13    


------------------------------
ENVIRONMENT AND OTHER CONTEXT
------------------------------

Environment variables:

    AUTOMATED_TESTING = 1
    NONINTERACTIVE_TESTING = 1
    PATH = /usr/local/bin:/usr/bin:/bin:/usr/sbin:/sbin:/Library/Apple/usr/bin
    PERL = 5.16.3
    PERL5LIB = 
    PERL5OPT = 
    PERL5_CPANPLUS_IS_RUNNING = 13525
    PERL5_CPAN_IS_RUNNING = 13525
    PERLVER = 5.16.3
    PERL_INLINE_DIRECTORY = /Users/cpantesting/.Inline-5.16.3
    PERL_MM_USE_DEFAULT = 1
    PERL_USE_UNSAFE_INC = 0
    SHELL = /bin/bash
    TERM = screen

Perl special variables (and OS-specific diagnostics, for MSWin32):

    $^X = /Users/cpantesting/cpantesting/perl-5.16.3/bin/perl
    $UID/$EUID = 503 / 503
    $GID = 20 20 12 61 703 702 701 100
    $EGID = 20 20 12 61 703 702 701 100

Perl module toolchain versions installed:

    Module              Have    
    ------------------- --------
    CPAN                1.9800  
    CPAN::Meta          2.143240
    Cwd                 3.39_02 
    ExtUtils::CBuilder  0.280235
    ExtUtils::Command   7.58    
    ExtUtils::Install   2.06    
    ExtUtils::MakeMaker 7.58    
    ExtUtils::Manifest  1.70    
    ExtUtils::ParseXS   3.35    
    File::Spec          3.39_02 
    JSON                4.03    
    JSON::PP            4.05    
    Module::Build       0.4231  
    Module::Signature   n/a     
    Parse::CPAN::Meta   1.4414  
    Test::Harness       3.42    
    Test::More          1.302183
    YAML                1.30    
    YAML::Syck          n/a     
    version             0.9929  


--

Summary of my perl5 (revision 5 version 16 subversion 3) configuration:
   
  Platform:
    osname=darwin, osvers=19.6.0, archname=darwin-thread-multi-2level
    uname='darwin harrow.local 19.6.0 darwin kernel version 19.6.0: thu oct 29 22:56:45 pdt 2020; root:xnu-6153.141.2.2~1release_x86_64 x86_64 '
    config_args='-de -Dusethreads -Dprefix=/Users/cpantesting/cpantesting/perl-5.16.3'
    hint=recommended, useposix=true, d_sigaction=define
    useithreads=define, usemultiplicity=define
    useperlio=define, d_sfio=undef, uselargefiles=define, usesocks=undef
    use64bitint=define, use64bitall=define, uselongdouble=undef
    usemymalloc=n, bincompat5005=undef
  Compiler:
    cc='cc', ccflags ='-fno-common -DPERL_DARWIN -fno-strict-aliasing -pipe -fstack-protector -I/usr/local/include',
    optimize='-O3',
    cppflags='-fno-common -DPERL_DARWIN -fno-strict-aliasing -pipe -fstack-protector -I/usr/local/include'
    ccversion='', gccversion='Apple LLVM 12.0.0 (clang-1200.0.32.27)', gccosandvers=''
    intsize=4, longsize=8, ptrsize=8, doublesize=8, byteorder=12345678
    d_longlong=define, longlongsize=8, d_longdbl=define, longdblsize=16
    ivtype='long', ivsize=8, nvtype='double', nvsize=8, Off_t='off_t', lseeksize=8
    alignbytes=8, prototype=define
  Linker and Libraries:
    ld='env MACOSX_DEPLOYMENT_TARGET=10.3 cc', ldflags =' -fstack-protector -L/usr/local/lib'
    libpth=/usr/local/lib /usr/lib
    libs=-lgdbm -ldbm -ldl -lm -lutil -lc
    perllibs=-ldl -lm -lutil -lc
    libc=, so=dylib, useshrplib=false, libperl=libperl.a
    gnulibc_version=''
  Dynamic Linking:
    dlsrc=dl_dlopen.xs, dlext=bundle, d_dlsymun=undef, ccdlflags=' '
    cccdlflags=' ', lddlflags=' -bundle -undefined dynamic_lookup -L/usr/local/lib -fstack-protector'


Characteristics of this binary (from libperl): 
  Compile-time options: HAS_TIMES MULTIPLICITY PERLIO_LAYERS
                        PERL_DONT_CREATE_GVSV PERL_IMPLICIT_CONTEXT
                        PERL_MALLOC_WRAP PERL_PRESERVE_IVUV USE_64_BIT_ALL
                        USE_64_BIT_INT USE_ITHREADS USE_LARGE_FILES
                        USE_LOCALE USE_LOCALE_COLLATE USE_LOCALE_CTYPE
                        USE_LOCALE_NUMERIC USE_PERLIO USE_PERL_ATOF
                        USE_REENTRANT_API
  Built under darwin
  Compiled at Dec 29 2020 22:52:51
  %ENV:
    PERL="5.16.3"
    PERL5LIB=""
    PERL5OPT=""
    PERL5_CPANPLUS_IS_RUNNING="13525"
    PERL5_CPAN_IS_RUNNING="13525"
    PERLVER="5.16.3"
    PERL_INLINE_DIRECTORY="/Users/cpantesting/.Inline-5.16.3"
    PERL_MM_USE_DEFAULT="1"
    PERL_USE_UNSAFE_INC="0"
  @INC:
    /Users/cpantesting/cpantesting/perl-5.16.3/lib/site_perl/5.16.3/darwin-thread-multi-2level
    /Users/cpantesting/cpantesting/perl-5.16.3/lib/site_perl/5.16.3
    /Users/cpantesting/cpantesting/perl-5.16.3/lib/5.16.3/darwin-thread-multi-2level
    /Users/cpantesting/cpantesting/perl-5.16.3/lib/5.16.3
    .