Crypt-OpenSSL-RSA v0.30 Perl 5 v5.8.9 i386-freebsd-64int

Status
Pass
From
Chris Williams (BINGOS)
Dist
Crypt-OpenSSL-RSA v0.30
Platform
Perl 5 v5.8.9 i386-freebsd-64int
Date
2018-08-11 17:58:35
ID
2ae0274c-9d90-11e8-98d5-bb14e5798fec
This distribution has been tested as part of the CPAN Testers
project, supporting the Perl programming language.  See
http://wiki.cpantesters.org/ for more information or email
questions to cpan-testers-discuss@perl.org


--

Dear Todd Rinaldo,

This is a computer-generated error report created automatically by
CPANPLUS, version 0.9176. Testers personal comments may appear
at the end of this report.


Thank you for uploading your work to CPAN.  Congratulations!
All tests were successful.

TEST RESULTS:

Below is the error stack from stage 'make test':

"/usr/home/cpan/pit/64bit/perl-5.8.9/bin/perl" -MExtUtils::Command::MM -e 'cp_nonempty' -- RSA.bs blib/arch/auto/Crypt/OpenSSL/RSA/RSA.bs 644
PERL_DL_NONLAZY=1 "/usr/home/cpan/pit/64bit/perl-5.8.9/bin/perl" "-MExtUtils::Command::MM" "-MTest::Harness" "-e" "undef *Test::Harness::Switches; test_harness(0, 'blib/lib', 'blib/arch')" t/*.t
t/bignum.t .................. skipped: Crypt::OpenSSL::Bignum required for bignum tests
t/format.t .................. ok
t/rsa.t ..................... ok
t/z_kwalitee.t .............. skipped: This test is only run for the module author
t/z_meta.t .................. skipped: This test is only run for the module author
t/z_perl_minimum_version.t .. skipped: Author tests not required for installation
t/z_pod-coverage.t .......... skipped: This test is only run for the module author
t/z_pod.t ................... skipped: This test is only run for the module author
All tests successful.
Files=8, Tests=73,  1 wallclock secs ( 0.05 usr  0.03 sys +  0.70 cusr  0.24 csys =  1.02 CPU)
Result: PASS


PREREQUISITES:

Here is a list of prerequisites you specified and versions we
managed to load:

	  Module Name                        Have     Want
	  Crypt::OpenSSL::Random             0.15        0
	  ExtUtils::MakeMaker                7.34        0
	  Test::More                     1.302136        0

Perl module toolchain versions installed:
	Module Name                        Have
	CPANPLUS                         0.9176
	CPANPLUS::Dist::Build              0.90
	Cwd                                3.74
	ExtUtils::CBuilder             0.280230
	ExtUtils::Command                  7.34
	ExtUtils::Install                  2.14
	ExtUtils::MakeMaker                7.34
	ExtUtils::Manifest                 1.71
	ExtUtils::ParseXS                  3.35
	File::Spec                         3.74
	Module::Build                    0.4224
	Pod::Parser                        1.35
	Pod::Simple                        3.35
	Test2                          1.302136
	Test::Harness                      3.42
	Test::More                     1.302136
	version                          0.9924

******************************** NOTE ********************************
The comments above are created mechanically, possibly without manual
checking by the sender.  As there are many people performing automatic
tests on each upload to CPAN, it is likely that you will receive
identical messages about the same problem.

If you believe that the message is mistaken, please reply to the first
one with correction and/or additional informations, and do not take
it personally.  We appreciate your patience. :)
**********************************************************************

Additional comments:


This report was machine-generated by CPANPLUS::Dist::YACSmoke 1.02.
Powered by minismokebox version 0.68

------------------------------
ENVIRONMENT AND OTHER CONTEXT
------------------------------

Environment variables:

    AUTOMATED_TESTING = 1
    NONINTERACTIVE_TESTING = 1
    PATH = /sbin:/bin:/usr/sbin:/usr/bin:/usr/local/sbin:/usr/local/bin:/home/cpan/bin
    PERL5LIB = :/usr/home/cpan/pit/64bit/conf/perl-5.8.9/.cpanplus/5.8.9/build/Bx1RpjnoOF/Crypt-OpenSSL-Guess-0.11/blib/lib:/usr/home/cpan/pit/64bit/conf/perl-5.8.9/.cpanplus/5.8.9/build/Bx1RpjnoOF/Crypt-OpenSSL-Guess-0.11/blib/arch:/usr/home/cpan/pit/64bit/conf/perl-5.8.9/.cpanplus/5.8.9/build/oIv9at4J_b/Crypt-OpenSSL-Random-0.15/blib/lib:/usr/home/cpan/pit/64bit/conf/perl-5.8.9/.cpanplus/5.8.9/build/oIv9at4J_b/Crypt-OpenSSL-Random-0.15/blib/arch:/usr/home/cpan/pit/64bit/conf/perl-5.8.9/.cpanplus/5.8.9/build/h70D4vsjz8/Crypt-OpenSSL-RSA-0.30/blib/lib:/usr/home/cpan/pit/64bit/conf/perl-5.8.9/.cpanplus/5.8.9/build/h70D4vsjz8/Crypt-OpenSSL-RSA-0.30/blib/arch
    PERL5_CPANPLUS_IS_RUNNING = 99043
    PERL5_CPANPLUS_IS_VERSION = 0.9176
    PERL5_MINISMOKEBOX = 0.68
    PERL5_YACSMOKE_BASE = /usr/home/cpan/pit/64bit/conf/perl-5.8.9
    PERL_EXTUTILS_AUTOINSTALL = --defaultdeps
    PERL_MM_USE_DEFAULT = 1
    PERL_USE_UNSAFE_INC = 1
    SHELL = /usr/local/bin/bash
    TERM = screen

Perl special variables (and OS-specific diagnostics, for MSWin32):

    Perl: $^X = /usr/home/cpan/pit/64bit/perl-5.8.9/bin/perl
    UID:  $<  = 1002
    EUID: $>  = 1002
    GID:  $(  = 1002 1002
    EGID: $)  = 1002 1002


-------------------------------


--

Summary of my perl5 (revision 5 version 8 subversion 9) configuration:
  Platform:
    osname=freebsd, osvers=11.1-release, archname=i386-freebsd-64int
    uname='freebsd ffyrc 11.1-release freebsd 11.1-release #0 r321309: fri jul 21 04:10:47 utc 2017 root@releng2.nyi.freebsd.org:usrobjusrsrcsysgeneric i386 '
    config_args='-des -Dprefix=/usr/home/cpan/pit/64bit/perl-5.8.9 -Duse64bitint'
    hint=recommended, useposix=true, d_sigaction=define
    usethreads=undef use5005threads=undef useithreads=undef usemultiplicity=undef
    useperlio=define d_sfio=undef uselargefiles=define usesocks=undef
    use64bitint=define use64bitall=undef uselongdouble=undef
    usemymalloc=n, bincompat5005=undef
  Compiler:
    cc='cc', ccflags ='-DHAS_FPSETMASK -DHAS_FLOATINGPOINT_H -fno-strict-aliasing -pipe -I/usr/local/include',
    optimize='-O',
    cppflags='-DHAS_FPSETMASK -DHAS_FLOATINGPOINT_H -fno-strict-aliasing -pipe -I/usr/local/include'
    ccversion='', gccversion='4.2.1 Compatible FreeBSD Clang 4.0.0 (tags/RELEASE_400/final 297347)', gccosandvers=''
    intsize=4, longsize=4, ptrsize=4, doublesize=8, byteorder=12345678
    d_longlong=define, longlongsize=8, d_longdbl=define, longdblsize=12
    ivtype='long long', ivsize=8, nvtype='double', nvsize=8, Off_t='off_t', lseeksize=8
    alignbytes=4, prototype=define
  Linker and Libraries:
    ld='cc', ldflags ='-Wl,-E  -L/usr/local/lib'
    libpth=/usr/lib /usr/local/lib
    libs=-lgdbm -lm -lcrypt -lutil -lc
    perllibs=-lm -lcrypt -lutil -lc
    libc=, so=so, useshrplib=false, libperl=libperl.a
    gnulibc_version=''
  Dynamic Linking:
    dlsrc=dl_dlopen.xs, dlext=so, d_dlsymun=undef, ccdlflags=' '
    cccdlflags='-DPIC -fPIC', lddlflags='-shared  -L/usr/local/lib'


Characteristics of this binary (from libperl): 
  Compile-time options: PERL_MALLOC_WRAP USE_64_BIT_INT USE_FAST_STDIO
                        USE_LARGE_FILES USE_PERLIO
  Locally applied patches:
	Devel::PatchPerl 1.48
  Built under freebsd
  Compiled at Jul 30 2017 00:37:15
  %ENV:
    PERL5LIB=":/usr/home/cpan/pit/64bit/conf/perl-5.8.9/.cpanplus/5.8.9/build/Bx1RpjnoOF/Crypt-OpenSSL-Guess-0.11/blib/lib:/usr/home/cpan/pit/64bit/conf/perl-5.8.9/.cpanplus/5.8.9/build/Bx1RpjnoOF/Crypt-OpenSSL-Guess-0.11/blib/arch:/usr/home/cpan/pit/64bit/conf/perl-5.8.9/.cpanplus/5.8.9/build/oIv9at4J_b/Crypt-OpenSSL-Random-0.15/blib/lib:/usr/home/cpan/pit/64bit/conf/perl-5.8.9/.cpanplus/5.8.9/build/oIv9at4J_b/Crypt-OpenSSL-Random-0.15/blib/arch:/usr/home/cpan/pit/64bit/conf/perl-5.8.9/.cpanplus/5.8.9/build/h70D4vsjz8/Crypt-OpenSSL-RSA-0.30/blib/lib:/usr/home/cpan/pit/64bit/conf/perl-5.8.9/.cpanplus/5.8.9/build/h70D4vsjz8/Crypt-OpenSSL-RSA-0.30/blib/arch"
    PERL5_CPANPLUS_IS_RUNNING="99043"
    PERL5_CPANPLUS_IS_VERSION="0.9176"
    PERL5_MINISMOKEBOX="0.68"
    PERL5_YACSMOKE_BASE="/usr/home/cpan/pit/64bit/conf/perl-5.8.9"
    PERL_EXTUTILS_AUTOINSTALL="--defaultdeps"
    PERL_MM_USE_DEFAULT="1"
    PERL_USE_UNSAFE_INC="1"
  @INC:
    /usr/home/cpan/pit/64bit/conf/perl-5.8.9/.cpanplus/5.8.9/build/Bx1RpjnoOF/Crypt-OpenSSL-Guess-0.11/blib/lib
    /usr/home/cpan/pit/64bit/conf/perl-5.8.9/.cpanplus/5.8.9/build/Bx1RpjnoOF/Crypt-OpenSSL-Guess-0.11/blib/arch
    /usr/home/cpan/pit/64bit/conf/perl-5.8.9/.cpanplus/5.8.9/build/oIv9at4J_b/Crypt-OpenSSL-Random-0.15/blib/lib
    /usr/home/cpan/pit/64bit/conf/perl-5.8.9/.cpanplus/5.8.9/build/oIv9at4J_b/Crypt-OpenSSL-Random-0.15/blib/arch
    /usr/home/cpan/pit/64bit/conf/perl-5.8.9/.cpanplus/5.8.9/build/h70D4vsjz8/Crypt-OpenSSL-RSA-0.30/blib/lib
    /usr/home/cpan/pit/64bit/conf/perl-5.8.9/.cpanplus/5.8.9/build/h70D4vsjz8/Crypt-OpenSSL-RSA-0.30/blib/arch
    /usr/home/cpan/pit/64bit/perl-5.8.9/lib/5.8.9/i386-freebsd-64int
    /usr/home/cpan/pit/64bit/perl-5.8.9/lib/5.8.9
    /usr/home/cpan/pit/64bit/perl-5.8.9/lib/site_perl/5.8.9/i386-freebsd-64int
    /usr/home/cpan/pit/64bit/perl-5.8.9/lib/site_perl/5.8.9
    .