Test-WWW-Mechanize v1.60 Perl 5 v5.41.2 OpenBSD.amd64-openbsd-thread-multi
- Status
- Pass
- From
- Carlos Guevara
- Dist
-
Test-WWW-Mechanize v1.60
- Platform
- Perl 5 v5.41.2 OpenBSD.amd64-openbsd-thread-multi
- Date
- 2024-07-10 18:35:22
- ID
- 2ae92f24-3eeb-11ef-b3c7-d526497e7fca
This distribution has been tested as part of the CPAN Testers
project, supporting the Perl programming language. See
http://wiki.cpantesters.org/ for more information or email
questions to cpan-testers-discuss@perl.org
--
Dear Andy Lester,
This is a computer-generated report for Test-WWW-Mechanize-1.60
on perl 5.41.2, created by CPAN-Reporter-1.2019.
Thank you for uploading your work to CPAN. Congratulations!
All tests were successful.
Sections of this report:
* Tester comments
* Program output
* Prerequisites
* Environment and other context
------------------------------
TESTER COMMENTS
------------------------------
Additional comments from tester:
this report is from an automated smoke testing program
and was not reviewed by a human for accuracy
------------------------------
PROGRAM OUTPUT
------------------------------
Output from '/usr/bin/make test':
PERL_DL_NONLAZY=1 "/home/cpan/bin/perl/bin/perl5.41.2" "-MExtUtils::Command::MM" "-MTest::Harness" "-e" "undef *Test::Harness::Switches; test_harness(0, 'blib/lib', 'blib/arch')" t/*.t
# Testing Test::WWW::Mechanize 1.60 on Perl 5.041002, /home/cpan/bin/perl/bin/perl5.41.2
# LWP 6.77
# WWW::Mechanize 2.18
# Test::More 1.302199
# Test::Builder::Tester 1.302199
# Optional HTML::Lint not found. Install it to use additional features.
# Optional HTML::Tidy5 not found. Install it to use additional features.
t/00-load.t ................ ok
t/autolint.t ............... skipped: HTML::Lint 2.20 is not installed, cannot test autolint
t/autotidy.t ............... skipped: Optional HTML::Tidy5 1.00 is not installed, cannot test autotidy.
t/button_exists.t .......... ok
# Test server http://127.0.0.1:34118 as PID 17223
t/click_ok.t ............... ok
t/content_contains.t ....... ok
t/content_lacks.t .......... ok
# Test server http://127.0.0.1:21409 as PID 83712
t/delete_ok.t .............. ok
t/follow_link_ok.t ......... ok
t/followable_links.t ....... ok
t/get_ok-parms.t ........... ok
t/get_ok.t ................. ok
t/has_tag.t ................ ok
t/head_ok-parms.t .......... ok
t/head_ok.t ................ ok
# Test server http://127.0.0.1:21796 as PID 75887
t/headers.t ................ ok
t/html_lint_ok.t ........... skipped: HTML::Lint 2.20 is not installed, cannot test html_lint_ok
t/html_tidy_ok.t ........... skipped: Optional HTML::Tidy5 1.00 is not installed, cannot test html_tidy_ok
t/id_exists.t .............. ok
t/lacks_uncapped_inputs.t .. ok
t/link_content.t ........... ok
t/link_status.t ............ ok
t/links_ok.t ............... ok
t/new.t .................... ok
t/page_links_content.t ..... ok
t/page_links_ok.t .......... ok
t/pod-coverage.t ........... ok
t/pod.t .................... ok
t/post_ok.t ................ ok
# Test server http://127.0.0.1:23122 as PID 89438
t/put_ok.t ................. ok
t/scrape_text_by_id.t ...... ok
t/stuff_inputs.t ........... ok
# Test server http://127.0.0.1:32530 as PID 95501
t/submit_form_ok.t ......... ok
t/text_contains.t .......... ok
t/title_is.t ............... ok
All tests successful.
Files=35, Tests=295, 13 wallclock secs ( 0.08 usr 0.08 sys + 6.30 cusr 1.66 csys = 8.12 CPU)
Result: PASS
------------------------------
PREREQUISITES
------------------------------
Prerequisite modules loaded:
requires:
Module Need Have
------------------------- ----- --------
Carp 0 1.54
Carp::Assert::More 1.16 2.4.0
HTML::Form 0 6.11
HTML::TokeParser 0 3.82
HTTP::Message 6.29 6.46
LWP 6.02 6.77
parent 0 0.241
perl 5.010 5.041002
Test::Builder 0 1.302199
Test::LongString 0.15 0.17
WWW::Mechanize 1.68 2.18
build_requires:
Module Need Have
------------------------- ----- --------
ExtUtils::MakeMaker 0 7.70
HTTP::Server::Simple 0.42 0.52
HTTP::Server::Simple::CGI 0 0
Test::Builder::Tester 1.09 1.302199
Test::More 0.96 1.302199
URI::file 0 5.28
configure_requires:
Module Need Have
------------------------- ----- --------
ExtUtils::MakeMaker 0 7.70
------------------------------
ENVIRONMENT AND OTHER CONTEXT
------------------------------
Environment variables:
AUTOMATED_TESTING = 1
DATE_MANIP_TEST_DM5 = 1
LC_ALL = C
NONINTERACTIVE_TESTING = 1
NO_NETWORK_TESTING = 1
PATH = /home/cpan/bin/perl/bin:/home/cpan/bin:/home/cpan/bin:/bin:/sbin:/usr/bin:/usr/sbin:/usr/X11R6/bin:/usr/local/bin:/usr/local/sbin
PERL5LIB =
PERL5OPT =
PERL5_CPANPLUS_IS_RUNNING = 69985
PERL5_CPAN_IS_RUNNING = 69985
PERL_MM_USE_DEFAULT = 1
PERL_USE_UNSAFE_INC = 1
SHELL = /usr/local/bin/bash
TERM = screen
TMPDIR = /home/cpan/tmp
Perl special variables (and OS-specific diagnostics, for MSWin32):
$^X = /home/cpan/bin/perl/bin/perl5.41.2
$UID/$EUID = 1001 / 1001
$GID = 1001 1001
$EGID = 1001 1001
Perl module toolchain versions installed:
Module Have
------------------- --------
CPAN 2.36
CPAN::Meta 2.150010
Cwd 3.90
ExtUtils::CBuilder 0.280240
ExtUtils::Command 7.70
ExtUtils::Install 2.22
ExtUtils::MakeMaker 7.70
ExtUtils::Manifest 1.75
ExtUtils::ParseXS 3.52
File::Spec 3.90
JSON 4.10
JSON::PP 4.16
Module::Build 0.4234
Module::Signature 0.88
Parse::CPAN::Meta 2.150010
Test2 1.302199
Test::Harness 3.48
Test::More 1.302199
YAML 1.31
YAML::Syck 1.34
version 0.9930
--
Summary of my perl5 (revision 5 version 41 subversion 2) configuration:
Commit id: 1b7e058fb9770a4e4c4baec52baff0b509fc9dbb
Platform:
osname=openbsd
osvers=7.5
archname=OpenBSD.amd64-openbsd-thread-multi
uname='openbsd cjg-openbsd7 7.5 generic#79 amd64 '
config_args='-des -Dprefix=/home/cpan/bin/perl -Dscriptdir=/home/cpan/bin/perl/bin -Dusedevel -Duse64bitall -Duseithreads'
hint=recommended
useposix=true
d_sigaction=define
useithreads=define
usemultiplicity=define
use64bitint=define
use64bitall=define
uselongdouble=undef
usemymalloc=n
default_inc_excludes_dot=define
Compiler:
cc='cc'
ccflags ='-pthread -DNO_LOCALE_NUMERIC -DNO_LOCALE_COLLATE -DNO_LOCALE_MONETARY -DNO_LOCALE_TIME -DNO_LOCALE_MESSAGES -DLIBC_HANDLES_MISMATCHED_CTYPE -fno-strict-aliasing -pipe -fstack-protector-strong -I/usr/local/include'
optimize='-O2'
cppflags='-pthread -DNO_LOCALE_NUMERIC -DNO_LOCALE_COLLATE -DNO_LOCALE_MONETARY -DNO_LOCALE_TIME -DNO_LOCALE_MESSAGES -DLIBC_HANDLES_MISMATCHED_CTYPE -fno-strict-aliasing -pipe -fstack-protector-strong -I/usr/local/include'
ccversion=''
gccversion='OpenBSD Clang 16.0.6'
gccosandvers=''
intsize=4
longsize=8
ptrsize=8
doublesize=8
byteorder=12345678
doublekind=3
d_longlong=define
longlongsize=8
d_longdbl=define
longdblsize=16
longdblkind=3
ivtype='long'
ivsize=8
nvtype='double'
nvsize=8
Off_t='off_t'
lseeksize=8
alignbytes=8
prototype=define
Linker and Libraries:
ld='cc'
ldflags ='-pthread -Wl,-E -fstack-protector-strong -L/usr/local/lib'
libpth=/usr/lib/clang/16/lib /usr/lib /usr/local/lib
libs=-lpthread -lm -lutil -lc
perllibs=-lpthread -lm -lutil -lc
libc=/usr/lib/libc.so.99.0
so=so
useshrplib=false
libperl=libperl.a
gnulibc_version=''
Dynamic Linking:
dlsrc=dl_dlopen.xs
dlext=so
d_dlsymun=undef
ccdlflags=' '
cccdlflags='-DPIC -fPIC '
lddlflags='-shared -fPIC -L/usr/local/lib -fstack-protector-strong'
Characteristics of this binary (from libperl):
Compile-time options:
HAS_LONG_DOUBLE
HAS_STRTOLD
HAS_TIMES
MULTIPLICITY
PERLIO_LAYERS
PERL_COPY_ON_WRITE
PERL_DONT_CREATE_GVSV
PERL_HASH_FUNC_SIPHASH13
PERL_HASH_USE_SBOX32
PERL_MALLOC_WRAP
PERL_OP_PARENT
PERL_PRESERVE_IVUV
PERL_USE_DEVEL
PERL_USE_SAFE_PUTENV
USE_64_BIT_ALL
USE_64_BIT_INT
USE_ITHREADS
USE_LARGE_FILES
USE_LOCALE
USE_LOCALE_CTYPE
USE_PERLIO
USE_PERL_ATOF
USE_REENTRANT_API
USE_THREAD_SAFE_LOCALE
Built under openbsd
Compiled at Jul 10 2024 07:02:11
%ENV:
PERL5LIB=""
PERL5OPT=""
PERL5_CPANPLUS_IS_RUNNING="69985"
PERL5_CPAN_IS_RUNNING="69985"
PERL_MM_USE_DEFAULT="1"
PERL_USE_UNSAFE_INC="1"
@INC:
/home/cpan/bin/perl/lib/site_perl/5.41.2/OpenBSD.amd64-openbsd-thread-multi
/home/cpan/bin/perl/lib/site_perl/5.41.2
/home/cpan/bin/perl/lib/5.41.2/OpenBSD.amd64-openbsd-thread-multi
/home/cpan/bin/perl/lib/5.41.2
.