Google-Data-JSON vv0.1.9 Perl 5 v5.10.0 i686-linux-thread-multi
- Status
- Pass
- From
- Serguei Trouchelle (STRO)
- Dist
-
Google-Data-JSON vv0.1.9
- Platform
- Perl 5 v5.10.0 i686-linux-thread-multi
- Date
- 2010-06-19 14:44:30
- ID
- 2af977e2-7bb1-11df-9d47-3345cdb2d43a
This distribution has been tested as part of the CPAN Testers
project, supporting the Perl programming language. See
http://wiki.cpantesters.org/ for more information or email
questions to cpan-testers-discuss@perl.org
--
Dear Takeru INOUE,
This is a computer-generated report for Google-Data-JSON-v0.1.9
on perl 5.10.0, created by CPAN-Reporter-1.1711.
Thank you for uploading your work to CPAN. Congratulations!
All tests were successful.
Sections of this report:
* Tester comments
* Program output
* Prerequisites
* Environment and other context
------------------------------
TESTER COMMENTS
------------------------------
Additional comments from tester:
this report is from an automated smoke testing program
and was not reviewed by a human for accuracy
------------------------------
PROGRAM OUTPUT
------------------------------
Output from './Build test':
# Testing Google::Data::JSON 0.1.9
t/00.load.t ....... ok
t/01.gdata.t ...... ok
t/perlcritic.t .... skipped: $ENV{TEST_CRITIC} must be set to enable this test
t/pod-coverage.t .. ok
t/pod.t ........... ok
All tests successful.
Files=5, Tests=55, 3 wallclock secs ( 0.14 usr 0.24 sys + 2.03 cusr 0.55 csys = 2.96 CPU)
Result: PASS
------------------------------
PREREQUISITES
------------------------------
Prerequisite modules loaded:
requires:
Module Need Have
-------------------- ---- -------
File::Slurp 0 9999.13
JSON::Any 0 1.22
List::MoreUtils 0 0.22
Perl6::Export::Attrs 0 0.0.3
UNIVERSAL::require 0 0.13
version 0 0.82
XML::Atom 0 0.37
XML::Simple 0 2.18
build_requires:
Module Need Have
-------------------- ---- -------
Test::More 0 0.95_02
Test::NoWarnings 0 0.084
configure_requires:
Module Need Have
-------------------- ---- -------
Module::Build 0.36 0.3607
------------------------------
ENVIRONMENT AND OTHER CONTEXT
------------------------------
Environment variables:
AUTOMATED_TESTING = 1
LANG = en_US.UTF-8
PATH = /usr/local/bin:/usr/bin:/bin:/usr/games
PERL5LIB =
PERL5OPT =
PERL5_CPANPLUS_IS_RUNNING = 29709
PERL5_CPAN_IS_RUNNING = 29709
PERL5_CPAN_IS_RUNNING_IN_RECURSION = 5076,29709
PERL_CR_SMOKER_CURRENT = Google-Data-JSON-v0.1.9
PERL_EXTUTILS_AUTOINSTALL = --defaultdeps
PERL_MM_USE_DEFAULT = 1
SHELL = /bin/bash
TERM = linux
Perl special variables (and OS-specific diagnostics, for MSWin32):
$^X = /home/stro/perl5100/bin/perl
$UID/$EUID = 1000 / 1000
$GID = 1000 20 24 25 29 44 46 1000
$EGID = 1000 20 24 25 29 44 46 1000
Perl module toolchain versions installed:
Module Have
------------------- -------
CPAN 1.94_57
Cwd 3.31
ExtUtils::CBuilder 0.2702
ExtUtils::Command 1.16
ExtUtils::Install 1.54
ExtUtils::MakeMaker 6.56
ExtUtils::Manifest 1.58
ExtUtils::ParseXS 2.2205
File::Spec 3.31
Module::Build 0.3607
Module::Signature 0.61
Test::Harness 3.21
Test::More 0.95_02
YAML 0.71
YAML::Syck 1.10
version 0.82
--
Summary of my perl5 (revision 5 version 10 subversion 0) configuration:
Platform:
osname=linux, osvers=2.6.26-2-686, archname=i686-linux
uname='linux debian5 2.6.26-2-686 #1 smp mon may 11 19:00:59 utc 2009 i686 gnulinux '
config_args=''
hint=recommended, useposix=true, d_sigaction=define
useithreads=undef, usemultiplicity=undef
useperlio=define, d_sfio=undef, uselargefiles=define, usesocks=undef
use64bitint=undef, use64bitall=undef, uselongdouble=undef
usemymalloc=n, bincompat5005=undef
Compiler:
cc='cc', ccflags ='-fno-strict-aliasing -pipe -I/usr/local/include -D_LARGEFILE_SOURCE -D_FILE_OFFSET_BITS=64',
optimize='-O2',
cppflags='-fno-strict-aliasing -pipe -I/usr/local/include'
ccversion='', gccversion='4.3.2', gccosandvers=''
intsize=4, longsize=4, ptrsize=4, doublesize=8, byteorder=1234
d_longlong=define, longlongsize=8, d_longdbl=define, longdblsize=12
ivtype='long', ivsize=4, nvtype='double', nvsize=8, Off_t='off_t', lseeksize=8
alignbytes=4, prototype=define
Linker and Libraries:
ld='cc', ldflags =' -L/usr/local/lib'
libpth=/usr/local/lib /lib /usr/lib
libs=-lnsl -ldl -lm -lcrypt -lutil -lc
perllibs=-lnsl -ldl -lm -lcrypt -lutil -lc
libc=/lib/libc-2.7.so, so=so, useshrplib=false, libperl=libperl.a
gnulibc_version='2.7'
Dynamic Linking:
dlsrc=dl_dlopen.xs, dlext=so, d_dlsymun=undef, ccdlflags='-Wl,-E'
cccdlflags='-fPIC', lddlflags='-shared -O2 -L/usr/local/lib'
Characteristics of this binary (from libperl):
Compile-time options: PERL_DONT_CREATE_GVSV PERL_MALLOC_WRAP
USE_LARGE_FILES USE_PERLIO
Built under linux
Compiled at Dec 16 2009 19:05:35
%ENV:
PERL5LIB=""
PERL5OPT=""
PERL5_CPANPLUS_IS_RUNNING="29709"
PERL5_CPAN_IS_RUNNING="29709"
PERL5_CPAN_IS_RUNNING_IN_RECURSION="5076,29709"
PERL_CR_SMOKER_CURRENT="Google-Data-JSON-v0.1.9"
PERL_EXTUTILS_AUTOINSTALL="--defaultdeps"
PERL_MM_USE_DEFAULT="1"
@INC:
/home/stro/perl5100/lib/5.10.0/i686-linux
/home/stro/perl5100/lib/5.10.0
/home/stro/perl5100/lib/site_perl/5.10.0/i686-linux
/home/stro/perl5100/lib/site_perl/5.10.0
.