Report for Net-HTTP-Spore-Middleware-Header-0.03

Back
From: metabase:user:30f4dfbe-2aae-11df-837a-5e0a49663a4f
Subject: PASS Net-HTTP-Spore-Middleware-Header-0.03 v5.16.3 Mac OS X
Date: 2015-07-10T09:08:02Z

This distribution has been tested as part of the CPAN Testers
project, supporting the Perl programming language.  See
http://wiki.cpantesters.org/ for more information or email
questions to cpan-testers-discuss@perl.org


--
Dear celogeek,

This is a computer-generated report for Net-HTTP-Spore-Middleware-Header-0.03
on perl 5.16.3, created by CPAN-Reporter-1.2014.

Thank you for uploading your work to CPAN.  Congratulations!
All tests were successful.

Sections of this report:

    * Tester comments
    * Program output
    * Prerequisites
    * Environment and other context

------------------------------
TESTER COMMENTS
------------------------------

Additional comments from tester:

this report is from an automated smoke testing program
and was not reviewed by a human for accuracy

------------------------------
PROGRAM OUTPUT
------------------------------

Output from './Build test':

t/00-compile.t ............ ok
# Testing with Perl 5.016003, /Users/hornenj/perl5/perlbrew/perls/perl-5.16.3/bin/perl5.16.3
#     Carp version is 1.36
#     File::Spec version is 3.47
#     IO::Handle version is 1.33
#     IPC::Open3 version is 1.12
#     Module::Build version is 0.4212
#     Moose version is 2.1404
#     Net::HTTP::Spore::Middleware version is 0.06
#     Scalar::Util version is 1.42
#     Test::More version is 1.001014
#     strict version is 1.07
#     warnings version is 1.13
t/000-report-versions.t ... ok
t/author-critic.t ......... skipped: these tests are for testing by the author
t/release-pod-coverage.t .. skipped: these tests are for release candidate testing
t/release-unused-vars.t ... skipped: these tests are for release candidate testing
All tests successful.
Files=5, Tests=12,  1 wallclock secs ( 0.02 usr  0.01 sys +  0.31 cusr  0.07 csys =  0.41 CPU)
Result: PASS

------------------------------
PREREQUISITES
------------------------------

Prerequisite modules loaded:

requires:

    Module                       Need   Have    
    ---------------------------- ------ --------
    Moose                        0      2.1404  
    Net::HTTP::Spore::Middleware 0      0.06    
    perl                         5.006  5.016003
    strict                       0      1.07    
    warnings                     0      1.13    

build_requires:

    Module                       Need   Have    
    ---------------------------- ------ --------
    Carp                         0      1.36    
    File::Spec                   0      3.47    
    IO::Handle                   0      1.33    
    IPC::Open3                   0      1.12    
    Module::Build                0.3601 0.4212  
    perl                         5.006  5.016003
    Scalar::Util                 0      1.42    
    Test::More                   0.94   1.001014

configure_requires:

    Module                       Need   Have    
    ---------------------------- ------ --------
    Module::Build                0.3601 0.4212  


------------------------------
ENVIRONMENT AND OTHER CONTEXT
------------------------------

Environment variables:

    AUTOMATED_TESTING = 1
    LANG = en_US.UTF-8
    LC_ALL = POSIX
    LD_LIBRARY_PATH = :/net/traces01.be-md.ncbi.nlm.nih.gov/trace_software/vdb/mac/release/x86_64/lib
    NO_NETWORK_TESTING = 1
    PATH = /Users/hornenj/perl5/perlbrew/bin:/Users/hornenj/perl5/perlbrew/perls/perl-5.16.3/bin:/Users/hornenj/perl5/perlbrew/bin:/Users/hornenj/perl5/perlbrew/perls/perl-5.6.2/bin:/Users/hornenj/bin:/sw/lib/perl5/ExtUtils:/sw/bin:/am/ncbiapdata/bin:/usr/bin:/bin:/usr/X11R6/bin:/netopt/ncbi_tools/bin:/usr/local/ncbi/blast/bin:/net/traces01.be-md.ncbi.nlm.nih.gov/trace_software/vdb/mac/release/x86_64/bin
    PERL5LIB = /Users/hornenj/.cpan/build/Net-HTTP-Spore-0.06-N_jD14/blib/arch:/Users/hornenj/.cpan/build/Net-HTTP-Spore-0.06-N_jD14/blib/lib:/Users/hornenj/.cpan/build/MooseX-Role-Parameterized-1.08-hhi3gH/blib/arch:/Users/hornenj/.cpan/build/MooseX-Role-Parameterized-1.08-hhi3gH/blib/lib:/Users/hornenj/.cpan/build/MooseX-Role-WithOverloading-0.16-N8Zg0q/blib/arch:/Users/hornenj/.cpan/build/MooseX-Role-WithOverloading-0.16-N8Zg0q/blib/lib:/Users/hornenj/.cpan/build/aliased-0.34-JxejP8/blib/arch:/Users/hornenj/.cpan/build/aliased-0.34-JxejP8/blib/lib:/Users/hornenj/.cpan/build/XML-Simple-2.20-KlmmJ9/blib/arch:/Users/hornenj/.cpan/build/XML-Simple-2.20-KlmmJ9/blib/lib
    PERL5OPT = 
    PERL5_CPANPLUS_IS_RUNNING = 91480
    PERL5_CPAN_IS_RUNNING = 91480
    PERL5_MINISMOKEBOX = 0.58
    PERLBREW_BASHRC_VERSION = 0.73
    PERLBREW_HOME = /Users/hornenj/.perlbrew
    PERLBREW_LIB = 
    PERLBREW_MANPATH = /Users/hornenj/perl5/perlbrew/perls/perl-5.16.3/man
    PERLBREW_PATH = /Users/hornenj/perl5/perlbrew/bin:/Users/hornenj/perl5/perlbrew/perls/perl-5.16.3/bin
    PERLBREW_PERL = perl-5.16.3
    PERLBREW_ROOT = /Users/hornenj/perl5/perlbrew
    PERLBREW_VERSION = 0.73
    PERL_EXTUTILS_AUTOINSTALL = --defaultdeps
    PERL_LOCAL_LIB_ROOT = 
    PERL_MM_USE_DEFAULT = 1
    SHELL = /bin/bash
    TERM = xterm-256color
    TMPDIR = /var/folders/pz/pd7y1qjs6s3cbk170cw50fjc000c61/T/
    VERSIONER_PERL_PREFER_32_BIT = no
    VERSIONER_PERL_VERSION = 5.18
    ac_cv_path_INTLTOOL_PERL = /usr/bin/perl

Perl special variables (and OS-specific diagnostics, for MSWin32):

    $^X = /Users/hornenj/perl5/perlbrew/perls/perl-5.16.3/bin/perl5.16.3
    $UID/$EUID = 12481 / 12481
    $GID = 14 14 5344 37103 527 241
    $EGID = 14 14 5344 37103 527 241

Perl module toolchain versions installed:

    Module              Have    
    ------------------- --------
    CPAN                2.10    
    CPAN::Meta          2.150001
    Cwd                 3.47    
    ExtUtils::CBuilder  0.280223
    ExtUtils::Command   1.20    
    ExtUtils::Install   2.04    
    ExtUtils::MakeMaker 7.04    
    ExtUtils::Manifest  1.70    
    ExtUtils::ParseXS   3.24    
    File::Spec          3.47    
    JSON                2.90    
    JSON::PP            2.27300 
    Module::Build       0.4212  
    Module::Signature   n/a     
    Parse::CPAN::Meta   1.4414  
    Test::Harness       3.35    
    Test::More          1.001014
    YAML                1.15    
    YAML::Syck          1.29    
    version             0.9912  


--

Summary of my perl5 (revision 5 version 16 subversion 3) configuration:
   
  Platform:
    osname=darwin, osvers=13.4.0, archname=darwin-thread-multi-2level
    uname='darwin ncbimac2008.ncbi.nlm.nih.gov 13.4.0 darwin kernel version 13.4.0: sun aug 17 19:50:11 pdt 2014; root:xnu-2422.115.4~1release_x86_64 x86_64 '
    config_args='-de -Dprefix=/Users/hornenj/perl5/perlbrew/perls/perl-5.16.3 -Duseithreads -Dusemultiplicity -Dusedevel -Accflags=-O2 -W -Wformat=2 -Wswitch -Wshadow -Wwrite-strings -Wuninitialized -Wall -pipe -mtune=native -march=native -fomit-frame-pointer -msse2 -msse -mmmx -pedantic -D_FORTIFY_SOURCE=2 -Wpointer-arith -Wstrict-prototypes -fstack-protector -Wstack-protector -Wextra -Wbad-function-cast -Wcast-align -Wcast-qual -Wdisabled-optimization -Wendif-labels -Wfloat-equal -Wformat-nonliteral -Winline -Wmissing-declarations -Wmissing-prototypes -Wnested-externs -Wpointer-arith -Wundef -Wformat-security -fassociative-math -Acc=cc -Aeval:scriptdir=/Users/hornenj/perl5/perlbrew/perls/perl-5.16.3/bin'
    hint=recommended, useposix=true, d_sigaction=define
    useithreads=define, usemultiplicity=define
    useperlio=define, d_sfio=undef, uselargefiles=define, usesocks=undef
    use64bitint=define, use64bitall=define, uselongdouble=undef
    usemymalloc=n, bincompat5005=undef
  Compiler:
    cc=' cc', ccflags ='-fno-common -DPERL_DARWIN -O2 -W -Wformat=2 -Wswitch -Wshadow -Wwrite-strings -Wuninitialized -Wall -pipe -mtune=native -march=native -fomit-frame-pointer -msse2 -msse -mmmx -pedantic -D_FORTIFY_SOURCE=2 -Wpointer-arith -Wstrict-prototypes -fstack-protector -Wstack-protector -Wextra -Wbad-function-cast -Wcast-align -Wcast-qual -Wdisabled-optimization -Wendif-labels -Wfloat-equal -Wformat-nonliteral -Winline -Wmissing-declarations -Wmissing-prototypes -Wnested-externs -Wpointer-arith -Wundef -Wformat-security -fassociative-math -fno-strict-aliasing -I/usr/local/include',
    optimize='-O3',
    cppflags='-fno-common -DPERL_DARWIN -O2 -W -Wformat=2 -Wswitch -Wshadow -Wwrite-strings -Wuninitialized -Wall -pipe -mtune=native -march=native -fomit-frame-pointer -msse2 -msse -mmmx -pedantic -D_FORTIFY_SOURCE=2 -Wpointer-arith -Wstrict-prototypes -fstack-protector -Wstack-protector -Wextra -Wbad-function-cast -Wcast-align -Wcast-qual -Wdisabled-optimization -Wendif-labels -Wfloat-equal -Wformat-nonliteral -Winline -Wmissing-declarations -Wmissing-prototypes -Wnested-externs -Wpointer-arith -Wundef -Wformat-security -fassociative-math -fno-strict-aliasing -I/usr/local/include'
    ccversion='', gccversion='4.2.1 Compatible Apple LLVM 6.0 (clang-600.0.51)', gccosandvers=''
    intsize=4, longsize=8, ptrsize=8, doublesize=8, byteorder=12345678
    d_longlong=define, longlongsize=8, d_longdbl=define, longdblsize=16
    ivtype='long', ivsize=8, nvtype='double', nvsize=8, Off_t='off_t', lseeksize=8
    alignbytes=8, prototype=define
  Linker and Libraries:
    ld='env MACOSX_DEPLOYMENT_TARGET=10.3 cc', ldflags =' -fstack-protector -L/usr/local/lib'
    libpth=/usr/local/lib /usr/lib
    libs=-ldbm -ldl -lm -lutil -lc
    perllibs=-ldl -lm -lutil -lc
    libc=, so=dylib, useshrplib=false, libperl=libperl.a
    gnulibc_version=''
  Dynamic Linking:
    dlsrc=dl_dlopen.xs, dlext=bundle, d_dlsymun=undef, ccdlflags=' '
    cccdlflags=' ', lddlflags=' -bundle -undefined dynamic_lookup -L/usr/local/lib -fstack-protector'


Characteristics of this binary (from libperl): 
  Compile-time options: HAS_TIMES MULTIPLICITY PERLIO_LAYERS
                        PERL_DONT_CREATE_GVSV PERL_IMPLICIT_CONTEXT
                        PERL_MALLOC_WRAP PERL_PRESERVE_IVUV PERL_USE_DEVEL
                        USE_64_BIT_ALL USE_64_BIT_INT USE_ITHREADS
                        USE_LARGE_FILES USE_LOCALE USE_LOCALE_COLLATE
                        USE_LOCALE_CTYPE USE_LOCALE_NUMERIC USE_PERLIO
                        USE_PERL_ATOF USE_REENTRANT_API
  Built under darwin
  Compiled at Nov  6 2014 09:32:39
  %ENV:
    PERL5LIB="/Users/hornenj/.cpan/build/Net-HTTP-Spore-0.06-N_jD14/blib/arch:/Users/hornenj/.cpan/build/Net-HTTP-Spore-0.06-N_jD14/blib/lib:/Users/hornenj/.cpan/build/MooseX-Role-Parameterized-1.08-hhi3gH/blib/arch:/Users/hornenj/.cpan/build/MooseX-Role-Parameterized-1.08-hhi3gH/blib/lib:/Users/hornenj/.cpan/build/MooseX-Role-WithOverloading-0.16-N8Zg0q/blib/arch:/Users/hornenj/.cpan/build/MooseX-Role-WithOverloading-0.16-N8Zg0q/blib/lib:/Users/hornenj/.cpan/build/aliased-0.34-JxejP8/blib/arch:/Users/hornenj/.cpan/build/aliased-0.34-JxejP8/blib/lib:/Users/hornenj/.cpan/build/XML-Simple-2.20-KlmmJ9/blib/arch:/Users/hornenj/.cpan/build/XML-Simple-2.20-KlmmJ9/blib/lib"
    PERL5OPT=""
    PERL5_CPANPLUS_IS_RUNNING="91480"
    PERL5_CPAN_IS_RUNNING="91480"
    PERL5_MINISMOKEBOX="0.58"
    PERLBREW_BASHRC_VERSION="0.73"
    PERLBREW_HOME="/Users/hornenj/.perlbrew"
    PERLBREW_LIB=""
    PERLBREW_MANPATH="/Users/hornenj/perl5/perlbrew/perls/perl-5.16.3/man"
    PERLBREW_PATH="/Users/hornenj/perl5/perlbrew/bin:/Users/hornenj/perl5/perlbrew/perls/perl-5.16.3/bin"
    PERLBREW_PERL="perl-5.16.3"
    PERLBREW_ROOT="/Users/hornenj/perl5/perlbrew"
    PERLBREW_VERSION="0.73"
    PERL_EXTUTILS_AUTOINSTALL="--defaultdeps"
    PERL_LOCAL_LIB_ROOT=""
    PERL_MM_USE_DEFAULT="1"
  @INC:
    /Users/hornenj/.cpan/build/Net-HTTP-Spore-0.06-N_jD14/blib/arch
    /Users/hornenj/.cpan/build/Net-HTTP-Spore-0.06-N_jD14/blib/lib
    /Users/hornenj/.cpan/build/MooseX-Role-Parameterized-1.08-hhi3gH/blib/arch
    /Users/hornenj/.cpan/build/MooseX-Role-Parameterized-1.08-hhi3gH/blib/lib
    /Users/hornenj/.cpan/build/MooseX-Role-WithOverloading-0.16-N8Zg0q/blib/arch
    /Users/hornenj/.cpan/build/MooseX-Role-WithOverloading-0.16-N8Zg0q/blib/lib
    /Users/hornenj/.cpan/build/aliased-0.34-JxejP8/blib/arch
    /Users/hornenj/.cpan/build/aliased-0.34-JxejP8/blib/lib
    /Users/hornenj/.cpan/build/XML-Simple-2.20-KlmmJ9/blib/arch
    /Users/hornenj/.cpan/build/XML-Simple-2.20-KlmmJ9/blib/lib
    /Users/hornenj/perl5/perlbrew/perls/perl-5.16.3/lib/site_perl/5.16.3/darwin-thread-multi-2level
    /Users/hornenj/perl5/perlbrew/perls/perl-5.16.3/lib/site_perl/5.16.3
    /Users/hornenj/perl5/perlbrew/perls/perl-5.16.3/lib/5.16.3/darwin-thread-multi-2level
    /Users/hornenj/perl5/perlbrew/perls/perl-5.16.3/lib/5.16.3
    .