Catmandu v1.2019 Perl 5 v5.20.0 x86_64-linux

Status
Pass
From
Nedzad Hrnjica (NHRNJICA)
Dist
Catmandu v1.2019
Platform
Perl 5 v5.20.0 x86_64-linux
Date
2022-07-25 16:59:38
ID
2b421498-0c3b-11ed-a5b2-e30ffff19030
This distribution has been tested as part of the CPAN Testers
project, supporting the Perl programming language.  See
http://wiki.cpantesters.org/ for more information or email
questions to cpan-testers-discuss@perl.org


--
Dear NICS,

This is a computer-generated report for Catmandu-1.2019
on perl 5.20.0, created by App::cpanminus::reporter 0.17 (1.7046).

Thank you for uploading your work to CPAN.  Congratulations!
All tests were successful.

Sections of this report:

    * Tester comments
    * Program output
    * Prerequisites
    * Environment and other context

------------------------------
TESTER COMMENTS
------------------------------

Additional comments from tester:

none provided

------------------------------
PROGRAM OUTPUT
------------------------------

Output from '':

Building and testing Catmandu-1.2019
Building Catmandu
t/Catmandu-Addable.t ..................... ok
t/Catmandu-ArrayIterator.t ............... ok
t/Catmandu-Bag.t ......................... ok
t/Catmandu-Buffer.t ...................... ok
t/Catmandu-CLI.t ......................... ok
t/Catmandu-CQLSearchable.t ............... ok
t/Catmandu-Cmd-compile.t ................. ok
t/Catmandu-Cmd-config.t .................. ok
t/Catmandu-Cmd-convert.t ................. ok
t/Catmandu-Cmd-copy.t .................... ok
t/Catmandu-Cmd-count.t ................... ok
t/Catmandu-Cmd-delete.t .................. ok
t/Catmandu-Cmd-export.t .................. ok
t/Catmandu-Cmd-help.t .................... ok
t/Catmandu-Cmd-import.t .................. ok
t/Catmandu-Cmd-info.t .................... ok
t/Catmandu-Cmd-run.t ..................... ok
t/Catmandu-Cmd-touch.t ................... ok
t/Catmandu-Cmd.t ......................... ok
t/Catmandu-Counter.t ..................... ok
t/Catmandu-Env.t ......................... ok
t/Catmandu-Error.t ....................... ok
t/Catmandu-Exporter-CSV.t ................ ok
t/Catmandu-Exporter-Count.t .............. ok
t/Catmandu-Exporter-JSON.t ............... ok
t/Catmandu-Exporter-Mock.t ............... ok
t/Catmandu-Exporter-Multi.t .............. ok
t/Catmandu-Exporter-Null.t ............... ok
t/Catmandu-Exporter-TSV.t ................ ok
t/Catmandu-Exporter-Text.t ............... ok
t/Catmandu-Exporter-YAML.t ............... ok
t/Catmandu-Exporter.t .................... ok
t/Catmandu-Fix-Base.t .................... ok
t/Catmandu-Fix-Bind-Group.t .............. ok
t/Catmandu-Fix-Bind-benchmark.t .......... ok
t/Catmandu-Fix-Bind-each.t ............... ok
t/Catmandu-Fix-Bind-hashmap.t ............ ok
t/Catmandu-Fix-Bind-identity.t ........... ok
t/Catmandu-Fix-Bind-importer.t ........... ok
t/Catmandu-Fix-Bind-iterate.t ............ ok
t/Catmandu-Fix-Bind-list.t ............... ok
t/Catmandu-Fix-Bind-maybe.t .............. ok
t/Catmandu-Fix-Bind-timeout.t ............ ok
t/Catmandu-Fix-Bind-visitor.t ............ ok
t/Catmandu-Fix-Bind-with.t ............... ok
t/Catmandu-Fix-Bind.t .................... ok
t/Catmandu-Fix-Condition-all_equal.t ..... ok
t/Catmandu-Fix-Condition-all_match.t ..... ok
t/Catmandu-Fix-Condition-any_equal.t ..... ok
t/Catmandu-Fix-Condition-any_match.t ..... ok
t/Catmandu-Fix-Condition-exists.t ........ ok
t/Catmandu-Fix-Condition-greater_than.t .. ok
t/Catmandu-Fix-Condition-in.t ............ ok
t/Catmandu-Fix-Condition-is_array.t ...... ok
t/Catmandu-Fix-Condition-is_false.t ...... ok
t/Catmandu-Fix-Condition-is_null.t ....... ok
t/Catmandu-Fix-Condition-is_number.t ..... ok
t/Catmandu-Fix-Condition-is_object.t ..... ok
t/Catmandu-Fix-Condition-is_string.t ..... ok
t/Catmandu-Fix-Condition-is_true.t ....... ok
t/Catmandu-Fix-Condition-less_than.t ..... ok
t/Catmandu-Fix-Condition-valid.t ......... ok
t/Catmandu-Fix-Condition.t ............... ok
t/Catmandu-Fix-Inlineable.t .............. ok
t/Catmandu-Fix-Parser.t .................. ok
t/Catmandu-Fix-add_field.t ............... ok
t/Catmandu-Fix-add_to_exporter.t ......... ok
t/Catmandu-Fix-add_to_store.t ............ ok
t/Catmandu-Fix-append.t .................. ok
t/Catmandu-Fix-array.t ................... ok
t/Catmandu-Fix-assoc.t ................... ok
t/Catmandu-Fix-capitalize.t .............. ok
t/Catmandu-Fix-clone.t ................... ok
t/Catmandu-Fix-code.t .................... ok
t/Catmandu-Fix-collapse.t ................ ok
t/Catmandu-Fix-compact.t ................. ok
t/Catmandu-Fix-copy.t .................... ok
t/Catmandu-Fix-copy_field.t .............. ok
t/Catmandu-Fix-count.t ................... ok
t/Catmandu-Fix-cp.t ...................... ok
t/Catmandu-Fix-disassoc.t ................ ok
t/Catmandu-Fix-downcase.t ................ ok
t/Catmandu-Fix-error.t ................... ok
t/Catmandu-Fix-eval.t .................... ok
t/Catmandu-Fix-expand.t .................. ok
t/Catmandu-Fix-expand_date.t ............. ok
t/Catmandu-Fix-export_to_string.t ........ ok
t/Catmandu-Fix-filter.t .................. ok
t/Catmandu-Fix-flatten.t ................. ok
t/Catmandu-Fix-format.t .................. ok
t/Catmandu-Fix-from_json.t ............... ok
t/Catmandu-Fix-hash.t .................... ok
t/Catmandu-Fix-import_from_string.t ...... ok
t/Catmandu-Fix-include.t ................. ok
t/Catmandu-Fix-index.t ................... ok
t/Catmandu-Fix-int.t ..................... ok
t/Catmandu-Fix-join_field.t .............. ok
t/Catmandu-Fix-log.t ..................... ok
t/Catmandu-Fix-lookup.t .................. ok
t/Catmandu-Fix-lookup_in_store.t ......... ok
t/Catmandu-Fix-mapping.t ................. ok
t/Catmandu-Fix-move.t .................... ok
t/Catmandu-Fix-move_field.t .............. ok
t/Catmandu-Fix-mv.t ...................... ok
t/Catmandu-Fix-nothing.t ................. ok
t/Catmandu-Fix-parse_text.t .............. ok
t/Catmandu-Fix-paste.t ................... ok
t/Catmandu-Fix-perlcode.t ................ ok
t/Catmandu-Fix-prepend.t ................. ok
t/Catmandu-Fix-random.t .................. ok
t/Catmandu-Fix-reject.t .................. ok
t/Catmandu-Fix-remove.t .................. ok
t/Catmandu-Fix-remove_field.t ............ ok
t/Catmandu-Fix-rename.t .................. ok
t/Catmandu-Fix-replace_all.t ............. ok
t/Catmandu-Fix-retain.t .................. ok
t/Catmandu-Fix-retain_field.t ............ ok
t/Catmandu-Fix-reverse.t ................. ok
t/Catmandu-Fix-rm.t ...................... ok
t/Catmandu-Fix-search_in_store.t ......... ok
t/Catmandu-Fix-set_array.t ............... ok
t/Catmandu-Fix-set_field.t ............... ok
t/Catmandu-Fix-set_hash.t ................ ok
t/Catmandu-Fix-sleep.t ................... ok
t/Catmandu-Fix-sort_field.t .............. ok
t/Catmandu-Fix-split_field.t ............. ok
t/Catmandu-Fix-string.t .................. ok
t/Catmandu-Fix-substring.t ............... ok
t/Catmandu-Fix-sum.t ..................... ok
t/Catmandu-Fix-to_json.t ................. ok
t/Catmandu-Fix-trim.t .................... ok
t/Catmandu-Fix-uniq.t .................... ok
t/Catmandu-Fix-upcase.t .................. ok
t/Catmandu-Fix-uri_decode.t .............. ok
t/Catmandu-Fix-uri_encode.t .............. ok
t/Catmandu-Fix-uri_encode_decode.t ....... ok
t/Catmandu-Fix-vacuum.t .................. ok
t/Catmandu-Fix-validate.t ................ ok
t/Catmandu-Fix.t ......................... ok
t/Catmandu-Fixable.t ..................... ok
t/Catmandu-Flushable.t ................... ok
t/Catmandu-Hits.t ........................ ok
t/Catmandu-IdGenerator-Mock.t ............ ok
t/Catmandu-IdGenerator-UUID.t ............ ok
t/Catmandu-IdGenerator.t ................. ok
t/Catmandu-Importer-CSV.t ................ ok
t/Catmandu-Importer-JSON.t ............... ok
t/Catmandu-Importer-Mock.t ............... ok
t/Catmandu-Importer-Modules.t ............ ok
t/Catmandu-Importer-Multi.t .............. ok
t/Catmandu-Importer-TSV.t ................ ok
t/Catmandu-Importer-Text.t ............... ok
t/Catmandu-Importer-YAML.t ............... ok
t/Catmandu-Importer.t .................... ok
t/Catmandu-Interactive.t ................. ok
t/Catmandu-Iterable.t .................... ok
t/Catmandu-IterableOnce.t ................ ok
t/Catmandu-Iterator.t .................... ok
t/Catmandu-MultiIterator.t ............... ok
t/Catmandu-Paged.t ....................... ok
t/Catmandu-Path-simple.t ................. ok
t/Catmandu-Pluggable.t ................... ok
t/Catmandu-Plugin-Datestamps.t ........... ok
t/Catmandu-Plugin-Readonly.t ............. ok
t/Catmandu-Plugin-Versioning.t ........... ok
t/Catmandu-Sane.t ........................ ok
t/Catmandu-Searchable.t .................. ok
t/Catmandu-Serializer.t .................. ok
t/Catmandu-Store-Hash.t .................. ok
t/Catmandu-Store-Multi-Bag.t ............. ok
t/Catmandu-Store-Multi.t ................. ok
t/Catmandu-Store.t ....................... ok
t/Catmandu-Util.t ........................ ok
t/Catmandu-Validator-Mock.t .............. ok
t/Catmandu-Validator-Simple.t ............ ok
t/Catmandu-Validator.t ................... ok
t/Catmandu.t ............................. ok
t/author-pod-syntax.t .................... skipped: these tests are for testing by the author
t/release-perltidy.t ..................... skipped: these tests are for release candidate testing
All tests successful.
Files=179, Tests=2126, 51 wallclock secs ( 0.59 usr  0.23 sys + 32.72 cusr  4.57 csys = 38.11 CPU)
Result: PASS

------------------------------
PREREQUISITES
------------------------------

Prerequisite modules loaded:

    No requirements found

------------------------------
ENVIRONMENT AND OTHER CONTEXT
------------------------------

Environment variables:

    LANG = C.UTF-8
    PATH = /home/liveapp/.plenv/versions/5.20.0/bin:/home/liveapp/.plenv/libexec:/home/liveapp/.plenv/plugins/perl-build/bin:/home/liveapp/cpantesters.new/5.20.0/local/bin:/home/liveapp/.plenv/shims:/home/liveapp/.plenv/bin:/usr/local/sbin:/usr/local/bin:/usr/sbin:/usr/bin:/sbin:/bin:/usr/games:/usr/local/games:/snap/bin
    PERL5LIB = /home/liveapp/cpantesters.new/5.20.0/local/lib/perl5
    SHELL = /bin/bash
    TERM = xterm-256color

Perl special variables (and OS-specific diagnostics, for MSWin32):

    EGID = 1001 27 1001
    EUID = 1001
    EXECUTABLE_NAME = /home/liveapp/.plenv/versions/5.20.0/bin/perl5.20.0
    GID = 1001 27 1001
    UID = 1001

Perl module toolchain versions installed:

    Module              Have    
    ------------------- --------
    CPAN                2.05    
    CPAN::Meta          2.150010
    Cwd                 3.75    
    ExtUtils::CBuilder  0.280236
    ExtUtils::Command   7.64    
    ExtUtils::Install   2.06    
    ExtUtils::MakeMaker 7.64    
    ExtUtils::Manifest  1.70    
    ExtUtils::ParseXS   3.44    
    File::Spec          3.75    
    JSON                4.07    
    JSON::PP            4.10    
    Module::Build       0.4231  
    Module::Signature   n/a     
    Parse::CPAN::Meta   2.150010
    Test::Harness       3.44    
    Test::More          1.302191
    YAML                1.30    
    YAML::Syck          n/a     
    version             0.9929  


--

Summary of my perl5 (revision 5 version 20 subversion 0) configuration:
   
  Platform:
    osname=linux, osvers=5.4.0-91-generic, archname=x86_64-linux
    uname='linux supremeadmin 5.4.0-91-generic #102-ubuntu smp fri nov 5 16:31:28 utc 2021 x86_64 x86_64 x86_64 gnulinux '
    config_args='-Dprefix=/home/liveapp/.plenv/versions/5.20.0 -de -Dversiononly -A'eval:scriptdir=/home/liveapp/.plenv/versions/5.20.0/bin''
    hint=recommended, useposix=true, d_sigaction=define
    useithreads=undef, usemultiplicity=undef
    use64bitint=define, use64bitall=define, uselongdouble=undef
    usemymalloc=n, bincompat5005=undef
  Compiler:
    cc='cc', ccflags ='-fwrapv -fno-strict-aliasing -pipe -fstack-protector -I/usr/local/include -D_LARGEFILE_SOURCE -D_FILE_OFFSET_BITS=64',
    optimize='-O2',
    cppflags='-fwrapv -fno-strict-aliasing -pipe -fstack-protector -I/usr/local/include'
    ccversion='', gccversion='9.4.0', gccosandvers=''
    intsize=4, longsize=8, ptrsize=8, doublesize=8, byteorder=12345678
    d_longlong=define, longlongsize=8, d_longdbl=define, longdblsize=16
    ivtype='long', ivsize=8, nvtype='double', nvsize=8, Off_t='off_t', lseeksize=8
    alignbytes=8, prototype=define
  Linker and Libraries:
    ld='cc', ldflags =' -fstack-protector -L/usr/local/lib'
    libpth=/usr/local/lib /usr/include/x86_64-linux-gnu /usr/lib /lib/x86_64-linux-gnu /lib/../lib /usr/lib/x86_64-linux-gnu /usr/lib/../lib /lib
    libs=-lnsl -ldl -lm -lcrypt -lutil -lc
    perllibs=-lnsl -ldl -lm -lcrypt -lutil -lc
    libc=libc-2.31.so, so=so, useshrplib=false, libperl=libperl.a
    gnulibc_version='2.31'
  Dynamic Linking:
    dlsrc=dl_dlopen.xs, dlext=so, d_dlsymun=undef, ccdlflags='-Wl,-E'
    cccdlflags='-fPIC', lddlflags='-shared -O2 -L/usr/local/lib -fstack-protector'


Characteristics of this binary (from libperl): 
  Compile-time options: HAS_TIMES PERLIO_LAYERS PERL_DONT_CREATE_GVSV
                        PERL_HASH_FUNC_ONE_AT_A_TIME_HARD PERL_MALLOC_WRAP
                        PERL_NEW_COPY_ON_WRITE PERL_PRESERVE_IVUV
                        USE_64_BIT_ALL USE_64_BIT_INT USE_LARGE_FILES
                        USE_LOCALE USE_LOCALE_COLLATE USE_LOCALE_CTYPE
                        USE_LOCALE_NUMERIC USE_PERLIO USE_PERL_ATOF
  Locally applied patches:
	Devel::PatchPerl 2.08
  Built under linux
  Compiled at Jul 24 2022 12:48:23
  %ENV:
    PERL5LIB="/home/liveapp/cpantesters.new/5.20.0/local/lib/perl5"
  @INC:
    /home/liveapp/cpantesters.new/5.20.0/local/lib/perl5
    /home/liveapp/.plenv/versions/5.20.0/lib/perl5/site_perl/5.20.0/x86_64-linux
    /home/liveapp/.plenv/versions/5.20.0/lib/perl5/site_perl/5.20.0
    /home/liveapp/.plenv/versions/5.20.0/lib/perl5/5.20.0/x86_64-linux
    /home/liveapp/.plenv/versions/5.20.0/lib/perl5/5.20.0
    .