Report for WebService-Amazon-DynamoDB-0.005

Back
From: metabase:user:0d96120c-29e2-11e5-b049-ede3035d37de
Subject: PASS WebService-Amazon-DynamoDB-0.005 v5.23.1 GNU/Linux
Date: 2015-07-27T12:51:16Z

This distribution has been tested as part of the CPAN Testers
project, supporting the Perl programming language.  See
http://wiki.cpantesters.org/ for more information or email
questions to cpan-testers-discuss@perl.org


--
Dear Tom Molesworth,

This is a computer-generated report for WebService-Amazon-DynamoDB-0.005
on perl 5.23.1, created by CPAN-Reporter-1.2014.

Thank you for uploading your work to CPAN.  Congratulations!
All tests were successful.

Sections of this report:

    * Tester comments
    * Program output
    * Prerequisites
    * Environment and other context

------------------------------
TESTER COMMENTS
------------------------------

Additional comments from tester:

this report is from an automated smoke testing program
and was not reviewed by a human for accuracy

------------------------------
PROGRAM OUTPUT
------------------------------

Output from '/usr/bin/make test':

Skip blib/lib/auto/share/dist/WebService-Amazon-DynamoDB/errors.json (unchanged)
Skip blib/lib/auto/share/dist/WebService-Amazon-DynamoDB/regions.json (unchanged)
PERL_DL_NONLAZY=1 "/home/jmaslak/perl5/perlbrew/perls/perl-5.23.1/bin/perl5.23.1" "-MExtUtils::Command::MM" "-MTest::Harness" "-e" "undef *Test::Harness::Switches; test_harness(0, 'blib/lib', 'blib/arch')" t/*.t
t/00-check-deps.t ............. ok
t/00-compile.t ................ ok
# 
# 
# Generated by Dist::Zilla::Plugin::ReportVersions::Tiny v1.10
# perl: 5.023001 (wanted 5.012000) on linux from /home/jmaslak/perl5/perlbrew/perls/perl-5.23.1/bin/perl5.23.1
# 
# ExtUtils::MakeMaker                           => 7.0401     (want 6.48)   
# File::ShareDir::Install                       => 0.10       (want 0.06)   
# File::Spec                                    => 3.56       (want any version)
# Future                                        => 0.32       (want 0.30)   
# HTTP::Request                                 => 6.10       (want any version)
# IO::Handle                                    => 1.35       (want any version)
# IPC::Open3                                    => 1.19       (want any version)
# JSON::MaybeXS                                 => 1.003005   (want any version)
# Mixin::Event::Dispatch                        => 1.006      (want 1.006)  
# Module::Load                                  => 0.32       (want any version)
# Test::CheckDeps                               => 0.010      (want 0.010)  
# Test::Deep                                    => 0.117      (want any version)
# Test::Fatal                                   => 0.014      (want 0.010)  
# Test::More                                    => 1.001014   (want 0.98)   
# Time::Moment                                  => 0.25       (want any version)
# WebService::Amazon::IAM                       => 0.002      (want 0.002)  
# WebService::Amazon::Signature                 => 0.002      (want 0.002)  
# WebService::Async::UserAgent                  => 0.004      (want 0.002)  
# curry                                         => 1          (want any version)
# parent                                        => 0.234      (want any version)
# 
# Thanks for using my code.  I hope it works for you.
# If not, please try and include this output in the bug report.
# That will help me reproduce the issue and solve your problem.
# 
t/000-report-versions-tiny.t .. ok
All tests successful.
Files=3, Tests=25,  1 wallclock secs ( 0.02 usr  0.03 sys +  0.47 cusr  0.12 csys =  0.64 CPU)
Result: PASS

------------------------------
PREREQUISITES
------------------------------

Prerequisite modules loaded:

requires:

    Module                        Need     Have    
    ----------------------------- -------- --------
    curry                         0        1.000000
    Future                        0.30     0.32    
    HTTP::Request                 0        6.10    
    JSON::MaybeXS                 0        1.003005
    Mixin::Event::Dispatch        1.006    1.006   
    Module::Load                  0        0.32    
    parent                        0        0.234   
    perl                          5.012000 5.023001
    Time::Moment                  0        0.25    
    WebService::Amazon::IAM       0.002    0.002   
    WebService::Amazon::Signature 0.002    0.002   
    WebService::Async::UserAgent  0.002    0.004   

build_requires:

    Module                        Need     Have    
    ----------------------------- -------- --------
    ExtUtils::MakeMaker           0        7.04_01 
    File::Spec                    0        3.56    
    IO::Handle                    0        1.35    
    IPC::Open3                    0        1.19    
    Test::CheckDeps               0.010    0.010   
    Test::Deep                    0        0.117   
    Test::Fatal                   0.010    0.014   
    Test::More                    0.98     1.001014

configure_requires:

    Module                        Need     Have    
    ----------------------------- -------- --------
    ExtUtils::MakeMaker           6.48     7.04_01 
    File::ShareDir::Install       0.06     0.10    


------------------------------
ENVIRONMENT AND OTHER CONTEXT
------------------------------

Environment variables:

    AUTOMATED_TESTING = 1
    LANG = en_US.UTF-8
    NONINTERACTIVE_TESTING = 1
    PATH = /home/jmaslak/sysperl/bin:/home/jmaslak/perl5/perlbrew/bin:/home/jmaslak/perl5/perlbrew/perls/perl-5.23.1/bin:/home/jmaslak/perltest/bin:/home/jmaslak/perltest/bin:/home/jmaslak/perltest/bin:/home/jmaslak/perl5/perlbrew/bin:/home/jmaslak/perl5/perlbrew/perls/perl-5.23.1/bin:/usr/local/bin:/usr/bin:/usr/local/sbin:/usr/sbin:/usr/sbin:~/perltest/bin
    PERL5LIB = /home/jmaslak/.cpan/build/WebService-Amazon-IAM-0.002-AqeTcR/blib/arch:/home/jmaslak/.cpan/build/WebService-Amazon-IAM-0.002-AqeTcR/blib/lib:/home/jmaslak/.cpan/build/curry-1.000000-JY4Uof/blib/arch:/home/jmaslak/.cpan/build/curry-1.000000-JY4Uof/blib/lib:/home/jmaslak/.cpan/build/Net-Async-HTTP-0.39-cKwx4m/blib/arch:/home/jmaslak/.cpan/build/Net-Async-HTTP-0.39-cKwx4m/blib/lib:/home/jmaslak/.cpan/build/WebService-Async-UserAgent-0.004-Sv5L2U/blib/arch:/home/jmaslak/.cpan/build/WebService-Async-UserAgent-0.004-Sv5L2U/blib/lib:/home/jmaslak/.cpan/build/WebService-Amazon-Signature-0.002-GDU2tH/blib/arch:/home/jmaslak/.cpan/build/WebService-Amazon-Signature-0.002-GDU2tH/blib/lib:/home/jmaslak/.cpan/build/HTTP-StreamParser-0.101-G7ToGz/blib/arch:/home/jmaslak/.cpan/build/HTTP-StreamParser-0.101-G7ToGz/blib/lib:/home/jmaslak/.cpan/build/Mixin-Event-Dispatch-1.006-pWpXyx/blib/arch:/home/jmaslak/.cpan/build/Mixin-Event-Dispatch-1.006-pWpXyx/blib/lib:/home/jmaslak/.cpan/build/Time-Moment-0.25-xaoJcc/blib/arch:/home/jmaslak/.cpan/build/Time-Moment-0.25-xaoJcc/blib/lib:/home/jmaslak/.cpan/build/Dir-Self-0.11-f8LbDH/blib/arch:/home/jmaslak/.cpan/build/Dir-Self-0.11-f8LbDH/blib/lib:/home/jmaslak/.cpan/build/Test-CheckDeps-0.010-s_bhZ3/blib/arch:/home/jmaslak/.cpan/build/Test-CheckDeps-0.010-s_bhZ3/blib/lib:/home/jmaslak/sysperl/lib/perl5
    PERL5OPT = 
    PERL5_CPANPLUS_IS_RUNNING = 390
    PERL5_CPAN_IS_RUNNING = 390
    PERL5_CPAN_IS_RUNNING_IN_RECURSION = 6508,390
    PERLBREW_BASHRC_VERSION = 0.73
    PERLBREW_HOME = /home/jmaslak/.perlbrew
    PERLBREW_LIB = 
    PERLBREW_MANPATH = /home/jmaslak/perl5/perlbrew/perls/perl-5.23.1/man
    PERLBREW_PATH = /home/jmaslak/perl5/perlbrew/bin:/home/jmaslak/perl5/perlbrew/perls/perl-5.23.1/bin
    PERLBREW_PERL = perl-5.23.1
    PERLBREW_ROOT = /home/jmaslak/perl5/perlbrew
    PERLBREW_VERSION = 0.73
    PERL_CR_SMOKER_CURRENT = WebService-Amazon-DynamoDB-0.005
    PERL_EXTUTILS_AUTOINSTALL = --defaultdeps
    PERL_LOCAL_LIB_ROOT = /home/jmaslak/sysperl:
    PERL_MB_OPT = --install_base "//home/jmaslak/sysperl"
    PERL_MM_OPT = INSTALL_BASE=/home/jmaslak/sysperl
    PERL_MM_USE_DEFAULT = 1
    SHELL = /bin/bash
    TERM = screen

Perl special variables (and OS-specific diagnostics, for MSWin32):

    $^X = /home/jmaslak/perl5/perlbrew/perls/perl-5.23.1/bin/perl5.23.1
    $UID/$EUID = 1000 / 1000
    $GID = 1000 10 1000
    $EGID = 1000 10 1000

Perl module toolchain versions installed:

    Module              Have    
    ------------------- --------
    CPAN                2.11    
    CPAN::Meta          2.150005
    Cwd                 3.56    
    ExtUtils::CBuilder  0.280223
    ExtUtils::Command   1.20    
    ExtUtils::Install   2.04    
    ExtUtils::MakeMaker 7.04_01 
    ExtUtils::Manifest  1.70    
    ExtUtils::ParseXS   3.28    
    File::Spec          3.56    
    JSON                2.90    
    JSON::PP            2.27300 
    Module::Build       0.4214  
    Module::Signature   n/a     
    Parse::CPAN::Meta   1.4417  
    Test::Harness       3.35    
    Test::More          1.001014
    YAML                1.15    
    YAML::Syck          n/a     
    version             0.9909  


--

Summary of my perl5 (revision 5 version 23 subversion 1) configuration:
   
  Platform:
    osname=linux, osvers=4.1.0-x86_64-linode59, archname=x86_64-linux
    uname='linux cpantest.antelope.net 4.1.0-x86_64-linode59 #1 smp mon jun 22 10:39:23 edt 2015 x86_64 x86_64 x86_64 gnulinux '
    config_args='-de -Dprefix=/home/jmaslak/perl5/perlbrew/perls/perl-5.23.1 -Dusedevel -Aeval:scriptdir=/home/jmaslak/perl5/perlbrew/perls/perl-5.23.1/bin'
    hint=recommended, useposix=true, d_sigaction=define
    useithreads=undef, usemultiplicity=undef
    use64bitint=define, use64bitall=define, uselongdouble=undef
    usemymalloc=n, bincompat5005=undef
  Compiler:
    cc='cc', ccflags ='-fwrapv -fno-strict-aliasing -pipe -fstack-protector-strong -I/usr/local/include -D_LARGEFILE_SOURCE -D_FILE_OFFSET_BITS=64 -D_FORTIFY_SOURCE=2',
    optimize='-O2',
    cppflags='-fwrapv -fno-strict-aliasing -pipe -fstack-protector-strong -I/usr/local/include'
    ccversion='', gccversion='4.8.3 20140911 (Red Hat 4.8.3-9)', gccosandvers=''
    intsize=4, longsize=8, ptrsize=8, doublesize=8, byteorder=12345678, doublekind=3
    d_longlong=define, longlongsize=8, d_longdbl=define, longdblsize=16, longdblkind=3
    ivtype='long', ivsize=8, nvtype='double', nvsize=8, Off_t='off_t', lseeksize=8
    alignbytes=8, prototype=define
  Linker and Libraries:
    ld='cc', ldflags =' -fstack-protector-strong -L/usr/local/lib'
    libpth=/usr/local/lib /usr/lib /lib/../lib64 /usr/lib/../lib64 /lib /lib64 /usr/lib64 /usr/local/lib64
    libs=-lpthread -lnsl -ldl -lm -lcrypt -lutil -lc
    perllibs=-lpthread -lnsl -ldl -lm -lcrypt -lutil -lc
    libc=libc-2.17.so, so=so, useshrplib=false, libperl=libperl.a
    gnulibc_version='2.17'
  Dynamic Linking:
    dlsrc=dl_dlopen.xs, dlext=so, d_dlsymun=undef, ccdlflags='-Wl,-E'
    cccdlflags='-fPIC', lddlflags='-shared -O2 -L/usr/local/lib -fstack-protector-strong'


Characteristics of this binary (from libperl): 
  Compile-time options: HAS_TIMES PERLIO_LAYERS PERL_COPY_ON_WRITE
                        PERL_DONT_CREATE_GVSV
                        PERL_HASH_FUNC_ONE_AT_A_TIME_HARD PERL_MALLOC_WRAP
                        PERL_PRESERVE_IVUV PERL_USE_DEVEL USE_64_BIT_ALL
                        USE_64_BIT_INT USE_LARGE_FILES USE_LOCALE
                        USE_LOCALE_COLLATE USE_LOCALE_CTYPE
                        USE_LOCALE_NUMERIC USE_LOCALE_TIME USE_PERLIO
                        USE_PERL_ATOF
  Locally applied patches:
	Devel::PatchPerl 1.38
  Built under linux
  Compiled at Jul 26 2015 04:37:54
  %ENV:
    PERL5LIB="/home/jmaslak/.cpan/build/WebService-Amazon-IAM-0.002-AqeTcR/blib/arch:/home/jmaslak/.cpan/build/WebService-Amazon-IAM-0.002-AqeTcR/blib/lib:/home/jmaslak/.cpan/build/curry-1.000000-JY4Uof/blib/arch:/home/jmaslak/.cpan/build/curry-1.000000-JY4Uof/blib/lib:/home/jmaslak/.cpan/build/Net-Async-HTTP-0.39-cKwx4m/blib/arch:/home/jmaslak/.cpan/build/Net-Async-HTTP-0.39-cKwx4m/blib/lib:/home/jmaslak/.cpan/build/WebService-Async-UserAgent-0.004-Sv5L2U/blib/arch:/home/jmaslak/.cpan/build/WebService-Async-UserAgent-0.004-Sv5L2U/blib/lib:/home/jmaslak/.cpan/build/WebService-Amazon-Signature-0.002-GDU2tH/blib/arch:/home/jmaslak/.cpan/build/WebService-Amazon-Signature-0.002-GDU2tH/blib/lib:/home/jmaslak/.cpan/build/HTTP-StreamParser-0.101-G7ToGz/blib/arch:/home/jmaslak/.cpan/build/HTTP-StreamParser-0.101-G7ToGz/blib/lib:/home/jmaslak/.cpan/build/Mixin-Event-Dispatch-1.006-pWpXyx/blib/arch:/home/jmaslak/.cpan/build/Mixin-Event-Dispatch-1.006-pWpXyx/blib/lib:/home/jmaslak/.cpan/build/Time-Moment-0.25-xaoJcc/blib/arch:/home/jmaslak/.cpan/build/Time-Moment-0.25-xaoJcc/blib/lib:/home/jmaslak/.cpan/build/Dir-Self-0.11-f8LbDH/blib/arch:/home/jmaslak/.cpan/build/Dir-Self-0.11-f8LbDH/blib/lib:/home/jmaslak/.cpan/build/Test-CheckDeps-0.010-s_bhZ3/blib/arch:/home/jmaslak/.cpan/build/Test-CheckDeps-0.010-s_bhZ3/blib/lib:/home/jmaslak/sysperl/lib/perl5"
    PERL5OPT=""
    PERL5_CPANPLUS_IS_RUNNING="390"
    PERL5_CPAN_IS_RUNNING="390"
    PERL5_CPAN_IS_RUNNING_IN_RECURSION="6508,390"
    PERLBREW_BASHRC_VERSION="0.73"
    PERLBREW_HOME="/home/jmaslak/.perlbrew"
    PERLBREW_LIB=""
    PERLBREW_MANPATH="/home/jmaslak/perl5/perlbrew/perls/perl-5.23.1/man"
    PERLBREW_PATH="/home/jmaslak/perl5/perlbrew/bin:/home/jmaslak/perl5/perlbrew/perls/perl-5.23.1/bin"
    PERLBREW_PERL="perl-5.23.1"
    PERLBREW_ROOT="/home/jmaslak/perl5/perlbrew"
    PERLBREW_VERSION="0.73"
    PERL_CR_SMOKER_CURRENT="WebService-Amazon-DynamoDB-0.005"
    PERL_EXTUTILS_AUTOINSTALL="--defaultdeps"
    PERL_LOCAL_LIB_ROOT="/home/jmaslak/sysperl:"
    PERL_MB_OPT="--install_base "//home/jmaslak/sysperl""
    PERL_MM_OPT="INSTALL_BASE=/home/jmaslak/sysperl"
    PERL_MM_USE_DEFAULT="1"
  @INC:
    /home/jmaslak/.cpan/build/WebService-Amazon-IAM-0.002-AqeTcR/blib/arch
    /home/jmaslak/.cpan/build/WebService-Amazon-IAM-0.002-AqeTcR/blib/lib
    /home/jmaslak/.cpan/build/curry-1.000000-JY4Uof/blib/arch
    /home/jmaslak/.cpan/build/curry-1.000000-JY4Uof/blib/lib
    /home/jmaslak/.cpan/build/Net-Async-HTTP-0.39-cKwx4m/blib/arch
    /home/jmaslak/.cpan/build/Net-Async-HTTP-0.39-cKwx4m/blib/lib
    /home/jmaslak/.cpan/build/WebService-Async-UserAgent-0.004-Sv5L2U/blib/arch
    /home/jmaslak/.cpan/build/WebService-Async-UserAgent-0.004-Sv5L2U/blib/lib
    /home/jmaslak/.cpan/build/WebService-Amazon-Signature-0.002-GDU2tH/blib/arch
    /home/jmaslak/.cpan/build/WebService-Amazon-Signature-0.002-GDU2tH/blib/lib
    /home/jmaslak/.cpan/build/HTTP-StreamParser-0.101-G7ToGz/blib/arch
    /home/jmaslak/.cpan/build/HTTP-StreamParser-0.101-G7ToGz/blib/lib
    /home/jmaslak/.cpan/build/Mixin-Event-Dispatch-1.006-pWpXyx/blib/arch
    /home/jmaslak/.cpan/build/Mixin-Event-Dispatch-1.006-pWpXyx/blib/lib
    /home/jmaslak/.cpan/build/Time-Moment-0.25-xaoJcc/blib/arch
    /home/jmaslak/.cpan/build/Time-Moment-0.25-xaoJcc/blib/lib
    /home/jmaslak/.cpan/build/Dir-Self-0.11-f8LbDH/blib/arch
    /home/jmaslak/.cpan/build/Dir-Self-0.11-f8LbDH/blib/lib
    /home/jmaslak/.cpan/build/Test-CheckDeps-0.010-s_bhZ3/blib/arch
    /home/jmaslak/.cpan/build/Test-CheckDeps-0.010-s_bhZ3/blib/lib
    /home/jmaslak/sysperl/lib/perl5/x86_64-linux
    /home/jmaslak/sysperl/lib/perl5
    /home/jmaslak/perl5/perlbrew/perls/perl-5.23.1/lib/site_perl/5.23.1/x86_64-linux
    /home/jmaslak/perl5/perlbrew/perls/perl-5.23.1/lib/site_perl/5.23.1
    /home/jmaslak/perl5/perlbrew/perls/perl-5.23.1/lib/5.23.1/x86_64-linux
    /home/jmaslak/perl5/perlbrew/perls/perl-5.23.1/lib/5.23.1
    .