MooseX-Types-Structured v0.36 Perl 5 v5.22.4 x86_64-linux

Status
Pass
From
Slaven Rezić (SREZIC)
Dist
MooseX-Types-Structured v0.36
Platform
Perl 5 v5.22.4 x86_64-linux
Date
2017-09-17 21:42:57
ID
2b6dc97c-9bf1-11e7-a32a-aa79abbbd468
This distribution has been tested as part of the CPAN Testers
project, supporting the Perl programming language.  See
http://wiki.cpantesters.org/ for more information or email
questions to cpan-testers-discuss@perl.org


--
Dear Karen Etheridge,

This is a computer-generated report for MooseX-Types-Structured-0.36
on perl 5.22.4, created by CPAN-Reporter-1.2018.

Thank you for uploading your work to CPAN.  Congratulations!
All tests were successful.

Sections of this report:

    * Tester comments
    * Program output
    * Prerequisites
    * Environment and other context

------------------------------
TESTER COMMENTS
------------------------------

Additional comments from tester:

none provided

------------------------------
PROGRAM OUTPUT
------------------------------

Output from './Build test':

t/00-load.t .................... ok
# 
# Versions for all modules listed in MYMETA.json (including optional ones):
# 
# === Configure Requires ===
# 
#     Module               Want  Have
#     ------------------- ----- -----
#     Module::Build::Tiny 0.034 0.039
# 
# === Configure Suggests ===
# 
#     Module      Want       Have
#     -------- ------- ----------
#     JSON::PP 2.27300 2.27300_01
# 
# === Test Requires ===
# 
#     Module               Want     Have
#     -------------------- ---- --------
#     Data::Dumper          any    2.158
#     DateTime              any     1.44
#     File::Spec            any  3.56_02
#     Module::Metadata      any 1.000026
#     MooseX::Types::Moose  any     0.50
#     Test::Fatal           any    0.014
#     Test::More           0.88 1.302096
#     Test::Needs           any 0.002005
#     strict                any     1.09
#     warnings              any     1.34
# 
# === Test Recommends ===
# 
#     Module         Want     Have
#     ---------- -------- --------
#     CPAN::Meta 2.120900 2.150001
# 
# === Test Suggests ===
# 
#     Module                  Want    Have
#     ----------------------- ---- -------
#     MooseX::Types::DateTime  any missing
# 
# === Runtime Requires ===
# 
#     Module                                        Want   Have
#     -------------------------------------------- ----- ------
#     Devel::PartialDump                            0.13   0.20
#     Moose                                          any 2.2006
#     Moose::Meta::TypeCoercion                      any 2.2006
#     Moose::Meta::TypeConstraint                    any 2.2006
#     Moose::Meta::TypeConstraint::Parameterizable   any 2.2006
#     Moose::Util::TypeConstraints                  1.06 2.2006
#     MooseX::Types                                 0.22   0.50
#     Scalar::Util                                   any   1.49
#     Sub::Exporter                                0.982  0.987
#     if                                             any 0.0604
#     namespace::clean                              0.19   0.27
#     overload                                       any   1.26
# 
# === Other Modules ===
# 
#     Module                     Have
#     -------------------- ----------
#     Dist::CheckConflicts       0.11
#     JSON::PP             2.27300_01
#     Sub::Name                  0.21
#     YAML                       1.23
#     autodie                    2.26
# 
t/00-report-prereqs.t .......... ok
t/01-basic.t ................... ok
t/02-tuple.t ................... ok
t/03-dict.t .................... ok
t/04-combined.t ................ ok
t/04-map.t ..................... ok
t/05-advanced.t ................ ok
t/06-api.t ..................... ok
t/07-coerce.t .................. ok
t/08-examples.t ................ skipped: Need MooseX::Types::DateTime
t/09-optional.t ................ ok
t/10-recursion.t ............... ok
t/11-overflow.t ................ ok
t/12-error.t ................... ok
t/13-deeper_error.t ............ ok
t/14-fully-qualified.t ......... ok
t/bug-incorrect-message.t ...... ok
t/bug-is-subtype.t ............. ok
t/bug-mixed-stringy.t .......... ok
t/bug-optional.t ............... ok
t/regressions/01-is_type_of.t .. ok
t/zzz-check-breaks.t ........... ok
All tests successful.
Files=23, Tests=352,  7 wallclock secs ( 0.06 usr  0.14 sys +  6.11 cusr  0.90 csys =  7.21 CPU)
Result: PASS

------------------------------
PREREQUISITES
------------------------------

Prerequisite modules loaded:

requires:

    Module                                       Need  Have    
    -------------------------------------------- ----- --------
    Devel::PartialDump                           0.13  0.20    
    if                                           0     0.0604  
    Moose                                        0     2.2006  
    Moose::Meta::TypeCoercion                    0     2.2006  
    Moose::Meta::TypeConstraint                  0     2.2006  
    Moose::Meta::TypeConstraint::Parameterizable 0     2.2006  
    Moose::Util::TypeConstraints                 1.06  2.2006  
    MooseX::Types                                0.22  0.50    
    namespace::clean                             0.19  0.27    
    overload                                     0     1.26    
    perl                                         5.008 5.022004
    Scalar::Util                                 0     1.49    
    Sub::Exporter                                0.982 0.987   

build_requires:

    Module                                       Need  Have    
    -------------------------------------------- ----- --------
    Data::Dumper                                 0     2.158   
    DateTime                                     0     1.44    
    File::Spec                                   0     3.56_02 
    Module::Metadata                             0     1.000026
    MooseX::Types::Moose                         0     0.50    
    perl                                         5.008 5.022004
    strict                                       0     1.09    
    Test::Fatal                                  0     0.014   
    Test::More                                   0.88  1.302096
    Test::Needs                                  0     0.002005
    warnings                                     0     1.34    

configure_requires:

    Module                                       Need  Have    
    -------------------------------------------- ----- --------
    Module::Build::Tiny                          0.034 0.039   
    perl                                         5.008 5.022004


------------------------------
ENVIRONMENT AND OTHER CONTEXT
------------------------------

Environment variables:

    LANG = en_US.UTF-8
    PATH = /usr/local/bin:/usr/bin:/bin:/usr/local/sbin:/usr/sbin:/sbin:/home/cpansand/bin/linux-gnu:/home/cpansand/bin/sh:/home/cpansand/bin:/usr/games:/home/cpansand/devel:/home/eserte/src/srezic-misc/scripts
    PERL5LIB = /home/cpansand/.cpan/build/2017091718/Devel-PartialDump-0.20-Jl9phP/blib/arch:/home/cpansand/.cpan/build/2017091718/Devel-PartialDump-0.20-Jl9phP/blib/lib:/home/cpansand/.cpan/build/2017091718/MooseX-Types-0.50-i6VmtQ/blib/arch:/home/cpansand/.cpan/build/2017091718/MooseX-Types-0.50-i6VmtQ/blib/lib:/home/cpansand/.cpan/build/2017091718/Carp-Clan-6.06-uNZfmR/blib/arch:/home/cpansand/.cpan/build/2017091718/Carp-Clan-6.06-uNZfmR/blib/lib:/home/cpansand/.cpan/build/2017091718/Sub-Exporter-ForMethods-0.100052-0dNYAR/blib/arch:/home/cpansand/.cpan/build/2017091718/Sub-Exporter-ForMethods-0.100052-0dNYAR/blib/lib
    PERL5OPT = 
    PERL5_CPANPLUS_IS_RUNNING = 19344
    PERL5_CPAN_IS_RUNNING = 19344
    PERL5_CPAN_IS_RUNNING_IN_RECURSION = 19361,19344
    PERLDOC = -MPod::Perldoc::ToTextOverstrike
    PERL_BATCH = yes
    PERL_CANARY_STABILITY_NOPROMPT = 1
    PERL_CPAN_REPORTER_CONFIG = /var/tmp/cpansmoker-1023/2017091718/cpanreporter_001_config.ini
    PERL_EXTUTILS_AUTOINSTALL = --defaultdeps
    SHELL = /bin/zsh
    TERM = screen
    TMPDIR = /var/tmp/cpansmoker-1023/2017091718

Perl special variables (and OS-specific diagnostics, for MSWin32):

    $^X = /opt/perl-5.22.4/bin/perl
    $UID/$EUID = 1023 / 1023
    $GID = 1023 1023
    $EGID = 1023 1023

Perl module toolchain versions installed:

    Module              Have      
    ------------------- ----------
    CPAN                2.11_01   
    CPAN::Meta          2.150001  
    Cwd                 3.56_02   
    ExtUtils::CBuilder  0.280221  
    ExtUtils::Command   1.20_01   
    ExtUtils::Install   2.04      
    ExtUtils::MakeMaker 7.04_02   
    ExtUtils::Manifest  1.70      
    ExtUtils::ParseXS   3.28      
    File::Spec          3.56_02   
    JSON                2.94      
    JSON::PP            2.27300_01
    Module::Build       0.4224    
    Module::Signature   n/a       
    Parse::CPAN::Meta   1.4414_001
    Test::Harness       3.35_01   
    Test::More          1.302096  
    YAML                1.23      
    YAML::Syck          1.30      
    version             0.9909    


--

Summary of my perl5 (revision 5 version 22 subversion 4) configuration:
   
  Platform:
    osname=linux, osvers=2.6.32-696.3.1.el6.x86_64, archname=x86_64-linux
    uname='linux centos6 2.6.32-696.3.1.el6.x86_64 #1 smp tue may 30 19:52:55 utc 2017 x86_64 x86_64 x86_64 gnulinux '
    config_args='-ds -e -Dprefix=/opt/perl-5.22.4 -Dcf_email=srezic@cpan.org'
    hint=recommended, useposix=true, d_sigaction=define
    useithreads=undef, usemultiplicity=undef
    use64bitint=define, use64bitall=define, uselongdouble=undef
    usemymalloc=n, bincompat5005=undef
  Compiler:
    cc='cc', ccflags ='-fwrapv -fno-strict-aliasing -pipe -fstack-protector -I/usr/local/include -D_LARGEFILE_SOURCE -D_FILE_OFFSET_BITS=64 -D_FORTIFY_SOURCE=2',
    optimize='-O2',
    cppflags='-fwrapv -fno-strict-aliasing -pipe -fstack-protector -I/usr/local/include'
    ccversion='', gccversion='4.4.7 20120313 (Red Hat 4.4.7-18)', gccosandvers=''
    intsize=4, longsize=8, ptrsize=8, doublesize=8, byteorder=12345678, doublekind=3
    d_longlong=define, longlongsize=8, d_longdbl=define, longdblsize=16, longdblkind=3
    ivtype='long', ivsize=8, nvtype='double', nvsize=8, Off_t='off_t', lseeksize=8
    alignbytes=8, prototype=define
  Linker and Libraries:
    ld='cc', ldflags =' -fstack-protector -L/usr/local/lib'
    libpth=/usr/local/lib /usr/lib /lib/../lib64 /usr/lib/../lib64 /lib /lib64 /usr/lib64 /usr/local/lib64
    libs=-lpthread -lnsl -lgdbm -ldb -ldl -lm -lcrypt -lutil -lc
    perllibs=-lpthread -lnsl -ldl -lm -lcrypt -lutil -lc
    libc=libc-2.12.so, so=so, useshrplib=false, libperl=libperl.a
    gnulibc_version='2.12'
  Dynamic Linking:
    dlsrc=dl_dlopen.xs, dlext=so, d_dlsymun=undef, ccdlflags='-Wl,-E'
    cccdlflags='-fPIC', lddlflags='-shared -O2 -L/usr/local/lib -fstack-protector'


Characteristics of this binary (from libperl): 
  Compile-time options: HAS_TIMES PERLIO_LAYERS PERL_DONT_CREATE_GVSV
                        PERL_HASH_FUNC_ONE_AT_A_TIME_HARD PERL_MALLOC_WRAP
                        PERL_NEW_COPY_ON_WRITE PERL_PRESERVE_IVUV
                        USE_64_BIT_ALL USE_64_BIT_INT USE_LARGE_FILES
                        USE_LOCALE USE_LOCALE_COLLATE USE_LOCALE_CTYPE
                        USE_LOCALE_NUMERIC USE_LOCALE_TIME USE_PERLIO
                        USE_PERL_ATOF
  Built under linux
  Compiled at Sep 16 2017 21:36:19
  %ENV:
    PERL5LIB="/home/cpansand/.cpan/build/2017091718/Devel-PartialDump-0.20-Jl9phP/blib/arch:/home/cpansand/.cpan/build/2017091718/Devel-PartialDump-0.20-Jl9phP/blib/lib:/home/cpansand/.cpan/build/2017091718/MooseX-Types-0.50-i6VmtQ/blib/arch:/home/cpansand/.cpan/build/2017091718/MooseX-Types-0.50-i6VmtQ/blib/lib:/home/cpansand/.cpan/build/2017091718/Carp-Clan-6.06-uNZfmR/blib/arch:/home/cpansand/.cpan/build/2017091718/Carp-Clan-6.06-uNZfmR/blib/lib:/home/cpansand/.cpan/build/2017091718/Sub-Exporter-ForMethods-0.100052-0dNYAR/blib/arch:/home/cpansand/.cpan/build/2017091718/Sub-Exporter-ForMethods-0.100052-0dNYAR/blib/lib"
    PERL5OPT=""
    PERL5_CPANPLUS_IS_RUNNING="19344"
    PERL5_CPAN_IS_RUNNING="19344"
    PERL5_CPAN_IS_RUNNING_IN_RECURSION="19361,19344"
    PERLDOC="-MPod::Perldoc::ToTextOverstrike"
    PERL_BATCH="yes"
    PERL_CANARY_STABILITY_NOPROMPT="1"
    PERL_CPAN_REPORTER_CONFIG="/var/tmp/cpansmoker-1023/2017091718/cpanreporter_001_config.ini"
    PERL_EXTUTILS_AUTOINSTALL="--defaultdeps"
  @INC:
    /home/cpansand/.cpan/build/2017091718/Devel-PartialDump-0.20-Jl9phP/blib/arch
    /home/cpansand/.cpan/build/2017091718/Devel-PartialDump-0.20-Jl9phP/blib/lib
    /home/cpansand/.cpan/build/2017091718/MooseX-Types-0.50-i6VmtQ/blib/arch
    /home/cpansand/.cpan/build/2017091718/MooseX-Types-0.50-i6VmtQ/blib/lib
    /home/cpansand/.cpan/build/2017091718/Carp-Clan-6.06-uNZfmR/blib/arch
    /home/cpansand/.cpan/build/2017091718/Carp-Clan-6.06-uNZfmR/blib/lib
    /home/cpansand/.cpan/build/2017091718/Sub-Exporter-ForMethods-0.100052-0dNYAR/blib/arch
    /home/cpansand/.cpan/build/2017091718/Sub-Exporter-ForMethods-0.100052-0dNYAR/blib/lib
    /opt/perl-5.22.4/lib/site_perl/5.22.4/x86_64-linux
    /opt/perl-5.22.4/lib/site_perl/5.22.4
    /opt/perl-5.22.4/lib/5.22.4/x86_64-linux
    /opt/perl-5.22.4/lib/5.22.4
    .