Back
From: metabase:user:30977d10-2aae-11df-837a-5e0a49663a4f
Subject: PASS MooseX-Types-Structured-0.33 v5.23.1 GNU/Linux
Date: 2015-08-03T20:49:44Z
This distribution has been tested as part of the CPAN Testers
project, supporting the Perl programming language. See
http://wiki.cpantesters.org/ for more information or email
questions to cpan-testers-discuss@perl.org
--
Dear Karen Etheridge,
This is a computer-generated report for MooseX-Types-Structured-0.33
on perl 5.23.1, created by CPAN-Reporter-1.2014.
Thank you for uploading your work to CPAN. Congratulations!
All tests were successful.
Sections of this report:
* Tester comments
* Program output
* Prerequisites
* Environment and other context
------------------------------
TESTER COMMENTS
------------------------------
Additional comments from tester:
this report is from an automated smoke testing program
and was not reviewed by a human for accuracy
------------------------------
PROGRAM OUTPUT
------------------------------
Output from '/usr/bin/make test':
PERL_DL_NONLAZY=1 "/home/stro/perl/5.23.1/bin/perl" "-MExtUtils::Command::MM" "-MTest::Harness" "-e" "undef *Test::Harness::Switches; test_harness(0, 'blib/lib', 'blib/arch')" t/*.t t/regressions/*.t
t/00-load.t .................... ok
#
# Versions for all modules listed in MYMETA.json (including optional ones):
#
# === Configure Requires ===
#
# Module Want Have
# ------------------- ----- -----
# Module::Build::Tiny 0.039 0.039
#
# === Build Requires ===
#
# Module Want Have
# ------------------- ---- -------
# ExtUtils::MakeMaker any 7.04_01
#
# === Test Requires ===
#
# Module Want Have
# ----------------------- ---- --------
# Data::Dumper any 2.158
# DateTime any 1.20
# ExtUtils::MakeMaker any 7.04_01
# File::Spec any 3.56
# MooseX::Types::DateTime any 0.10
# MooseX::Types::Moose any 0.45
# Test::Fatal any 0.014
# Test::More 0.88 1.001014
# Test::Requires any 0.10
# strict any 1.09
# warnings any 1.33
#
# === Test Recommends ===
#
# Module Want Have
# ---------- -------- --------
# CPAN::Meta 2.120900 2.150005
#
# === Runtime Requires ===
#
# Module Want Have
# -------------------------------------------- ----- -------
# Devel::PartialDump 0.13 0.17
# Moose any 2.1600
# Moose::Meta::TypeCoercion any 2.1600
# Moose::Meta::TypeConstraint any 2.1600
# Moose::Meta::TypeConstraint::Parameterizable any 2.1600
# Moose::Util::TypeConstraints 1.06 2.1600
# MooseX::Types 0.22 0.45
# Scalar::Util any 1.42_01
# Sub::Exporter 0.982 0.987
# if any 0.0604
# namespace::clean 0.08 0.25
# overload any 1.26
#
t/00-report-prereqs.t .......... ok
t/01-basic.t ................... ok
t/02-tuple.t ................... ok
t/03-dict.t .................... ok
t/04-combined.t ................ ok
t/04-map.t ..................... ok
t/05-advanced.t ................ ok
t/06-api.t ..................... ok
t/07-coerce.t .................. ok
t/08-examples.t ................ ok
t/09-optional.t ................ ok
t/10-recursion.t ............... ok
t/11-overflow.t ................ ok
t/12-error.t ................... ok
t/13-deeper_error.t ............ ok
t/14-fully-qualified.t ......... ok
t/bug-incorrect-message.t ...... ok
t/bug-is-subtype.t ............. ok
t/bug-mixed-stringy.t .......... ok
t/bug-optional.t ............... ok
t/regressions/01-is_type_of.t .. ok
t/zzz-check-breaks.t ........... ok
All tests successful.
Files=23, Tests=359, 7 wallclock secs ( 0.07 usr 0.01 sys + 5.69 cusr 0.19 csys = 5.96 CPU)
Result: PASS
------------------------------
PREREQUISITES
------------------------------
Prerequisite modules loaded:
requires:
Module Need Have
-------------------------------------------- -------- --------
Devel::PartialDump 0.13 0.17
if 0 0.0604
Moose 0 2.1600
Moose::Meta::TypeCoercion 0 2.1600
Moose::Meta::TypeConstraint 0 2.1600
Moose::Meta::TypeConstraint::Parameterizable 0 2.1600
Moose::Util::TypeConstraints 1.06 2.1600
MooseX::Types 0.22 0.45
namespace::clean 0.08 0.25
overload 0 1.26
perl 5.008 5.023001
Scalar::Util 0 1.42_01
Sub::Exporter 0.982 0.987
build_requires:
Module Need Have
-------------------------------------------- -------- --------
Data::Dumper 0 2.158
DateTime 0 1.20
ExtUtils::MakeMaker 0 7.04_01
File::Spec 0 3.56
MooseX::Types::DateTime 0 0.10
MooseX::Types::Moose 0 0.45
strict 0 1.09
Test::Fatal 0 0.014
Test::More 0.88 1.001014
Test::Requires 0 0.10
warnings 0 1.33
configure_requires:
Module Need Have
-------------------------------------------- -------- --------
Module::Build::Tiny 0.039 0.039
perl 5.008 5.023001
opt_build_requires:
Module Need Have
-------------------------------------------- -------- --------
CPAN::Meta 2.120900 2.150005
------------------------------
ENVIRONMENT AND OTHER CONTEXT
------------------------------
Environment variables:
AUTOMATED_TESTING = 1
LANG = en_US.UTF-8
PATH = /usr/local/bin:/usr/bin:/bin:/usr/local/games:/usr/games
PERL5LIB =
PERL5OPT =
PERL5_CPANPLUS_IS_RUNNING = 1733
PERL5_CPAN_IS_RUNNING = 1733
PERL5_CPAN_IS_RUNNING_IN_RECURSION = 2712,1733
PERL_CR_SMOKER_CURRENT = FAIR-Data-0.230
PERL_EXTUTILS_AUTOINSTALL = --defaultdeps
PERL_MM_USE_DEFAULT = 1
SHELL = /bin/bash
TERM = xterm
Perl special variables (and OS-specific diagnostics, for MSWin32):
$^X = /home/stro/perl/5.23.1/bin/perl
$UID/$EUID = 1000 / 1000
$GID = 1000 24 25 29 30 44 46 108 114 1000
$EGID = 1000 24 25 29 30 44 46 108 114 1000
Perl module toolchain versions installed:
Module Have
------------------- --------
CPAN 2.11
CPAN::Meta 2.150005
Cwd 3.56
ExtUtils::CBuilder 0.280223
ExtUtils::Command 1.20
ExtUtils::Install 2.04
ExtUtils::MakeMaker 7.04_01
ExtUtils::Manifest 1.70
ExtUtils::ParseXS 3.28
File::Spec 3.56
JSON 2.90
JSON::PP 2.27300
Module::Build 0.4214
Module::Signature n/a
Parse::CPAN::Meta 1.4417
Test::Harness 3.35
Test::More 1.001014
YAML 1.15
YAML::Syck 1.29
version 0.9909
--
Summary of my perl5 (revision 5 version 23 subversion 1) configuration:
Platform:
osname=linux, osvers=3.16.0-4-amd64, archname=x86_64-linux
uname='linux vm-debian-001 3.16.0-4-amd64 #1 smp debian 3.16.7-ckt11-1 (2015-05-24) x86_64 gnulinux '
config_args=''
hint=recommended, useposix=true, d_sigaction=define
useithreads=undef, usemultiplicity=undef
use64bitint=define, use64bitall=define, uselongdouble=undef
usemymalloc=n, bincompat5005=undef
Compiler:
cc='cc', ccflags ='-fwrapv -fno-strict-aliasing -pipe -fstack-protector-strong -I/usr/local/include -D_LARGEFILE_SOURCE -D_FILE_OFFSET_BITS=64 -D_FORTIFY_SOURCE=2',
optimize='-O2',
cppflags='-fwrapv -fno-strict-aliasing -pipe -fstack-protector-strong -I/usr/local/include'
ccversion='', gccversion='4.9.2', gccosandvers=''
intsize=4, longsize=8, ptrsize=8, doublesize=8, byteorder=12345678, doublekind=3
d_longlong=define, longlongsize=8, d_longdbl=define, longdblsize=16, longdblkind=3
ivtype='long', ivsize=8, nvtype='double', nvsize=8, Off_t='off_t', lseeksize=8
alignbytes=8, prototype=define
Linker and Libraries:
ld='cc', ldflags =' -fstack-protector-strong -L/usr/local/lib'
libpth=/usr/local/lib /usr/lib/gcc/x86_64-linux-gnu/4.9/include-fixed /usr/include/x86_64-linux-gnu /usr/lib /lib/x86_64-linux-gnu /lib/../lib /usr/lib/x86_64-linux-gnu /usr/lib/../lib /lib
libs=-lpthread -lnsl -ldl -lm -lcrypt -lutil -lc
perllibs=-lpthread -lnsl -ldl -lm -lcrypt -lutil -lc
libc=libc-2.19.so, so=so, useshrplib=false, libperl=libperl.a
gnulibc_version='2.19'
Dynamic Linking:
dlsrc=dl_dlopen.xs, dlext=so, d_dlsymun=undef, ccdlflags='-Wl,-E'
cccdlflags='-fPIC', lddlflags='-shared -O2 -L/usr/local/lib -fstack-protector-strong'
Characteristics of this binary (from libperl):
Compile-time options: HAS_TIMES PERLIO_LAYERS PERL_COPY_ON_WRITE
PERL_DONT_CREATE_GVSV
PERL_HASH_FUNC_ONE_AT_A_TIME_HARD PERL_MALLOC_WRAP
PERL_PRESERVE_IVUV USE_64_BIT_ALL USE_64_BIT_INT
USE_LARGE_FILES USE_LOCALE USE_LOCALE_COLLATE
USE_LOCALE_CTYPE USE_LOCALE_NUMERIC USE_LOCALE_TIME
USE_PERLIO USE_PERL_ATOF
Built under linux
Compiled at Aug 2 2015 22:27:58
%ENV:
PERL5LIB=""
PERL5OPT=""
PERL5_CPANPLUS_IS_RUNNING="1733"
PERL5_CPAN_IS_RUNNING="1733"
PERL5_CPAN_IS_RUNNING_IN_RECURSION="2712,1733"
PERL_CR_SMOKER_CURRENT="FAIR-Data-0.230"
PERL_EXTUTILS_AUTOINSTALL="--defaultdeps"
PERL_MM_USE_DEFAULT="1"
@INC:
/home/stro/perl/5.23.1/lib/site_perl/5.23.1/x86_64-linux
/home/stro/perl/5.23.1/lib/site_perl/5.23.1
/home/stro/perl/5.23.1/lib/5.23.1/x86_64-linux
/home/stro/perl/5.23.1/lib/5.23.1
.