Test-TCP v2.20 Perl 5 v5.28.1 i686-linux-gnu-thread-multi-64int

Status
Pass
From
Nigel Horne
Dist
Test-TCP v2.20
Platform
Perl 5 v5.28.1 i686-linux-gnu-thread-multi-64int
Date
2019-08-12 03:49:22
ID
2ba3721c-bcb4-11e9-a3d3-7195782a880d
This distribution has been tested as part of the CPAN Testers
project, supporting the Perl programming language.  See
http://wiki.cpantesters.org/ for more information or email
questions to cpan-testers-discuss@perl.org


--
Dear Tatsuhiko Miyagawa,

This is a computer-generated report for Test-TCP-2.20
on perl 5.28.1, created by CPAN-Reporter-1.2018.

Thank you for uploading your work to CPAN.  Congratulations!
All tests were successful.

Sections of this report:

    * Tester comments
    * Program output
    * Prerequisites
    * Environment and other context

------------------------------
TESTER COMMENTS
------------------------------

Additional comments from tester:

this report is from an automated smoke testing program
and was not reviewed by a human for accuracy

------------------------------
PROGRAM OUTPUT
------------------------------

Output from '/usr/bin/make test':

PERL_DL_NONLAZY=1 "/usr/bin/perl" "-MExtUtils::Command::MM" "-MTest::Harness" "-e" "undef *Test::Harness::Switches; test_harness(0, 'blib/lib', 'blib/arch')" t/*.t
# Test::More: 1.302164
t/00_compile.t ................. ok
t/01_simple.t .................. ok
# your server received SIGABRT
t/02_abrt.t .................... ok
t/03_return_when_sigterm.t ..... ok
# $Config{sig_name}: ZERO HUP INT QUIT ILL TRAP ABRT BUS FPE KILL USR1 SEGV USR2 PIPE ALRM TERM STKFLT CHLD CONT STOP TSTP TTIN TTOU URG XCPU XFSZ VTALRM PROF WINCH IO PWR SYS NUM32 NUM33 RTMIN NUM35 NUM36 NUM37 NUM38 NUM39 NUM40 NUM41 NUM42 NUM43 NUM44 NUM45 NUM46 NUM47 NUM48 NUM49 NUM50 NUM51 NUM52 NUM53 NUM54 NUM55 NUM56 NUM57 NUM58 NUM59 NUM60 NUM61 NUM62 NUM63 RTMAX IOT CLD POLL 
# CHILD_ERROR_NATIVE: 2
# $?: 2
t/04_die.t ..................... ok
t/06_nest.t .................... ok
t/07_optional.t ................ ok
t/08_exit.t .................... ok
t/09_fork.t .................... ok
t/10_oo.t ...................... ok
    # found an empty IPv6 port
t/05_sigint.t .................. ok
t/12_pass_wait_port_options.t .. ok
t/13_undef_port.t .............. ok
t/14_listen.t .................. ok
t/11_net_empty_port.t .......... ok
All tests successful.
Files=15, Tests=149, 22 wallclock secs ( 0.10 usr  0.01 sys +  2.87 cusr  0.40 csys =  3.38 CPU)
Result: PASS

------------------------------
PREREQUISITES
------------------------------

Prerequisite modules loaded:

requires:

    Module              Need     Have    
    ------------------- -------- --------
    IO::Socket::INET    0        1.39    
    IO::Socket::IP      0        0.39    
    perl                5.008001 5.028001
    Test::More          0        1.302164
    Test::SharedFork    0.29     0.35    
    Time::HiRes         0        1.9759  

build_requires:

    Module              Need     Have    
    ------------------- -------- --------
    File::Temp          0        0.2304  
    Socket              0        2.027   
    Test::More          0.98     1.302164

configure_requires:

    Module              Need     Have    
    ------------------- -------- --------
    ExtUtils::MakeMaker 6.64     7.34    


------------------------------
ENVIRONMENT AND OTHER CONTEXT
------------------------------

Environment variables:

    AUTOMATED_TESTING = 1
    HARNESS_OPTIONS = j2
    LANG = en_US.UTF-8
    PATH = /home/njh/perl5/perlbrew/bin:/home/njh/perl5/perlbrew/perls/perl-5.16.3-sanitize-undefined/bin:/home/njh/src/njh/smoker/bin:/usr/bin:/bin
    PERL5LIB = /home/njh/.cpan/build/Test-SharedFork-0.35-0/blib/arch:/home/njh/.cpan/build/Test-SharedFork-0.35-0/blib/lib:/home/njh/.cpan/build/Mouse-v2.5.6-0/blib/arch:/home/njh/.cpan/build/Mouse-v2.5.6-0/blib/lib:/home/njh/.cpan/build/Test-LeakTrace-0.16-0/blib/arch:/home/njh/.cpan/build/Test-LeakTrace-0.16-0/blib/lib:/home/njh/.cpan/build/Module-Build-XSUtil-0.19-0/blib/arch:/home/njh/.cpan/build/Module-Build-XSUtil-0.19-0/blib/lib:/home/njh/.cpan/build/File-Copy-Recursive-Reduced-0.006-0/blib/arch:/home/njh/.cpan/build/File-Copy-Recursive-Reduced-0.006-0/blib/lib:/home/njh/.cpan/build/Devel-CheckCompiler-0.07-0/blib/arch:/home/njh/.cpan/build/Devel-CheckCompiler-0.07-0/blib/lib:/home/njh/.cpan/build/Cwd-Guard-0.05-0/blib/arch:/home/njh/.cpan/build/Cwd-Guard-0.05-0/blib/lib:/home/njh/.cpan/build/Devel-PPPort-3.52-0/blib/arch:/home/njh/.cpan/build/Devel-PPPort-3.52-0/blib/lib:/home/njh/.cpan/build/Module-Build-0.4229-8/blib/arch:/home/njh/.cpan/build/Module-Build-0.4229-8/blib/lib
    PERL5OPT = 
    PERL5_CPANPLUS_IS_RUNNING = 2657
    PERL5_CPAN_IS_RUNNING = 2657
    PERL5_CPAN_IS_RUNNING_IN_RECURSION = 2634,2657
    PERLBREW_HOME = /home/njh/.perlbrew
    PERLBREW_MANPATH = /home/njh/perl5/perlbrew/perls/perl-5.16.3-sanitize-undefined/man
    PERLBREW_PATH = /home/njh/perl5/perlbrew/bin:/home/njh/perl5/perlbrew/perls/perl-5.16.3-sanitize-undefined/bin
    PERLBREW_PERL = perl-5.16.3-sanitize-undefined
    PERLBREW_ROOT = /home/njh/perl5/perlbrew
    PERLBREW_SHELLRC_VERSION = 0.84
    PERLBREW_VERSION = 0.84
    PERL_USE_UNSAFE_INC = 1
    SHELL = /bin/sh
    TEMP = /tmp/user/1000
    TMPDIR = /tmp/user/1000/testwrapper.2641

Perl special variables (and OS-specific diagnostics, for MSWin32):

    $^X = /usr/bin/perl
    $UID/$EUID = 1000 / 1000
    $GID = 1000 4 24 25 29 30 44 46 108 1000
    $EGID = 1000 4 24 25 29 30 44 46 108 1000

Perl module toolchain versions installed:

    Module              Have    
    ------------------- --------
    CPAN                2.20    
    CPAN::Meta          2.150010
    Cwd                 3.74    
    ExtUtils::CBuilder  0.280230
    ExtUtils::Command   7.34    
    ExtUtils::Install   2.14    
    ExtUtils::MakeMaker 7.34    
    ExtUtils::Manifest  1.70    
    ExtUtils::ParseXS   3.39    
    File::Spec          3.74    
    JSON                4.02    
    JSON::PP            2.97001 
    Module::Build       0.4229  
    Module::Signature   n/a     
    Parse::CPAN::Meta   2.150010
    Test::Harness       3.42    
    Test::More          1.302164
    YAML                1.29    
    YAML::Syck          n/a     
    version             0.9923  


--

Summary of my perl5 (revision 5 version 28 subversion 1) configuration:
   
  Platform:
    osname=linux
    osvers=4.9.0
    archname=i686-linux-gnu-thread-multi-64int
    uname='linux localhost 4.9.0 #1 smp debian 4.9.0 i686 gnulinux '
    config_args='-Dusethreads -Duselargefiles -Dcc=i686-linux-gnu-gcc -Dcpp=i686-linux-gnu-cpp -Dld=i686-linux-gnu-gcc -Dccflags=-DDEBIAN -Wdate-time -D_FORTIFY_SOURCE=2 -g -O2 -fdebug-prefix-map=/build/perl-qZqgkt/perl-5.28.1=. -fstack-protector-strong -Wformat -Werror=format-security -Dldflags= -Wl,-z,relro -Dlddlflags=-shared -Wl,-z,relro -Dcccdlflags=-fPIC -Darchname=i686-linux-gnu -Dprefix=/usr -Dprivlib=/usr/share/perl/5.28 -Darchlib=/usr/lib/i386-linux-gnu/perl/5.28 -Dvendorprefix=/usr -Dvendorlib=/usr/share/perl5 -Dvendorarch=/usr/lib/i386-linux-gnu/perl5/5.28 -Dsiteprefix=/usr/local -Dsitelib=/usr/local/share/perl/5.28.1 -Dsitearch=/usr/local/lib/i386-linux-gnu/perl/5.28.1 -Dman1dir=/usr/share/man/man1 -Dman3dir=/usr/share/man/man3 -Dsiteman1dir=/usr/local/man/man1 -Dsiteman3dir=/usr/local/man/man3 -Duse64bitint -Dman1ext=1 -Dman3ext=3perl -Dpager=/usr/bin/sensible-pager -Uafs -Ud_csh -Ud_ualarm -Uusesfio -Uusenm -Ui_libutil -Ui_xlocale -Uversiononly -DDEBUGGING=-g -Doptimize=-O2 -dEs -Duseshrplib -Dlibperl=libperl.so.5.28.1'
    hint=recommended
    useposix=true
    d_sigaction=define
    useithreads=define
    usemultiplicity=define
    use64bitint=define
    use64bitall=undef
    uselongdouble=undef
    usemymalloc=n
    default_inc_excludes_dot=define
    bincompat5005=undef
  Compiler:
    cc='i686-linux-gnu-gcc'
    ccflags ='-D_REENTRANT -D_GNU_SOURCE -DDEBIAN -fwrapv -fno-strict-aliasing -pipe -I/usr/local/include -D_LARGEFILE_SOURCE -D_FILE_OFFSET_BITS=64'
    optimize='-O2 -g'
    cppflags='-D_REENTRANT -D_GNU_SOURCE -DDEBIAN -fwrapv -fno-strict-aliasing -pipe -I/usr/local/include'
    ccversion=''
    gccversion='8.3.0'
    gccosandvers=''
    intsize=4
    longsize=4
    ptrsize=4
    doublesize=8
    byteorder=12345678
    doublekind=3
    d_longlong=define
    longlongsize=8
    d_longdbl=define
    longdblsize=12
    longdblkind=3
    ivtype='long long'
    ivsize=8
    nvtype='double'
    nvsize=8
    Off_t='off_t'
    lseeksize=8
    alignbytes=4
    prototype=define
  Linker and Libraries:
    ld='i686-linux-gnu-gcc'
    ldflags =' -fstack-protector-strong -L/usr/local/lib'
    libpth=/usr/local/lib /usr/lib/gcc/i686-linux-gnu/8/include-fixed /usr/include/i386-linux-gnu /usr/lib /lib/i386-linux-gnu /lib/../lib /usr/lib/i386-linux-gnu /usr/lib/../lib /lib
    libs=-lgdbm -lgdbm_compat -ldb -ldl -lm -lpthread -lc -lcrypt
    perllibs=-ldl -lm -lpthread -lc -lcrypt
    libc=libc-2.28.so
    so=so
    useshrplib=true
    libperl=libperl.so.5.28
    gnulibc_version='2.28'
  Dynamic Linking:
    dlsrc=dl_dlopen.xs
    dlext=so
    d_dlsymun=undef
    ccdlflags='-Wl,-E'
    cccdlflags='-fPIC'
    lddlflags='-shared -L/usr/local/lib -fstack-protector-strong'


Characteristics of this binary (from libperl): 
  Compile-time options:
    HAS_TIMES
    MULTIPLICITY
    PERLIO_LAYERS
    PERL_COPY_ON_WRITE
    PERL_DONT_CREATE_GVSV
    PERL_IMPLICIT_CONTEXT
    PERL_MALLOC_WRAP
    PERL_OP_PARENT
    PERL_PRESERVE_IVUV
    USE_64_BIT_INT
    USE_ITHREADS
    USE_LARGE_FILES
    USE_LOCALE
    USE_LOCALE_COLLATE
    USE_LOCALE_CTYPE
    USE_LOCALE_NUMERIC
    USE_LOCALE_TIME
    USE_PERLIO
    USE_PERL_ATOF
    USE_REENTRANT_API
  Locally applied patches:
    DEBPKG:debian/cpan_definstalldirs - Provide a sensible INSTALLDIRS default for modules installed from CPAN.
    DEBPKG:debian/db_file_ver - https://bugs.debian.org/340047 Remove overly restrictive DB_File version check.
    DEBPKG:debian/doc_info - Replace generic man(1) instructions with Debian-specific information.
    DEBPKG:debian/enc2xs_inc - https://bugs.debian.org/290336 Tweak enc2xs to follow symlinks and ignore missing @INC directories.
    DEBPKG:debian/errno_ver - https://bugs.debian.org/343351 Remove Errno version check due to upgrade problems with long-running processes.
    DEBPKG:debian/libperl_embed_doc - https://bugs.debian.org/186778 Note that libperl-dev package is required for embedded linking
    DEBPKG:fixes/respect_umask - Respect umask during installation
    DEBPKG:debian/writable_site_dirs - Set umask approproately for site install directories
    DEBPKG:debian/extutils_set_libperl_path - EU:MM: set location of libperl.a under /usr/lib
    DEBPKG:debian/no_packlist_perllocal - Don't install .packlist or perllocal.pod for perl or vendor
    DEBPKG:debian/fakeroot - Postpone LD_LIBRARY_PATH evaluation to the binary targets.
    DEBPKG:debian/instmodsh_doc - Debian policy doesn't install .packlist files for core or vendor.
    DEBPKG:debian/ld_run_path - Remove standard libs from LD_RUN_PATH as per Debian policy.
    DEBPKG:debian/libnet_config_path - Set location of libnet.cfg to /etc/perl/Net as /usr may not be writable.
    DEBPKG:debian/perlivp - https://bugs.debian.org/510895 Make perlivp skip include directories in /usr/local
    DEBPKG:debian/squelch-locale-warnings - https://bugs.debian.org/508764 Squelch locale warnings in Debian package maintainer scripts
    DEBPKG:debian/patchlevel - https://bugs.debian.org/567489 List packaged patches for 5.28.1-6 in patchlevel.h
    DEBPKG:fixes/document_makemaker_ccflags - https://bugs.debian.org/628522 [rt.cpan.org #68613] Document that CCFLAGS should include $Config{ccflags}
    DEBPKG:debian/find_html2text - https://bugs.debian.org/640479 Configure CPAN::Distribution with correct name of html2text
    DEBPKG:debian/perl5db-x-terminal-emulator.patch - https://bugs.debian.org/668490 Invoke x-terminal-emulator rather than xterm in perl5db.pl
    DEBPKG:debian/cpan-missing-site-dirs - https://bugs.debian.org/688842 Fix CPAN::FirstTime defaults with nonexisting site dirs if a parent is writable
    DEBPKG:fixes/memoize_storable_nstore - [rt.cpan.org #77790] https://bugs.debian.org/587650 Memoize::Storable: respect 'nstore' option not respected
    DEBPKG:debian/makemaker-pasthru - https://bugs.debian.org/758471 Pass LD settings through to subdirectories
    DEBPKG:debian/makemaker-manext - https://bugs.debian.org/247370 Make EU::MakeMaker honour MANnEXT settings in generated manpage headers
    DEBPKG:debian/kfreebsd-softupdates - https://bugs.debian.org/796798 Work around Debian Bug#796798
    DEBPKG:fixes/autodie-scope - https://bugs.debian.org/798096 Fix a scoping issue with "no autodie" and the "system" sub
    DEBPKG:fixes/memoize-pod - [rt.cpan.org #89441] Fix POD errors in Memoize
    DEBPKG:debian/hurd-softupdates - https://bugs.debian.org/822735 Fix t/op/stat.t failures on hurd
    DEBPKG:fixes/math_complex_doc_great_circle - https://bugs.debian.org/697567 [rt.cpan.org #114104] Math::Trig: clarify definition of great_circle_midpoint
    DEBPKG:fixes/math_complex_doc_see_also - https://bugs.debian.org/697568 [rt.cpan.org #114105] Math::Trig: add missing SEE ALSO
    DEBPKG:fixes/math_complex_doc_angle_units - https://bugs.debian.org/731505 [rt.cpan.org #114106] Math::Trig: document angle units
    DEBPKG:fixes/cpan_web_link - https://bugs.debian.org/367291 CPAN: Add link to main CPAN web site
    DEBPKG:debian/hppa_op_optimize_workaround - https://bugs.debian.org/838613 Temporarily lower the optimization of op.c on hppa due to gcc-6 problems
    DEBPKG:debian/installman-utf8 - https://bugs.debian.org/840211 Generate man pages with UTF-8 characters
    DEBPKG:fixes/getopt-long-4 - https://bugs.debian.org/864544 [rt.cpan.org #122068] Fix issue #122068.
    DEBPKG:debian/hppa_opmini_optimize_workaround - https://bugs.debian.org/869122 Lower the optimization level of opmini.c on hppa
    DEBPKG:debian/sh4_op_optimize_workaround - https://bugs.debian.org/869373 Also lower the optimization level of op.c and opmini.c on sh4
    DEBPKG:debian/perldoc-pager - https://bugs.debian.org/870340 [rt.cpan.org #120229] Fix perldoc terminal escapes when sensible-pager is less
    DEBPKG:debian/prune_libs - https://bugs.debian.org/128355 Prune the list of libraries wanted to what we actually need.
    DEBPKG:debian/mod_paths - Tweak @INC ordering for Debian
    DEBPKG:debian/configure-regen - https://bugs.debian.org/762638 Regenerate Configure et al. after probe unit changes
    DEBPKG:debian/deprecate-with-apt - https://bugs.debian.org/747628 Point users to Debian packages of deprecated core modules
    DEBPKG:debian/disable-stack-check - https://bugs.debian.org/902779 [perl #133327] Disable debugperl stack extension checks for binary compatibility with perl
    DEBPKG:debian/gdbm-fatal - [perl #133295] https://bugs.debian.org/904005 Temporarily skip GDBM_File fatal.t for gdbm >= 1.15 compatibility
    DEBPKG:fixes/storable-recursion - https://bugs.debian.org/912900 [perl #133326] [120060c] (perl #133326) fix and clarify handling of recurs_sv.
    DEBPKG:fixes/caretx-fallback - https://bugs.debian.org/913347 [perl #133573] [03b94aa] RT#133573: $^X fallback when platform-specific technique fails
    DEBPKG:fixes/eumm-usrmerge - https://bugs.debian.org/913637 Avoid mangling /bin non-perl shebangs on merged-/usr systems
    DEBPKG:fixes/errno-include-path - [6c5080f] [perl #133662] https://bugs.debian.org/875921 Make Errno_pm.PL compatible with /usr/include/<ARCH>/errno.h
    DEBPKG:fixes/kfreebsd-renameat - [a3c63a9] https://bugs.debian.org/912521 [perl #133668] Also work around renameat() kernel bug on GNU/kFreeBSD
    DEBPKG:fixes/time-local-2020 - https://bugs.debian.org/915209 [rt.cpan.org #124787] Fix Time::Local tests
    DEBPKG:fixes/inplace-editing-bugfix/part1 - https://bugs.debian.org/914651 (perl #133659) move argvout cleanup to a new function
    DEBPKG:fixes/inplace-editing-bugfix/part2 - https://bugs.debian.org/914651 (perl #133659) tests for global destruction handling of inplace editing
    DEBPKG:fixes/inplace-editing-bugfix/part3 - https://bugs.debian.org/914651 (perl #133659) make an in-place edit successful if the exit status is zero
    DEBPKG:fixes/fix-manifest-failures - https://bugs.debian.org/914962 Fix t/porting/manifest.t failures when run in a foreign git checkout
    DEBPKG:fixes/pipe-open-bugfix/part1 - [perl #133726] https://bugs.debian.org/916313 Always mark pipe in pipe-open as inherit-on-exec
    DEBPKG:fixes/pipe-open-bugfix/part2 - [perl #133726] https://bugs.debian.org/916313 Always mark pipe in list pipe-open as inherit-on-exec
    DEBPKG:fixes/storable-probing/prereq1 - [3f4cad1] Storable: fix for strawberry build failures:
    DEBPKG:fixes/storable-probing/prereq2 - [perl #133411] [edf639f] (perl #133411) don't try to load Storable with -Dusecrosscompile
    DEBPKG:fixes/storable-probing/disable-probing - https://bugs.debian.org/914133 [perl #133708] [2a0bbd3] (perl #133708) remove build-time probing for stack limits for Storable
    DEBPKG:debian/perlbug-editor - https://bugs.debian.org/922609 Use "editor" as the default perlbug editor, as per Debian policy
    DEBPKG:fixes/posix-mbrlen - [25d7b7a] https://bugs.debian.org/924517 [perl #133928] Fix POSIX::mblen mbstate_t initialization on threaded perls with glibc
  Built under linux
  Compiled at Mar 31 2019 11:51:22
  %ENV:
    PERL5LIB="/home/njh/.cpan/build/Test-SharedFork-0.35-0/blib/arch:/home/njh/.cpan/build/Test-SharedFork-0.35-0/blib/lib:/home/njh/.cpan/build/Mouse-v2.5.6-0/blib/arch:/home/njh/.cpan/build/Mouse-v2.5.6-0/blib/lib:/home/njh/.cpan/build/Test-LeakTrace-0.16-0/blib/arch:/home/njh/.cpan/build/Test-LeakTrace-0.16-0/blib/lib:/home/njh/.cpan/build/Module-Build-XSUtil-0.19-0/blib/arch:/home/njh/.cpan/build/Module-Build-XSUtil-0.19-0/blib/lib:/home/njh/.cpan/build/File-Copy-Recursive-Reduced-0.006-0/blib/arch:/home/njh/.cpan/build/File-Copy-Recursive-Reduced-0.006-0/blib/lib:/home/njh/.cpan/build/Devel-CheckCompiler-0.07-0/blib/arch:/home/njh/.cpan/build/Devel-CheckCompiler-0.07-0/blib/lib:/home/njh/.cpan/build/Cwd-Guard-0.05-0/blib/arch:/home/njh/.cpan/build/Cwd-Guard-0.05-0/blib/lib:/home/njh/.cpan/build/Devel-PPPort-3.52-0/blib/arch:/home/njh/.cpan/build/Devel-PPPort-3.52-0/blib/lib:/home/njh/.cpan/build/Module-Build-0.4229-8/blib/arch:/home/njh/.cpan/build/Module-Build-0.4229-8/blib/lib"
    PERL5OPT=""
    PERL5_CPANPLUS_IS_RUNNING="2657"
    PERL5_CPAN_IS_RUNNING="2657"
    PERL5_CPAN_IS_RUNNING_IN_RECURSION="2634,2657"
    PERLBREW_HOME="/home/njh/.perlbrew"
    PERLBREW_MANPATH="/home/njh/perl5/perlbrew/perls/perl-5.16.3-sanitize-undefined/man"
    PERLBREW_PATH="/home/njh/perl5/perlbrew/bin:/home/njh/perl5/perlbrew/perls/perl-5.16.3-sanitize-undefined/bin"
    PERLBREW_PERL="perl-5.16.3-sanitize-undefined"
    PERLBREW_ROOT="/home/njh/perl5/perlbrew"
    PERLBREW_SHELLRC_VERSION="0.84"
    PERLBREW_VERSION="0.84"
    PERL_USE_UNSAFE_INC="1"
  @INC:
    /home/njh/.cpan/build/Test-SharedFork-0.35-0/blib/arch
    /home/njh/.cpan/build/Test-SharedFork-0.35-0/blib/lib
    /home/njh/.cpan/build/Mouse-v2.5.6-0/blib/arch
    /home/njh/.cpan/build/Mouse-v2.5.6-0/blib/lib
    /home/njh/.cpan/build/Test-LeakTrace-0.16-0/blib/arch
    /home/njh/.cpan/build/Test-LeakTrace-0.16-0/blib/lib
    /home/njh/.cpan/build/Module-Build-XSUtil-0.19-0/blib/arch
    /home/njh/.cpan/build/Module-Build-XSUtil-0.19-0/blib/lib
    /home/njh/.cpan/build/File-Copy-Recursive-Reduced-0.006-0/blib/arch
    /home/njh/.cpan/build/File-Copy-Recursive-Reduced-0.006-0/blib/lib
    /home/njh/.cpan/build/Devel-CheckCompiler-0.07-0/blib/arch
    /home/njh/.cpan/build/Devel-CheckCompiler-0.07-0/blib/lib
    /home/njh/.cpan/build/Cwd-Guard-0.05-0/blib/arch
    /home/njh/.cpan/build/Cwd-Guard-0.05-0/blib/lib
    /home/njh/.cpan/build/Devel-PPPort-3.52-0/blib/arch
    /home/njh/.cpan/build/Devel-PPPort-3.52-0/blib/lib
    /home/njh/.cpan/build/Module-Build-0.4229-8/blib/arch
    /home/njh/.cpan/build/Module-Build-0.4229-8/blib/lib
    /etc/perl
    /usr/local/lib/i386-linux-gnu/perl/5.28.1
    /usr/local/share/perl/5.28.1
    /usr/lib/i386-linux-gnu/perl5/5.28
    /usr/share/perl5
    /usr/lib/i386-linux-gnu/perl/5.28
    /usr/share/perl/5.28
    /usr/local/lib/site_perl
    /usr/lib/i386-linux-gnu/perl-base
    .