Report for MooseX-Types-Structured-0.28

Back
From: metabase:user:323dcade-2aae-11df-837a-5e0a49663a4f
Subject: PASS MooseX-Types-Structured-0.28 v5.17.0 GNU/Linux
Date: 2012-06-08T07:18:39Z

This distribution has been tested as part of the CPAN Testers
project, supporting the Perl programming language.  See
http://wiki.cpantesters.org/ for more information or email
questions to cpan-testers-discuss@perl.org


--
Dear John Napiorkowski,

This is a computer-generated report for MooseX-Types-Structured-0.28
on perl 5.17.0, created by CPAN-Reporter-1.2006.

Thank you for uploading your work to CPAN.  Congratulations!
All tests were successful.

Sections of this report:

    * Tester comments
    * Program output
    * Prerequisites
    * Environment and other context

------------------------------
TESTER COMMENTS
------------------------------

Additional comments from tester:

none provided

------------------------------
PROGRAM OUTPUT
------------------------------

Output from '/usr/bin/make test':

PERL_DL_NONLAZY=1 /usr/local/bin/perl5.17.0d-nt@5b3700f2 "-MExtUtils::Command::MM" "-e" "test_harness(0, 'blib/lib', 'blib/arch')" t/*.t t/regressions/*.t
t/00-load.t .................... ok
t/01-basic.t ................... ok
t/02-tuple.t ................... ok
t/03-dict.t .................... ok
t/04-combined.t ................ ok
t/04-map.t ..................... ok
t/05-advanced.t ................ ok
t/06-api.t ..................... ok
t/07-coerce.t .................. ok
Unescaped left brace in regex is deprecated, passed through in regex; marked by <-- HERE in m/
                    (?:
                      %{ <-- HERE (\w+)}         # method name like %{day_name}
                      |
                      %([%a-zA-Z])     # single character specifier like %d
                      |
                      %(\d+)N          # special case for %N
                    )
                   / at /usr/local/lib/perl5/site_perl/5.17.0/x86_64-linux-debug@5b3700f2/DateTime.pm line 1066.
t/08-examples.t ................ ok
t/09-optional.t ................ ok
t/10-recursion.t ............... ok
t/11-overflow.t ................ ok
t/12-error.t ................... ok
t/13-deeper_error.t ............ ok
t/bug-incorrect-message.t ...... ok
t/bug-is-subtype.t ............. ok
t/bug-mixed-stringy.t .......... ok
t/bug-optional.t ............... ok
t/regressions/01-is_type_of.t .. ok
t/release-eol.t ................ skipped: these tests are for release candidate testing
t/release-no-tabs.t ............ skipped: these tests are for release candidate testing
t/release-pod-coverage.t ....... skipped: these tests are for release candidate testing
t/release-pod-syntax.t ......... skipped: these tests are for release candidate testing
All tests successful.
Files=24, Tests=356, 14 wallclock secs ( 0.27 usr  0.07 sys + 13.26 cusr  0.35 csys = 13.95 CPU)
Result: PASS

------------------------------
PREREQUISITES
------------------------------

Prerequisite modules loaded:

requires:

    Module                                       Need  Have    
    -------------------------------------------- ----- --------
    Devel::PartialDump                           0.13  0.15    
    Moose                                        1.08  2.0602  
    Moose::Meta::TypeCoercion                    0     2.0602  
    Moose::Meta::TypeConstraint                  0     2.0602  
  ! Moose::Meta::TypeConstraint::Parameterizable 0     broken  
    Moose::Util::TypeConstraints                 1.06  2.0602  
    MooseX::Types                                0.22  0.35    
    overload                                     0     1.19    
    Scalar::Util                                 0     1.25    
    Sub::Exporter                                0.982 0.984   

build_requires:

    Module                                       Need  Have    
    -------------------------------------------- ----- --------
    Data::Dumper                                 0     2.135_06
    DateTime                                     0     0.74    
    MooseX::Types::DateTime                      0     0.07    
    MooseX::Types::Moose                         0     0.35    
    strict                                       0     1.07    
    Test::Fatal                                  0     0.010   
    Test::More                                   0.94  0.98    
    warnings                                     0     1.13    

configure_requires:

    Module                                       Need  Have    
    -------------------------------------------- ----- --------
    ExtUtils::MakeMaker                          6.30  6.63_02 


------------------------------
ENVIRONMENT AND OTHER CONTEXT
------------------------------

Environment variables:

    LANG = en_US.UTF-8
    PATH = /home/rurban/bin:/usr/lib/lightdm/lightdm:/usr/local/sbin:/usr/local/bin:/usr/sbin:/usr/bin:/sbin:/bin:/usr/games
    PERL5LIB = 
    PERL5OPT = 
    PERL5_CPANPLUS_IS_RUNNING = 21237
    PERL5_CPAN_IS_RUNNING = 21237
    SHELL = /bin/bash
    TERM = xterm

Perl special variables (and OS-specific diagnostics, for MSWin32):

    $^X = /usr/local/bin/perl5.17.0d-nt@5b3700f2
    $UID/$EUID = 1000 / 1000
    $GID = 1000 4 20 24 46 116 118 125 1000
    $EGID = 1000 4 20 24 46 116 118 125 1000

Perl module toolchain versions installed:

    Module              Have    
    ------------------- --------
    CPAN                1.9800  
    CPAN::Meta          2.120921
    Cwd                 3.39_02 
    ExtUtils::CBuilder  0.280208
    ExtUtils::Command   1.17    
    ExtUtils::Install   1.58    
    ExtUtils::MakeMaker 6.63_02 
    ExtUtils::Manifest  1.61    
    ExtUtils::ParseXS   3.17    
    File::Spec          3.39_02 
    JSON                2.53    
    JSON::PP            2.27200 
    Module::Build       0.40    
    Module::Signature   0.68    
    Parse::CPAN::Meta   1.4404  
    Test::Harness       3.25    
    Test::More          0.98    
    YAML                0.81    
    YAML::Syck          n/a     
    version             0.99    


--

Summary of my perl5 (revision 5 version 17 subversion 0) configuration:
  Derived from: 3a8766b804a53dfbafdb7b8b747354bc6d5f46c5
  Platform:
    osname=linux, osvers=3.3.0-030300-generic, archname=x86_64-linux-debug@5b3700f2
    uname='linux zen 3.3.0-030300-generic #201203182135 smp mon mar 19 01:36:20 utc 2012 x86_64 x86_64 x86_64 gnulinux '
    config_args='-de -Dusedevel -Dinstallman1dir=none -Dinstallman3dir=none -Dinstallsiteman1dir=none -Dinstallsiteman3dir=none -Dmksymlinks -DEBUGGING -Doptimize=-g3 -Uuseithreads -Dccflags=''-DDEBIAN'' -Dpager=''/usr/bin/sensible-pager'''
    hint=recommended, useposix=true, d_sigaction=define
    useithreads=undef, usemultiplicity=undef
    useperlio=define, d_sfio=undef, uselargefiles=define, usesocks=undef
    use64bitint=define, use64bitall=define, uselongdouble=undef
    usemymalloc=n, bincompat5005=undef
  Compiler:
    cc='cc', ccflags ='-DDEBIAN -DDEBUGGING -fno-strict-aliasing -pipe -fstack-protector -I/usr/local/include -D_LARGEFILE_SOURCE -D_FILE_OFFSET_BITS=64',
    optimize='-g3',
    cppflags='-DDEBIAN -DDEBUGGING -fno-strict-aliasing -pipe -fstack-protector -I/usr/local/include'
    ccversion='', gccversion='4.6.1', gccosandvers=''
    intsize=4, longsize=8, ptrsize=8, doublesize=8, byteorder=12345678
    d_longlong=define, longlongsize=8, d_longdbl=define, longdblsize=16
    ivtype='long', ivsize=8, nvtype='double', nvsize=8, Off_t='off_t', lseeksize=8
    alignbytes=8, prototype=define
  Linker and Libraries:
    ld='cc', ldflags =' -fstack-protector -L/usr/local/lib'
    libpth=/usr/local/lib /lib/x86_64-linux-gnu /lib/../lib /usr/lib/x86_64-linux-gnu /usr/lib/../lib /lib /usr/lib
    libs=-lnsl -lgdbm -ldb -ldl -lm -lcrypt -lutil -lc -lgdbm_compat
    perllibs=-lnsl -ldl -lm -lcrypt -lutil -lc
    libc=, so=so, useshrplib=false, libperl=libperl.a
    gnulibc_version='2.13'
  Dynamic Linking:
    dlsrc=dl_dlopen.xs, dlext=so, d_dlsymun=undef, ccdlflags='-Wl,-E'
    cccdlflags='-fPIC', lddlflags='-shared -g3 -L/usr/local/lib -fstack-protector'


Characteristics of this binary (from libperl): 
  Compile-time options: DEBUGGING HAS_TIMES PERLIO_LAYERS
                        PERL_DONT_CREATE_GVSV PERL_MALLOC_WRAP
                        PERL_PRESERVE_IVUV PERL_USE_DEVEL USE_64_BIT_ALL
                        USE_64_BIT_INT USE_LARGE_FILES USE_LOCALE
                        USE_LOCALE_COLLATE USE_LOCALE_CTYPE
                        USE_LOCALE_NUMERIC USE_PERLIO USE_PERL_ATOF
  Locally applied patches:
	[cpan #72700] List::Util heap-overflow
	uncommitted-changes
  Built under linux
  Compiled at Jun  5 2012 20:01:28
  %ENV:
    PERL5LIB=""
    PERL5OPT=""
    PERL5_CPANPLUS_IS_RUNNING="21237"
    PERL5_CPAN_IS_RUNNING="21237"
  @INC:
    /usr/local/lib/perl5/site_perl/5.17.0/x86_64-linux-debug@5b3700f2
    /usr/local/lib/perl5/site_perl/5.17.0
    /usr/local/lib/perl5/5.17.0/x86_64-linux-debug@5b3700f2
    /usr/local/lib/perl5/5.17.0
    /usr/local/lib/perl5/site_perl
    .