Git-Repository-Plugin-Blame vv1.4.0 Perl 5 v5.14.2 x86_64-linux-thread-multi

Status
Pass
From
Nigel Horne
Dist
Git-Repository-Plugin-Blame vv1.4.0
Platform
Perl 5 v5.14.2 x86_64-linux-thread-multi
Date
2018-01-29 19:39:50
ID
2ba7aa1c-052c-11e8-af2b-acaf1d79aee4
This distribution has been tested as part of the CPAN Testers
project, supporting the Perl programming language.  See
http://wiki.cpantesters.org/ for more information or email
questions to cpan-testers-discuss@perl.org


--
Dear Guillaume Aubert,

This is a computer-generated report for Git-Repository-Plugin-Blame-v1.4.0
on perl 5.14.2, created by CPAN-Reporter-1.2018.

Thank you for uploading your work to CPAN.  Congratulations!
All tests were successful.

Sections of this report:

    * Tester comments
    * Program output
    * Prerequisites
    * Environment and other context

------------------------------
TESTER COMMENTS
------------------------------

Additional comments from tester:

this report is from an automated smoke testing program
and was not reviewed by a human for accuracy

------------------------------
PROGRAM OUTPUT
------------------------------

Output from './Build test':

# Testing Git::Repository::Plugin::Blame::Cache 1.4.0, Perl 5.014002, /home/njh/perl5/perlbrew/perls/perl-5.14.2/bin/perl
t/05-Cache/00-load.t ............... ok
# Testing Git::Repository::Plugin::Blame 1.4.0, Perl 5.014002, /home/njh/perl5/perlbrew/perls/perl-5.14.2/bin/perl
t/00-load.t ........................ ok
t/05-Cache/15-get_repository.t ..... ok
t/05-Cache/10-new.t ................ ok
t/05-Cache/20-set_blame_lines.t .... ok
t/05-Cache/25-get_blame_lines.t .... ok
# git version 2.15.1
t/10-blame-ignore_whitespace.t ..... ok
t/10-blame.t ....................... ok
# Testing Git::Repository::Plugin::Blame::Line 1.4.0, Perl 5.014002, /home/njh/perl5/perlbrew/perls/perl-5.14.2/bin/perl
t/Line/00-load.t ................... ok
t/Line/10-new.t .................... ok
t/Line/20-get_commit_attributes.t .. ok
t/Line/30-get_commit_id.t .......... ok
t/Line/40-get_line.t ............... ok
t/Line/50-get_line_number.t ........ ok
All tests successful.
Files=14, Tests=65,  1 wallclock secs ( 0.05 usr  0.03 sys +  1.03 cusr  0.34 csys =  1.45 CPU)
Result: PASS

------------------------------
PREREQUISITES
------------------------------

Prerequisite modules loaded:

requires:

    Module                       Need  Have    
    ---------------------------- ----- --------
    Carp                         0     1.38    
    Class::Load                  0.2   0.24    
    Data::Validate::Type         0     1.6.0   
    Git::Repository              1.2   1.321   
    Git::Repository::Plugin::Log 0     1.314   
    perl                         5.006 5.014002
    Perl6::Slurp                 0     0.051005

build_requires:

    Module                       Need  Have    
    ---------------------------- ----- --------
    Data::Dumper                 0     2.130_02
    Test::Deep                   0     1.127   
    Test::Exception              0     0.43    
    Test::FailWarnings           0     0.008   
    Test::Git                    0     1.321   
    Test::More                   0     1.302086
    Test::Requires::Git          1.005 1.008   
    Test::Type                   0     1.3.0   

configure_requires:

    Module                       Need  Have    
    ---------------------------- ----- --------
    Module::Build                0     0.4224  


------------------------------
ENVIRONMENT AND OTHER CONTEXT
------------------------------

Environment variables:

    AUTOMATED_TESTING = 1
    HARNESS_OPTIONS = j2
    LANG = en_US.UTF-8
    PATH = /home/njh/perl5/perlbrew/bin:/home/njh/perl5/perlbrew/perls/perl-5.14.2/bin:src/njh/smoker/bin:/usr/bin:/bin
    PERL5LIB = /home/njh/.cpan/build/Test-Type-v1.3.0-1/blib/arch:/home/njh/.cpan/build/Test-Type-v1.3.0-1/blib/lib:/home/njh/.cpan/build/Perl6-Slurp-0.051005-1/blib/arch:/home/njh/.cpan/build/Perl6-Slurp-0.051005-1/blib/lib:/home/njh/.cpan/build/Git-Repository-Plugin-Log-1.314-1/blib/arch:/home/njh/.cpan/build/Git-Repository-Plugin-Log-1.314-1/blib/lib:/home/njh/.cpan/build/Data-Validate-Type-v1.6.0-1/blib/arch:/home/njh/.cpan/build/Data-Validate-Type-v1.6.0-1/blib/lib:/home/njh/.cpan/build/Git-Repository-Plugin-AUTOLOAD-1.003-1/blib/arch:/home/njh/.cpan/build/Git-Repository-Plugin-AUTOLOAD-1.003-1/blib/lib:/home/njh/.cpan/build/Git-Repository-1.321-1/blib/arch:/home/njh/.cpan/build/Git-Repository-1.321-1/blib/lib:/home/njh/.cpan/build/Test-Requires-Git-1.008-1/blib/arch:/home/njh/.cpan/build/Test-Requires-Git-1.008-1/blib/lib:/home/njh/.cpan/build/System-Command-1.118-1/blib/arch:/home/njh/.cpan/build/System-Command-1.118-1/blib/lib:/home/njh/.cpan/build/IPC-Run-0.96-3/blib/arch:/home/njh/.cpan/build/IPC-Run-0.96-3/blib/lib:/home/njh/.cpan/build/Git-Version-Compare-1.004-1/blib/arch:/home/njh/.cpan/build/Git-Version-Compare-1.004-1/blib/lib
    PERL5OPT = 
    PERL5_CPANPLUS_IS_RUNNING = 15636
    PERL5_CPAN_IS_RUNNING = 15636
    PERLBREW_BASHRC_VERSION = 0.75
    PERLBREW_HOME = /home/njh/.perlbrew
    PERLBREW_MANPATH = /home/njh/perl5/perlbrew/perls/perl-5.14.2/man
    PERLBREW_PATH = /home/njh/perl5/perlbrew/bin:/home/njh/perl5/perlbrew/perls/perl-5.14.2/bin
    PERLBREW_PERL = perl-5.14.2
    PERLBREW_ROOT = /home/njh/perl5/perlbrew
    PERLBREW_VERSION = 0.75
    SHELL = /bin/sh

Perl special variables (and OS-specific diagnostics, for MSWin32):

    $^X = /home/njh/perl5/perlbrew/perls/perl-5.14.2/bin/perl
    $UID/$EUID = 1000 / 1000
    $GID = 1000 4 24 25 29 30 44 46 103 108 115 123 1000
    $EGID = 1000 4 24 25 29 30 44 46 103 108 115 123 1000

Perl module toolchain versions installed:

    Module              Have    
    ------------------- --------
    CPAN                2.16    
    CPAN::Meta          2.143240
    Cwd                 3.36    
    ExtUtils::CBuilder  0.280203
    ExtUtils::Command   7.30    
    ExtUtils::Install   2.06    
    ExtUtils::MakeMaker 7.30    
    ExtUtils::Manifest  1.70    
    ExtUtils::ParseXS   3.35    
    File::Spec          3.33    
    JSON                2.94    
    JSON::PP            2.94    
    Module::Build       0.4224  
    Module::Signature   n/a     
    Parse::CPAN::Meta   1.4414  
    Test::Harness       3.39    
    Test::More          1.302086
    YAML                1.23    
    YAML::Syck          1.30    
    version             0.88    


--

Summary of my perl5 (revision 5 version 14 subversion 2) configuration:
   
  Platform:
    osname=linux, osvers=4.9.0-3-amd64, archname=x86_64-linux-thread-multi
    uname='linux amelia 4.9.0-3-amd64 #1 smp debian 4.9.25-1 (2017-05-02) x86_64 gnulinux '
    config_args='-de -Dprefix=/home/njh/perl5/perlbrew/perls/perl-5.14.2 -Duseithreads -Dusemultiplicity -Dusedevel -Accflags=-O2 -W -Wformat=2 -Wswitch -Wshadow -Wwrite-strings -Wuninitialized -Wall -pipe -fomit-frame-pointer -pedantic -D_FORTIFY_SOURCE=2 -Wpointer-arith -Wstrict-prototypes -fstack-protector -Wstack-protector -Wextra -Wbad-function-cast -Wcast-align -Wcast-qual -Wdisabled-optimization -Wendif-labels -Wfloat-equal -Wformat-nonliteral -Winline -Wmissing-declarations -Wmissing-prototypes -Wnested-externs -Wpointer-arith -Wundef -Wformat-security -ftree-vectorize -msse -mfpmath=sse -msse2 -mssse3 -msse4.1 -fdiagnostics-color=auto -mtune=native -march=native -Acc=gcc-7 -Aeval:scriptdir=/home/njh/perl5/perlbrew/perls/perl-5.14.2/bin'
    hint=recommended, useposix=true, d_sigaction=define
    useithreads=define, usemultiplicity=define
    useperlio=define, d_sfio=undef, uselargefiles=define, usesocks=undef
    use64bitint=define, use64bitall=define, uselongdouble=undef
    usemymalloc=n, bincompat5005=undef
  Compiler:
    cc=' gcc-7', ccflags ='-D_REENTRANT -D_GNU_SOURCE -O2 -W -Wformat=2 -Wswitch -Wshadow -Wwrite-strings -Wuninitialized -Wall -pipe -fomit-frame-pointer -pedantic -D_FORTIFY_SOURCE=2 -Wpointer-arith -Wstrict-prototypes -fstack-protector -Wstack-protector -Wextra -Wbad-function-cast -Wcast-align -Wcast-qual -Wdisabled-optimization -Wendif-labels -Wfloat-equal -Wformat-nonliteral -Winline -Wmissing-declarations -Wmissing-prototypes -Wnested-externs -Wpointer-arith -Wundef -Wformat-security -ftree-vectorize -msse -mfpmath=sse -msse2 -mssse3 -msse4.1 -fdiagnostics-color=auto -mtune=native -march=native -fno-strict-aliasing -I/usr/local/include -D_LARGEFILE_SOURCE -D_FILE_OFFSET_BITS=64',
    optimize='-O2',
    cppflags='-D_REENTRANT -D_GNU_SOURCE -O2 -W -Wformat=2 -Wswitch -Wshadow -Wwrite-strings -Wuninitialized -Wall -pipe -fomit-frame-pointer -pedantic -D_FORTIFY_SOURCE=2 -Wpointer-arith -Wstrict-prototypes -fstack-protector -Wstack-protector -Wextra -Wbad-function-cast -Wcast-align -Wcast-qual -Wdisabled-optimization -Wendif-labels -Wfloat-equal -Wformat-nonliteral -Winline -Wmissing-declarations -Wmissing-prototypes -Wnested-externs -Wpointer-arith -Wundef -Wformat-security -ftree-vectorize -msse -mfpmath=sse -msse2 -mssse3 -msse4.1 -fdiagnostics-color=auto -mtune=native -march=native -fno-strict-aliasing -I/usr/local/include'
    ccversion='', gccversion='7.1.0', gccosandvers=''
    intsize=4, longsize=8, ptrsize=8, doublesize=8, byteorder=12345678
    d_longlong=define, longlongsize=8, d_longdbl=define, longdblsize=16
    ivtype='long', ivsize=8, nvtype='double', nvsize=8, Off_t='off_t', lseeksize=8
    alignbytes=8, prototype=define
  Linker and Libraries:
    ld=' gcc-7', ldflags =' -fstack-protector -L/usr/local/lib'
    libpth=/usr/local/lib /lib/x86_64-linux-gnu /lib/../lib /usr/lib/x86_64-linux-gnu /usr/lib/../lib /lib /usr/lib /lib64 /usr/lib64
    libs=-lnsl -lgdbm -ldb -ldl -lm -lcrypt -lutil -lpthread -lc -lgdbm_compat
    perllibs=-lnsl -ldl -lm -lcrypt -lutil -lpthread -lc
    libc=libc-2.24.so, so=so, useshrplib=false, libperl=libperl.a
    gnulibc_version='2.24'
  Dynamic Linking:
    dlsrc=dl_dlopen.xs, dlext=so, d_dlsymun=undef, ccdlflags='-Wl,-E'
    cccdlflags='-fPIC', lddlflags='-shared -O2 -L/usr/local/lib -fstack-protector'


Characteristics of this binary (from libperl): 
  Compile-time options: MULTIPLICITY PERL_DONT_CREATE_GVSV
                        PERL_IMPLICIT_CONTEXT PERL_MALLOC_WRAP
                        PERL_PRESERVE_IVUV PERL_USE_DEVEL USE_64_BIT_ALL
                        USE_64_BIT_INT USE_ITHREADS USE_LARGE_FILES
                        USE_PERLIO USE_PERL_ATOF USE_REENTRANT_API
  Built under linux
  Compiled at Jul 24 2017 09:29:03
  %ENV:
    PERL5LIB="/home/njh/.cpan/build/Test-Type-v1.3.0-1/blib/arch:/home/njh/.cpan/build/Test-Type-v1.3.0-1/blib/lib:/home/njh/.cpan/build/Perl6-Slurp-0.051005-1/blib/arch:/home/njh/.cpan/build/Perl6-Slurp-0.051005-1/blib/lib:/home/njh/.cpan/build/Git-Repository-Plugin-Log-1.314-1/blib/arch:/home/njh/.cpan/build/Git-Repository-Plugin-Log-1.314-1/blib/lib:/home/njh/.cpan/build/Data-Validate-Type-v1.6.0-1/blib/arch:/home/njh/.cpan/build/Data-Validate-Type-v1.6.0-1/blib/lib:/home/njh/.cpan/build/Git-Repository-Plugin-AUTOLOAD-1.003-1/blib/arch:/home/njh/.cpan/build/Git-Repository-Plugin-AUTOLOAD-1.003-1/blib/lib:/home/njh/.cpan/build/Git-Repository-1.321-1/blib/arch:/home/njh/.cpan/build/Git-Repository-1.321-1/blib/lib:/home/njh/.cpan/build/Test-Requires-Git-1.008-1/blib/arch:/home/njh/.cpan/build/Test-Requires-Git-1.008-1/blib/lib:/home/njh/.cpan/build/System-Command-1.118-1/blib/arch:/home/njh/.cpan/build/System-Command-1.118-1/blib/lib:/home/njh/.cpan/build/IPC-Run-0.96-3/blib/arch:/home/njh/.cpan/build/IPC-Run-0.96-3/blib/lib:/home/njh/.cpan/build/Git-Version-Compare-1.004-1/blib/arch:/home/njh/.cpan/build/Git-Version-Compare-1.004-1/blib/lib"
    PERL5OPT=""
    PERL5_CPANPLUS_IS_RUNNING="15636"
    PERL5_CPAN_IS_RUNNING="15636"
    PERLBREW_BASHRC_VERSION="0.75"
    PERLBREW_HOME="/home/njh/.perlbrew"
    PERLBREW_MANPATH="/home/njh/perl5/perlbrew/perls/perl-5.14.2/man"
    PERLBREW_PATH="/home/njh/perl5/perlbrew/bin:/home/njh/perl5/perlbrew/perls/perl-5.14.2/bin"
    PERLBREW_PERL="perl-5.14.2"
    PERLBREW_ROOT="/home/njh/perl5/perlbrew"
    PERLBREW_VERSION="0.75"
  @INC:
    /home/njh/.cpan/build/Test-Type-v1.3.0-1/blib/arch
    /home/njh/.cpan/build/Test-Type-v1.3.0-1/blib/lib
    /home/njh/.cpan/build/Perl6-Slurp-0.051005-1/blib/arch
    /home/njh/.cpan/build/Perl6-Slurp-0.051005-1/blib/lib
    /home/njh/.cpan/build/Git-Repository-Plugin-Log-1.314-1/blib/arch
    /home/njh/.cpan/build/Git-Repository-Plugin-Log-1.314-1/blib/lib
    /home/njh/.cpan/build/Data-Validate-Type-v1.6.0-1/blib/arch
    /home/njh/.cpan/build/Data-Validate-Type-v1.6.0-1/blib/lib
    /home/njh/.cpan/build/Git-Repository-Plugin-AUTOLOAD-1.003-1/blib/arch
    /home/njh/.cpan/build/Git-Repository-Plugin-AUTOLOAD-1.003-1/blib/lib
    /home/njh/.cpan/build/Git-Repository-1.321-1/blib/arch
    /home/njh/.cpan/build/Git-Repository-1.321-1/blib/lib
    /home/njh/.cpan/build/Test-Requires-Git-1.008-1/blib/arch
    /home/njh/.cpan/build/Test-Requires-Git-1.008-1/blib/lib
    /home/njh/.cpan/build/System-Command-1.118-1/blib/arch
    /home/njh/.cpan/build/System-Command-1.118-1/blib/lib
    /home/njh/.cpan/build/IPC-Run-0.96-3/blib/arch
    /home/njh/.cpan/build/IPC-Run-0.96-3/blib/lib
    /home/njh/.cpan/build/Git-Version-Compare-1.004-1/blib/arch
    /home/njh/.cpan/build/Git-Version-Compare-1.004-1/blib/lib
    /home/njh/perl5/perlbrew/perls/perl-5.14.2/lib/site_perl/5.14.2/x86_64-linux-thread-multi
    /home/njh/perl5/perlbrew/perls/perl-5.14.2/lib/site_perl/5.14.2
    /home/njh/perl5/perlbrew/perls/perl-5.14.2/lib/5.14.2/x86_64-linux-thread-multi
    /home/njh/perl5/perlbrew/perls/perl-5.14.2/lib/5.14.2
    .