Report for Data-Rx-Tools-ShareDirValidator-0.1.3

Back
From: metabase:user:320bfe00-2aae-11df-837a-5e0a49663a4f
Subject: PASS Data-Rx-Tools-ShareDirValidator-0.1.3 v5.23.5 GNU/Linux
Date: 2015-11-12T02:07:48Z

This distribution has been tested as part of the CPAN Testers
project, supporting the Perl programming language.  See
http://wiki.cpantesters.org/ for more information or email
questions to cpan-testers-discuss@perl.org


--
Dear Kent Fredric,

This is a computer-generated report for Data-Rx-Tools-ShareDirValidator-0.1.3
on perl 5.23.5, created by CPAN-Reporter-1.2015.

Thank you for uploading your work to CPAN.  Congratulations!
All tests were successful.

Sections of this report:

    * Tester comments
    * Program output
    * Prerequisites
    * Environment and other context

------------------------------
TESTER COMMENTS
------------------------------

Additional comments from tester:

this report is from an automated smoke testing program
and was not reviewed by a human for accuracy

------------------------------
PROGRAM OUTPUT
------------------------------

Output from './Build test':

t/00-compile.t ................ ok
# 
# 
# Generated by Dist::Zilla::Plugin::ReportVersions::Tiny v1.08
# perl: 5.023005 (wanted v5.10.0) on linux from /tmp/basesmoker-reloperl-hTKI/bin/perl
# 
# Carp                                          => 1.38       (want any version)
# Data::Rx                                      => 0.200007   (want any version)
# Dist::Zilla::PluginBundle::Author::KENTNL     => 2.025003   (want v1.7.2) 
# Dist::Zilla::PluginBundle::Author::KENTNL::Lite => module not found. (want v1.3.0) 
# File::Find                                    => 1.31       (want any version)
# File::ShareDir                                => 1.102      (want any version)
# File::Temp                                    => 0.2304     (want any version)
# FindBin                                       => 1.51       (want any version)
# JSON                                          => 2.90       (want any version)
# Module::Build                                 => 0.4214     (want 0.4004) 
# Path::Tiny                                    => 0.072      (want any version)
# Pod::Coverage::TrustPod                       => 0.100003   (want any version)
# Scalar::Util                                  => 1.4201     (want any version)
# Test::CPAN::Meta                              => 0.25       (want any version)
# Test::Fatal                                   => 0.014      (want any version)
# Test::File::ShareDir                          => 1.001001   (want any version)
# Test::More                                    => 1.001014   (want 0.98)   
# Test::Pod                                     => 1.51       (want 1.41)   
# Test::Pod::Coverage                           => 1.10       (want 1.08)   
# parent                                        => 0.234      (want any version)
# strict                                        => 1.09       (want any version)
# version                                       => 0.9909     (want 0.9901) 
# warnings                                      => 1.35       (want any version)
# 
# Thanks for using my code.  I hope it works for you.
# If not, please try and include this output in the bug report.
# That will help me reproduce the issue and solve your problem.
# 
t/000-report-versions-tiny.t .. ok
t/01_load.t ................... ok
t/02_blessed.t ................ ok
t/03_non_blessed_ref.t ........ ok
All tests successful.
Files=5, Tests=10,  2 wallclock secs ( 0.03 usr  0.04 sys +  0.91 cusr  0.14 csys =  1.12 CPU)
Result: PASS

------------------------------
PREREQUISITES
------------------------------

Prerequisite modules loaded:

requires:

    Module               Need    Have    
    -------------------- ------- --------
    Carp                 0       1.38    
    Data::Rx             0       0.200007
    File::ShareDir       0       1.102   
    JSON                 0       2.90    
    Path::Tiny           0       0.072   
    perl                 v5.10.0 5.023005
    Scalar::Util         0       1.42_01 
    strict               0       1.09    
    warnings             0       1.35    

build_requires:

    Module               Need    Have    
    -------------------- ------- --------
    File::Find           0       1.31    
    File::Temp           0       0.2304  
    FindBin              0       1.51    
    Module::Build        0.4004  0.4214  
    parent               0       0.234   
    Test::Fatal          0       0.014   
    Test::File::ShareDir 0       1.001001
    Test::More           0.98    1.001014

configure_requires:

    Module               Need    Have    
    -------------------- ------- --------
    Module::Build        0.4004  0.4214  


------------------------------
ENVIRONMENT AND OTHER CONTEXT
------------------------------

Environment variables:

    AUTOMATED_TESTING = 1
    LANG = en_US.UTF-8
    LANGUAGE = en_US:en
    PATH = /home/sand/bin:/usr/local/bin:/usr/bin:/bin:/usr/games:/usr/local/perl/bin:/usr/X11/bin:/sbin:/usr/sbin
    PERL5LIB = 
    PERL5OPT = 
    PERL5_CPANPLUS_IS_RUNNING = 1189
    PERL5_CPAN_IS_RUNNING = 1189
    PERL_MM_USE_DEFAULT = 1
    SHELL = /usr/bin/zsh
    TERM = screen

Perl special variables (and OS-specific diagnostics, for MSWin32):

    $^X = /tmp/basesmoker-reloperl-hTKI/bin/perl
    $UID/$EUID = 1005 / 1005
    $GID = 1005 1005
    $EGID = 1005 1005

Perl module toolchain versions installed:

    Module              Have    
    ------------------- --------
    CPAN                2.10    
    CPAN::Meta          2.150005
    Cwd                 3.58    
    ExtUtils::CBuilder  0.280224
    ExtUtils::Command   7.10    
    ExtUtils::Install   2.04    
    ExtUtils::MakeMaker 7.10    
    ExtUtils::Manifest  1.70    
    ExtUtils::ParseXS   3.30    
    File::Spec          3.58    
    JSON                2.90    
    JSON::PP            2.27300 
    Module::Build       0.4214  
    Module::Signature   0.79    
    Parse::CPAN::Meta   1.4417  
    Test::Harness       3.35    
    Test::More          1.001014
    YAML                1.15    
    YAML::Syck          1.29    
    version             0.9909  


--

Summary of my perl5 (revision 5 version 23 subversion 5) configuration:
  Commit id: 067cec4c785ab7f64d2974ec6622bb9f4fa53eac
  Platform:
    osname=linux, osvers=4.2.0-1-amd64, archname=x86_64-linux-ld
    uname='linux k83 4.2.0-1-amd64 #1 smp debian 4.2.5-1 (2015-10-27) x86_64 gnulinux '
    config_args='-Dprefix=/home/sand/src/perl/repoperls/installed-perls/perl/v5.23.4-101-g067cec4/127e -Dmyhostname=k83 -Dinstallusrbinperl=n -Uversiononly -Dusedevel -des -Ui_db -Uuseithreads -Duselongdouble -DDEBUGGING=-g'
    hint=recommended, useposix=true, d_sigaction=define
    useithreads=undef, usemultiplicity=undef
    use64bitint=define, use64bitall=define, uselongdouble=define
    usemymalloc=n, bincompat5005=undef
  Compiler:
    cc='cc', ccflags ='-fwrapv -fno-strict-aliasing -pipe -fstack-protector-strong -I/usr/local/include -D_LARGEFILE_SOURCE -D_FILE_OFFSET_BITS=64',
    optimize='-O2 -g',
    cppflags='-fwrapv -fno-strict-aliasing -pipe -fstack-protector-strong -I/usr/local/include'
    ccversion='', gccversion='5.2.1 20151028', gccosandvers=''
    intsize=4, longsize=8, ptrsize=8, doublesize=8, byteorder=12345678, doublekind=3
    d_longlong=define, longlongsize=8, d_longdbl=define, longdblsize=16, longdblkind=3
    ivtype='long', ivsize=8, nvtype='long double', nvsize=16, Off_t='off_t', lseeksize=8
    alignbytes=16, prototype=define
  Linker and Libraries:
    ld='cc', ldflags =' -fstack-protector-strong -L/usr/local/lib'
    libpth=/usr/local/lib /usr/lib/gcc/x86_64-linux-gnu/5/include-fixed /usr/include/x86_64-linux-gnu /usr/lib /lib/x86_64-linux-gnu /lib/../lib /usr/lib/x86_64-linux-gnu /usr/lib/../lib /lib
    libs=-lpthread -lnsl -lgdbm -ldb -ldl -lm -lcrypt -lutil -lc -lgdbm_compat
    perllibs=-lpthread -lnsl -ldl -lm -lcrypt -lutil -lc
    libc=libc-2.19.so, so=so, useshrplib=false, libperl=libperl.a
    gnulibc_version='2.19'
  Dynamic Linking:
    dlsrc=dl_dlopen.xs, dlext=so, d_dlsymun=undef, ccdlflags='-Wl,-E'
    cccdlflags='-fPIC', lddlflags='-shared -O2 -g -L/usr/local/lib -fstack-protector-strong'


Characteristics of this binary (from libperl): 
  Compile-time options: HAS_TIMES PERLIO_LAYERS PERL_COPY_ON_WRITE
                        PERL_DONT_CREATE_GVSV
                        PERL_HASH_FUNC_ONE_AT_A_TIME_HARD PERL_MALLOC_WRAP
                        PERL_PRESERVE_IVUV PERL_USE_DEVEL USE_64_BIT_ALL
                        USE_64_BIT_INT USE_LARGE_FILES USE_LOCALE
                        USE_LOCALE_COLLATE USE_LOCALE_CTYPE
                        USE_LOCALE_NUMERIC USE_LOCALE_TIME USE_LONG_DOUBLE
                        USE_PERLIO USE_PERL_ATOF
  Built under linux
  Compiled at Nov 10 2015 15:47:39
  %ENV:
    PERL5LIB=""
    PERL5OPT=""
    PERL5_CPANPLUS_IS_RUNNING="1189"
    PERL5_CPAN_IS_RUNNING="1189"
    PERL_MM_USE_DEFAULT="1"
  @INC:
    /home/sand/src/perl/repoperls/installed-perls/perl/v5.23.4-101-g067cec4/127e/lib/site_perl/5.23.5/x86_64-linux-ld
    /home/sand/src/perl/repoperls/installed-perls/perl/v5.23.4-101-g067cec4/127e/lib/site_perl/5.23.5
    /home/sand/src/perl/repoperls/installed-perls/perl/v5.23.4-101-g067cec4/127e/lib/5.23.5/x86_64-linux-ld
    /home/sand/src/perl/repoperls/installed-perls/perl/v5.23.4-101-g067cec4/127e/lib/5.23.5
    .