Git-Repository-Plugin-AUTOLOAD v1.003 Perl 5 v5.26.1 armv7l-linux

Status
Pass
From
Nigel Horne
Dist
Git-Repository-Plugin-AUTOLOAD v1.003
Platform
Perl 5 v5.26.1 armv7l-linux
Date
2018-01-29 19:39:50
ID
2bc17e2e-052c-11e8-af2b-acaf1d79aee4
This distribution has been tested as part of the CPAN Testers
project, supporting the Perl programming language.  See
http://wiki.cpantesters.org/ for more information or email
questions to cpan-testers-discuss@perl.org


--
Dear Philippe Bruhat (BooK),

This is a computer-generated report for Git-Repository-Plugin-AUTOLOAD-1.003
on perl 5.26.1, created by CPAN-Reporter-1.2018.

Thank you for uploading your work to CPAN.  Congratulations!
All tests were successful.

Sections of this report:

    * Tester comments
    * Program output
    * Prerequisites
    * Environment and other context

------------------------------
TESTER COMMENTS
------------------------------

Additional comments from tester:

this report is from an automated smoke testing program
and was not reviewed by a human for accuracy

------------------------------
PROGRAM OUTPUT
------------------------------

Output from '/usr/bin/make test':

PERL_DL_NONLAZY=1 "/home/njh/perl5/perlbrew/perls/perl-5.26.1/bin/perl5.26.1" "-MExtUtils::Command::MM" "-MTest::Harness" "-e" "undef *Test::Harness::Switches; test_harness(0, 'blib/lib', 'blib/arch')" t/*.t
t/author-pod-coverage.t .. skipped: these tests are for testing by the author
t/author-pod-syntax.t .... skipped: these tests are for testing by the author
t/00-compile.t ........... ok
t/release-distmeta.t ..... skipped: these tests are for release candidate testing
# git version 2.11.0
# 
# Versions for all modules listed in MYMETA.json (including optional ones):
# 
# === Configure Requires ===
# 
#     Module              Want Have
#     ------------------- ---- ----
#     ExtUtils::MakeMaker  any 7.30
# 
# === Build Requires ===
# 
#     Module              Want Have
#     ------------------- ---- ----
#     ExtUtils::MakeMaker  any 7.30
# 
# === Test Requires ===
# 
#     Module                 Want     Have
#     --------------------- ----- --------
#     ExtUtils::MakeMaker     any     7.30
#     File::Spec              any     3.67
#     File::Spec::Functions   any     3.67
#     File::Temp              any   0.2304
#     Git::Repository       1.309    1.321
#     IO::Handle              any     1.36
#     IPC::Open3              any     1.20
#     Test::Git               any    1.321
#     Test::More              any 1.302073
#     Test::Requires::Git   1.005    1.008
#     blib                   1.01     1.06
# 
# === Test Recommends ===
# 
#     Module         Want     Have
#     ---------- -------- --------
#     CPAN::Meta 2.120900 2.150010
# 
# === Runtime Requires ===
# 
#     Module                   Want  Have
#     ----------------------- ----- -----
#     Git::Repository         1.309 1.321
#     Git::Repository::Plugin   any 1.321
#     strict                    any  1.11
#     warnings                  any  1.37
# 
t/00-report-prereqs.t .... ok
Cloning into 'AtMFNB_d6q'...
done. at /home/njh/.cpan/build/Git-Repository-Plugin-AUTOLOAD-1.003-1/blib/lib/Git/Repository/Plugin/AUTOLOAD.pm line 22.
t/autoload.t ............. ok
All tests successful.
Files=6, Tests=11,  2 wallclock secs ( 0.23 usr  0.04 sys +  4.49 cusr  0.77 csys =  5.53 CPU)
Result: PASS

------------------------------
PREREQUISITES
------------------------------

Prerequisite modules loaded:

requires:

    Module                  Need  Have    
    ----------------------- ----- --------
    Git::Repository         1.309 1.321   
    Git::Repository::Plugin 0     1.321   
    perl                    5.006 5.026001
    strict                  0     1.11    
    warnings                0     1.37    

build_requires:

    Module                  Need  Have    
    ----------------------- ----- --------
    blib                    1.01  1.06    
    ExtUtils::MakeMaker     0     7.30    
    File::Spec              0     3.67    
    File::Spec::Functions   0     3.67    
    File::Temp              0     0.2304  
    Git::Repository         1.309 1.321   
    IO::Handle              0     1.36    
    IPC::Open3              0     1.20    
    Test::Git               0     1.321   
    Test::More              0     1.302073
    Test::Requires::Git     1.005 1.008   

configure_requires:

    Module                  Need  Have    
    ----------------------- ----- --------
    ExtUtils::MakeMaker     0     7.30    


------------------------------
ENVIRONMENT AND OTHER CONTEXT
------------------------------

Environment variables:

    AUTOMATED_TESTING = 1
    HARNESS_OPTIONS = j4
    LANG = en_GB.UTF-8
    PATH = /home/njh/perl5/perlbrew/bin:/home/njh/perl5/perlbrew/perls/perl-5.26.1/bin:src/njh/smoker/bin:/usr/bin:/bin
    PERL5LIB = /home/njh/.cpan/build/Git-Repository-1.321-1/blib/arch:/home/njh/.cpan/build/Git-Repository-1.321-1/blib/lib:/home/njh/.cpan/build/Test-Requires-Git-1.008-1/blib/arch:/home/njh/.cpan/build/Test-Requires-Git-1.008-1/blib/lib:/home/njh/.cpan/build/System-Command-1.118-1/blib/arch:/home/njh/.cpan/build/System-Command-1.118-1/blib/lib:/home/njh/.cpan/build/IPC-Run-0.96-1/blib/arch:/home/njh/.cpan/build/IPC-Run-0.96-1/blib/lib:/home/njh/.cpan/build/Git-Version-Compare-1.004-1/blib/arch:/home/njh/.cpan/build/Git-Version-Compare-1.004-1/blib/lib
    PERL5OPT = 
    PERL5_CPANPLUS_IS_RUNNING = 28567
    PERL5_CPAN_IS_RUNNING = 28567
    PERLBREW_BASHRC_VERSION = 0.80
    PERLBREW_HOME = /home/njh/.perlbrew
    PERLBREW_MANPATH = /home/njh/perl5/perlbrew/perls/perl-5.26.1/man
    PERLBREW_PATH = /home/njh/perl5/perlbrew/bin:/home/njh/perl5/perlbrew/perls/perl-5.26.1/bin
    PERLBREW_PERL = perl-5.26.1
    PERLBREW_ROOT = /home/njh/perl5/perlbrew
    PERLBREW_VERSION = 0.80
    PERL_USE_UNSAFE_INC = 1
    SHELL = /bin/sh

Perl special variables (and OS-specific diagnostics, for MSWin32):

    $^X = /home/njh/perl5/perlbrew/perls/perl-5.26.1/bin/perl5.26.1
    $UID/$EUID = 1000 / 1000
    $GID = 1000 4 20 24 25 27 29 30 44 46 60 100 101 108 997 998 999 1000
    $EGID = 1000 4 20 24 25 27 29 30 44 46 60 100 101 108 997 998 999 1000

Perl module toolchain versions installed:

    Module              Have      
    ------------------- ----------
    CPAN                2.18      
    CPAN::Meta          2.150010  
    Cwd                 3.67      
    ExtUtils::CBuilder  0.280225  
    ExtUtils::Command   7.30      
    ExtUtils::Install   2.06      
    ExtUtils::MakeMaker 7.30      
    ExtUtils::Manifest  1.70      
    ExtUtils::ParseXS   3.34      
    File::Spec          3.67      
    JSON                2.94      
    JSON::PP            2.27400_02
    Module::Build       0.4224    
    Module::Signature   n/a       
    Parse::CPAN::Meta   2.150010  
    Test::Harness       3.38      
    Test::More          1.302073  
    YAML                1.24      
    YAML::Syck          1.30      
    version             0.9917    


--

Summary of my perl5 (revision 5 version 26 subversion 1) configuration:
   
  Platform:
    osname=linux
    osvers=4.9.40-v7+
    archname=armv7l-linux
    uname='linux pi2 4.9.40-v7+ #1022 smp sun jul 30 11:16:10 bst 2017 armv7l gnulinux '
    config_args='-de -Dprefix=/home/njh/perl5/perlbrew/perls/perl-5.26.1 -Dusedevel -Accflags= -Aeval:scriptdir=/home/njh/perl5/perlbrew/perls/perl-5.26.1/bin'
    hint=recommended
    useposix=true
    d_sigaction=define
    useithreads=undef
    usemultiplicity=undef
    use64bitint=undef
    use64bitall=undef
    uselongdouble=undef
    usemymalloc=n
    default_inc_excludes_dot=define
    bincompat5005=undef
  Compiler:
    cc='cc'
    ccflags ='-fwrapv -fno-strict-aliasing -pipe -fstack-protector-strong -I/usr/local/include -D_LARGEFILE_SOURCE -D_FILE_OFFSET_BITS=64 -D_FORTIFY_SOURCE=2'
    optimize='-O2'
    cppflags='-fwrapv -fno-strict-aliasing -pipe -fstack-protector-strong -I/usr/local/include'
    ccversion=''
    gccversion='6.3.0 20170516'
    gccosandvers=''
    intsize=4
    longsize=4
    ptrsize=4
    doublesize=8
    byteorder=1234
    doublekind=3
    d_longlong=define
    longlongsize=8
    d_longdbl=define
    longdblsize=8
    longdblkind=0
    ivtype='long'
    ivsize=4
    nvtype='double'
    nvsize=8
    Off_t='off_t'
    lseeksize=8
    alignbytes=8
    prototype=define
  Linker and Libraries:
    ld='cc'
    ldflags =' -fstack-protector-strong -L/usr/local/lib'
    libpth=/usr/local/lib /usr/lib/gcc/arm-linux-gnueabihf/6/include-fixed /usr/include/arm-linux-gnueabihf /usr/lib /lib/arm-linux-gnueabihf /lib /usr/lib/arm-linux-gnueabihf
    libs=-lpthread -lnsl -lgdbm -ldb -ldl -lm -lcrypt -lutil -lc -lgdbm_compat
    perllibs=-lpthread -lnsl -ldl -lm -lcrypt -lutil -lc
    libc=libc-2.24.so
    so=so
    useshrplib=false
    libperl=libperl.a
    gnulibc_version='2.24'
  Dynamic Linking:
    dlsrc=dl_dlopen.xs
    dlext=so
    d_dlsymun=undef
    ccdlflags='-Wl,-E'
    cccdlflags='-fPIC'
    lddlflags='-shared -O2 -L/usr/local/lib -fstack-protector-strong'


Characteristics of this binary (from libperl): 
  Compile-time options:
    HAS_TIMES
    PERLIO_LAYERS
    PERL_COPY_ON_WRITE
    PERL_DONT_CREATE_GVSV
    PERL_HASH_FUNC_ONE_AT_A_TIME_HARD
    PERL_MALLOC_WRAP
    PERL_OP_PARENT
    PERL_PRESERVE_IVUV
    PERL_USE_DEVEL
    USE_LARGE_FILES
    USE_LOCALE
    USE_LOCALE_COLLATE
    USE_LOCALE_CTYPE
    USE_LOCALE_NUMERIC
    USE_LOCALE_TIME
    USE_PERLIO
    USE_PERL_ATOF
  Built under linux
  Compiled at Oct  2 2017 00:41:52
  %ENV:
    PERL5LIB="/home/njh/.cpan/build/Git-Repository-1.321-1/blib/arch:/home/njh/.cpan/build/Git-Repository-1.321-1/blib/lib:/home/njh/.cpan/build/Test-Requires-Git-1.008-1/blib/arch:/home/njh/.cpan/build/Test-Requires-Git-1.008-1/blib/lib:/home/njh/.cpan/build/System-Command-1.118-1/blib/arch:/home/njh/.cpan/build/System-Command-1.118-1/blib/lib:/home/njh/.cpan/build/IPC-Run-0.96-1/blib/arch:/home/njh/.cpan/build/IPC-Run-0.96-1/blib/lib:/home/njh/.cpan/build/Git-Version-Compare-1.004-1/blib/arch:/home/njh/.cpan/build/Git-Version-Compare-1.004-1/blib/lib"
    PERL5OPT=""
    PERL5_CPANPLUS_IS_RUNNING="28567"
    PERL5_CPAN_IS_RUNNING="28567"
    PERLBREW_BASHRC_VERSION="0.80"
    PERLBREW_HOME="/home/njh/.perlbrew"
    PERLBREW_MANPATH="/home/njh/perl5/perlbrew/perls/perl-5.26.1/man"
    PERLBREW_PATH="/home/njh/perl5/perlbrew/bin:/home/njh/perl5/perlbrew/perls/perl-5.26.1/bin"
    PERLBREW_PERL="perl-5.26.1"
    PERLBREW_ROOT="/home/njh/perl5/perlbrew"
    PERLBREW_VERSION="0.80"
    PERL_USE_UNSAFE_INC="1"
  @INC:
    /home/njh/.cpan/build/Git-Repository-1.321-1/blib/arch
    /home/njh/.cpan/build/Git-Repository-1.321-1/blib/lib
    /home/njh/.cpan/build/Test-Requires-Git-1.008-1/blib/arch
    /home/njh/.cpan/build/Test-Requires-Git-1.008-1/blib/lib
    /home/njh/.cpan/build/System-Command-1.118-1/blib/arch
    /home/njh/.cpan/build/System-Command-1.118-1/blib/lib
    /home/njh/.cpan/build/IPC-Run-0.96-1/blib/arch
    /home/njh/.cpan/build/IPC-Run-0.96-1/blib/lib
    /home/njh/.cpan/build/Git-Version-Compare-1.004-1/blib/arch
    /home/njh/.cpan/build/Git-Version-Compare-1.004-1/blib/lib
    /home/njh/perl5/perlbrew/perls/perl-5.26.1/lib/site_perl/5.26.1/armv7l-linux
    /home/njh/perl5/perlbrew/perls/perl-5.26.1/lib/site_perl/5.26.1
    /home/njh/perl5/perlbrew/perls/perl-5.26.1/lib/5.26.1/armv7l-linux
    /home/njh/perl5/perlbrew/perls/perl-5.26.1/lib/5.26.1
    .