Archive-Tar-Wrapper v0.38 Perl 5 v5.24.2 amd64-freebsd

Status
Pass
From
Slaven Rezić (SREZIC)
Dist
Archive-Tar-Wrapper v0.38
Platform
Perl 5 v5.24.2 amd64-freebsd
Date
2020-09-13 22:12:11
ID
2bc701fc-f60e-11ea-903f-1a1a1f24ea8f
This distribution has been tested as part of the CPAN Testers
project, supporting the Perl programming language.  See
http://wiki.cpantesters.org/ for more information or email
questions to cpan-testers-discuss@perl.org


--
Dear Alceu Rodrigues de Freitas Junior,

This is a computer-generated report for Archive-Tar-Wrapper-0.38
on perl 5.24.2, created by CPAN-Reporter-1.2018.

Thank you for uploading your work to CPAN.  Congratulations!
All tests were successful.

Sections of this report:

    * Tester comments
    * Program output
    * Prerequisites
    * Environment and other context

------------------------------
TESTER COMMENTS
------------------------------

Additional comments from tester:

none provided

------------------------------
PROGRAM OUTPUT
------------------------------

Output from '/usr/bin/make test':

PERL_DL_NONLAZY=1 "/usr/perl5.24.2p/bin/perl5.24.2" "-MExtUtils::Command::MM" "-MTest::Harness" "-e" "undef *Test::Harness::Switches; test_harness(0, 'blib/lib', 'blib/arch')" t/*.t
t/001Basic.t ....... ok
t/002Mult.t ........ ok
t/003Dirs.t ........ ok
t/004Utf8.t ........ ok
t/005Cwd.t ......... ok
t/006DirPerms.t .... ok
t/007bzip.t ........ ok
t/009compressed.t .. ok
t/010openbsd.t ..... ok
t/011remdots.t ..... ok
t/012tarinfo.t ..... ok
All tests successful.
Files=11, Tests=83,  2 wallclock secs ( 0.00 usr  0.05 sys +  0.14 cusr  1.12 csys =  1.31 CPU)
Result: PASS

------------------------------
PREREQUISITES
------------------------------

Prerequisite modules loaded:

requires:

    Module              Need     Have      
    ------------------- -------- ----------
    CPAN::Meta          0        2.150010  
    Cwd                 0        3.75      
    File::Temp          0        0.2304    
    File::Which         0        1.21      
    IPC::Run            0        20200505.0
    Log::Log4perl       0        1.52      
    perl                5.008001 5.024002  

build_requires:

    Module              Need     Have      
    ------------------- -------- ----------
    ExtUtils::MakeMaker 0        7.10_02   
    Test::Simple        1.302073 1.302140  

configure_requires:

    Module              Need     Have      
    ------------------- -------- ----------
    ExtUtils::MakeMaker 0        7.10_02   
    File::Which         0        1.21      


------------------------------
ENVIRONMENT AND OTHER CONTEXT
------------------------------

Environment variables:

    LC_ALL = de_DE.ISO8859-1
    PATH = /usr/local/bin:/usr/bin:/bin:/usr/local/sbin:/usr/sbin:/sbin:/home/cpansand/bin/freebsd10.3:/home/cpansand/bin/sh:/home/cpansand/bin:/usr/games:/home/cpansand/devel:/home/eserte/src/srezic-misc/scripts
    PERL5LIB = /home/cpansand/.cpan/build/2020091400/IPC-Run-20200505.0-77JoUI/blib/arch:/home/cpansand/.cpan/build/2020091400/IPC-Run-20200505.0-77JoUI/blib/lib:/home/cpansand/.cpan/build/2020091400/Log-Log4perl-1.52-TWdR1e/blib/arch:/home/cpansand/.cpan/build/2020091400/Log-Log4perl-1.52-TWdR1e/blib/lib
    PERL5OPT = 
    PERL5_CPANPLUS_IS_RUNNING = 72369
    PERL5_CPAN_IS_RUNNING = 72369
    PERL5_CPAN_IS_RUNNING_IN_RECURSION = 72323,72369
    PERLDOC = -MPod::Perldoc::ToTextOverstrike
    PERL_BATCH = yes
    PERL_CANARY_STABILITY_NOPROMPT = 1
    PERL_CPAN_REPORTER_CONFIG = /var/tmp/cpansmoker-1023/2020091400/cpanreporter_000_config.ini
    PERL_EXTUTILS_AUTOINSTALL = --defaultdeps
    SHELL = /usr/local/bin/zsh
    TERM = screen
    TMPDIR = /var/tmp/cpansmoker-1023/2020091400

Perl special variables (and OS-specific diagnostics, for MSWin32):

    $^X = /usr/perl5.24.2p/bin/perl5.24.2
    $UID/$EUID = 1023 / 1023
    $GID = 1023 1023
    $EGID = 1023 1023

Perl module toolchain versions installed:

    Module              Have      
    ------------------- ----------
    CPAN                2.11_01   
    CPAN::Meta          2.150010  
    Cwd                 3.75      
    ExtUtils::CBuilder  0.280225  
    ExtUtils::Command   7.10_02   
    ExtUtils::Install   2.04      
    ExtUtils::MakeMaker 7.10_02   
    ExtUtils::Manifest  1.71      
    ExtUtils::ParseXS   3.31      
    File::Spec          3.75      
    JSON                2.94      
    JSON::PP            2.27300_01
    Module::Build       0.4224    
    Module::Signature   n/a       
    Parse::CPAN::Meta   2.150010  
    Test::Harness       3.36_01   
    Test::More          1.302140  
    YAML                1.23      
    YAML::Syck          1.30      
    version             0.9924    


--

Summary of my perl5 (revision 5 version 24 subversion 2) configuration:
   
  Platform:
    osname=freebsd, osvers=10.3-release-p11, archname=amd64-freebsd
    uname='freebsd cvrsnica-freebsd-101.herceg.de 10.3-release-p11 freebsd 10.3-release-p11 #0: mon oct 24 18:49:24 utc 2016 root@amd64-builder.daemonology.net:usrobjusrsrcsysgeneric amd64 '
    config_args='-ds -e -Dprefix=/usr/perl5.24.2p -Dcf_email=srezic@cpan.org -Doptimize=-O2 -pipe'
    hint=recommended, useposix=true, d_sigaction=define
    useithreads=undef, usemultiplicity=undef
    use64bitint=define, use64bitall=define, uselongdouble=undef
    usemymalloc=n, bincompat5005=undef
  Compiler:
    cc='cc', ccflags ='-DHAS_FPSETMASK -DHAS_FLOATINGPOINT_H -fno-strict-aliasing -pipe -fstack-protector -I/usr/local/include -D_FORTIFY_SOURCE=2',
    optimize='-O2 -pipe',
    cppflags='-DHAS_FPSETMASK -DHAS_FLOATINGPOINT_H -fno-strict-aliasing -pipe -fstack-protector -I/usr/local/include'
    ccversion='', gccversion='4.2.1 Compatible FreeBSD Clang 3.4.1 (tags/RELEASE_34/dot1-final 208032)', gccosandvers=''
    intsize=4, longsize=8, ptrsize=8, doublesize=8, byteorder=12345678, doublekind=3
    d_longlong=define, longlongsize=8, d_longdbl=define, longdblsize=16, longdblkind=3
    ivtype='long', ivsize=8, nvtype='double', nvsize=8, Off_t='off_t', lseeksize=8
    alignbytes=8, prototype=define
  Linker and Libraries:
    ld='cc', ldflags ='-pthread -Wl,-E  -fstack-protector -L/usr/local/lib'
    libpth=/usr/lib /usr/local/lib /usr/include/clang/3.4.1 /usr/lib
    libs=-lpthread -lgdbm -lm -lcrypt -lutil -lc
    perllibs=-lpthread -lm -lcrypt -lutil -lc
    libc=, so=so, useshrplib=false, libperl=libperl.a
    gnulibc_version=''
  Dynamic Linking:
    dlsrc=dl_dlopen.xs, dlext=so, d_dlsymun=undef, ccdlflags=' '
    cccdlflags='-DPIC -fPIC', lddlflags='-shared  -L/usr/local/lib -fstack-protector'


Characteristics of this binary (from libperl): 
  Compile-time options: HAS_TIMES PERLIO_LAYERS PERL_COPY_ON_WRITE
                        PERL_DONT_CREATE_GVSV
                        PERL_HASH_FUNC_ONE_AT_A_TIME_HARD PERL_MALLOC_WRAP
                        PERL_PRESERVE_IVUV USE_64_BIT_ALL USE_64_BIT_INT
                        USE_LARGE_FILES USE_LOCALE USE_LOCALE_COLLATE
                        USE_LOCALE_CTYPE USE_LOCALE_NUMERIC USE_LOCALE_TIME
                        USE_PERLIO USE_PERL_ATOF
  Built under freebsd
  Compiled at Jul 29 2017 11:20:18
  %ENV:
    PERL5LIB="/home/cpansand/.cpan/build/2020091400/IPC-Run-20200505.0-77JoUI/blib/arch:/home/cpansand/.cpan/build/2020091400/IPC-Run-20200505.0-77JoUI/blib/lib:/home/cpansand/.cpan/build/2020091400/Log-Log4perl-1.52-TWdR1e/blib/arch:/home/cpansand/.cpan/build/2020091400/Log-Log4perl-1.52-TWdR1e/blib/lib"
    PERL5OPT=""
    PERL5_CPANPLUS_IS_RUNNING="72369"
    PERL5_CPAN_IS_RUNNING="72369"
    PERL5_CPAN_IS_RUNNING_IN_RECURSION="72323,72369"
    PERLDOC="-MPod::Perldoc::ToTextOverstrike"
    PERL_BATCH="yes"
    PERL_CANARY_STABILITY_NOPROMPT="1"
    PERL_CPAN_REPORTER_CONFIG="/var/tmp/cpansmoker-1023/2020091400/cpanreporter_000_config.ini"
    PERL_EXTUTILS_AUTOINSTALL="--defaultdeps"
  @INC:
    /home/cpansand/.cpan/build/2020091400/IPC-Run-20200505.0-77JoUI/blib/arch
    /home/cpansand/.cpan/build/2020091400/IPC-Run-20200505.0-77JoUI/blib/lib
    /home/cpansand/.cpan/build/2020091400/Log-Log4perl-1.52-TWdR1e/blib/arch
    /home/cpansand/.cpan/build/2020091400/Log-Log4perl-1.52-TWdR1e/blib/lib
    /usr/perl5.24.2p/lib/site_perl/5.24.2/amd64-freebsd
    /usr/perl5.24.2p/lib/site_perl/5.24.2
    /usr/perl5.24.2p/lib/5.24.2/amd64-freebsd
    /usr/perl5.24.2p/lib/5.24.2
    .