Report for Dist-Zilla-Plugin-Chrome-ExtraPrompt-0.014

Back
From: metabase:user:fb19509c-17e3-11e3-a14d-fdb79081a995
Subject: PASS Dist-Zilla-Plugin-Chrome-ExtraPrompt-0.014 v5.14.4 Mac OS X
Date: 2015-04-12T23:46:42Z

This distribution has been tested as part of the CPAN Testers
project, supporting the Perl programming language.  See
http://wiki.cpantesters.org/ for more information or email
questions to cpan-testers-discuss@perl.org


--
Dear ETHER,

This is a computer-generated report for Dist-Zilla-Plugin-Chrome-ExtraPrompt-0.014
on perl 5.14.4, created by App::cpanminus::reporter 0.12 (1.7027).

Thank you for uploading your work to CPAN.  Congratulations!
All tests were successful.

Sections of this report:

    * Tester comments
    * Program output
    * Prerequisites
    * Environment and other context

------------------------------
TESTER COMMENTS
------------------------------

Additional comments from tester:

none provided

------------------------------
PROGRAM OUTPUT
------------------------------

Output from '':

Building and testing Dist-Zilla-Plugin-Chrome-ExtraPrompt-0.014

# Versions for all modules listed in MYMETA.json (including optional ones):
# 
# === Configure Requires ===
# 
#     Module               Want  Have
#     ------------------- ----- -----
#     Module::Build::Tiny 0.039 0.039
# 
# === Test Requires ===
# 
#     Module                                     Want         Have
#     ----------------------------------------- ----- ------------
#     Dist::Zilla::Chrome::Test                   any        5.034
#     Dist::Zilla::MVP::Assembler::GlobalConfig   any        5.034
#     Dist::Zilla::MVP::Reader::Finder            any        5.034
#     Dist::Zilla::MVP::Section                   any        5.034
#     Dist::Zilla::Role::BeforeBuild              any        5.034
#     ExtUtils::MakeMaker                         any      7.05_19
#     File::Spec                                  any         3.47
#     Path::Tiny                                  any        0.068
#     Test::DZil                                  any        5.034
#     Test::Deep                                  any        0.115
#     Test::Fatal                                 any        0.014
#     Test::More                                 0.88 1.301001_097
#     Test::Warnings                            0.009        0.021
#     if                                          any       0.0601
#     lib                                         any         0.63
# 
# === Test Recommends ===
# 
#     Module         Want     Have
#     ---------- -------- --------
#     CPAN::Meta 2.120900 2.150001
# 
# === Runtime Requires ===
# 
#     Module                    Want   Have
#     ------------------------- ---- ------
#     Dist::Zilla::Role::Plugin  any  5.034
#     File::Spec                 any   3.47
#     IPC::Open3                 any 1.0901
#     Moose                      any 2.1403
#     Moose::Role                any 2.1403
#     POSIX                      any   1.24
#     namespace::autoclean       any   0.24
#     strict                     any   1.04
#     warnings                   any   1.12
# 
# === Other Modules ===
# 
#     Module        Have
#     ------------- ----
#     Pod::Coverage 0.23
# 
t/00-report-prereqs.t .. ok
t/02-no-distini.t ...... ok
t/03-repeat-prompt.t ... ok
t/01-basic.t ........... ok
t/04-error.t ........... ok
t/05-kill.t ............ ok
t/zzz-check-breaks.t ... ok
All tests successful.
Files=7, Tests=10,  4 wallclock secs ( 0.04 usr  0.01 sys +  9.62 cusr  0.56 csys = 10.23 CPU)
Result: PASS

------------------------------
PREREQUISITES
------------------------------

Prerequisite modules loaded:

    No requirements found

------------------------------
ENVIRONMENT AND OTHER CONTEXT
------------------------------

Environment variables:

    LANG = en_CA.UTF-8
    PATH = /Users/ether/.perlbrew/libs/14.4@std/bin:/Users/ether/perl5/perlbrew/bin:/Users/ether/perl5/perlbrew/perls/14.4/bin:/Users/ether/bin:/Users/ether/git/misc/install/bourbon/bin:/Users/ether/git/misc/install/generic/bin:/opt/local/bin:/opt/local/sbin:/Users/ether/git/git-hub/lib:/Users/ether/src/CE/devtools:/Users/ether/git/CE/devtools:/Users/ether/src/CE/bin:/Users/ether/git/CE/bin:/usr/bin:/bin:/usr/sbin:/sbin:/usr/local/bin:/opt/local/share/git-core/contrib/workdir
    PERL5LIB = /Users/ether/.perlbrew/libs/14.4@std/lib/perl5
    PERLBREW_BASHRC_VERSION = 0.73
    PERLBREW_HOME = /Users/ether/.perlbrew
    PERLBREW_LIB = std
    PERLBREW_MANPATH = /Users/ether/.perlbrew/libs/14.4@std/man:/Users/ether/perl5/perlbrew/perls/14.4/man
    PERLBREW_PATH = /Users/ether/.perlbrew/libs/14.4@std/bin:/Users/ether/perl5/perlbrew/bin:/Users/ether/perl5/perlbrew/perls/14.4/bin
    PERLBREW_PERL = 14.4
    PERLBREW_ROOT = /Users/ether/perl5/perlbrew
    PERLBREW_VERSION = 0.73
    PERLDOC_PAGER = less -sicMr
    PERL_AUTOINSTALL_PREFER_CPAN = 1
    PERL_INSTALL_QUIET = 1
    PERL_LOCAL_LIB_ROOT = /Users/ether/.perlbrew/libs/14.4@std
    PERL_MB_OPT = --install_base /Users/ether/.perlbrew/libs/14.4@std
    PERL_MM_OPT = INSTALL_BASE=/Users/ether/.perlbrew/libs/14.4@std
    SHELL = /bin/bash
    TERM = xterm-color
    TMPDIR = /var/folders/kx/9dgyhhpn2yb7v2mggnr385fr0000gn/T/

Perl special variables (and OS-specific diagnostics, for MSWin32):

    EGID = 20 20 402 12 61 79 80 81 98
    EUID = 501
    EXECUTABLE_NAME = /Users/ether/perl5/perlbrew/perls/14.4/bin/perl
    GID = 20 20 402 12 61 79 80 81 98
    UID = 501

Perl module toolchain versions installed:

    Module              Have        
    ------------------- ------------
    CPAN                1.9600_01   
    CPAN::Meta          2.150001    
    Cwd                 3.47        
    ExtUtils::CBuilder  0.280220    
    ExtUtils::Command   7.05_19     
    ExtUtils::Install   2.04        
    ExtUtils::MakeMaker 7.05_19     
    ExtUtils::Manifest  1.70        
    ExtUtils::ParseXS   3.24        
    File::Spec          3.47        
    JSON                2.90        
    JSON::PP            2.27300     
    Module::Build       0.4211      
    Module::Signature   n/a         
    Parse::CPAN::Meta   1.4414      
    Test::Harness       3.35        
    Test::More          1.301001_097
    YAML                1.14        
    YAML::Syck          1.27        
    version             0.9912      


--

Summary of my perl5 (revision 5 version 14 subversion 4) configuration:
   
  Platform:
    osname=darwin, osvers=12.5.0, archname=darwin-2level
    uname='darwin bourbon 12.5.0 darwin kernel version 12.5.0: sun sep 29 13:33:47 pdt 2013; root:xnu-2050.48.12~1release_x86_64 x86_64 '
    config_args='-de -Dprefix=/Users/ether/perl5/perlbrew/perls/14.4 -Dman1dir=none -Dman3dir=none -Aeval:scriptdir=/Users/ether/perl5/perlbrew/perls/14.4/bin'
    hint=recommended, useposix=true, d_sigaction=define
    useithreads=undef, usemultiplicity=undef
    useperlio=define, d_sfio=undef, uselargefiles=define, usesocks=undef
    use64bitint=define, use64bitall=define, uselongdouble=undef
    usemymalloc=n, bincompat5005=undef
  Compiler:
    cc='cc', ccflags ='-fno-common -DPERL_DARWIN -fno-strict-aliasing -pipe -fstack-protector -I/opt/local/include',
    optimize='-O3',
    cppflags='-fno-common -DPERL_DARWIN -fno-strict-aliasing -pipe -fstack-protector -I/opt/local/include'
    ccversion='', gccversion='4.2.1 Compatible Apple LLVM 4.2 (clang-425.0.28)', gccosandvers=''
    intsize=4, longsize=8, ptrsize=8, doublesize=8, byteorder=12345678
    d_longlong=define, longlongsize=8, d_longdbl=define, longdblsize=16
    ivtype='long', ivsize=8, nvtype='double', nvsize=8, Off_t='off_t', lseeksize=8
    alignbytes=8, prototype=define
  Linker and Libraries:
    ld='env MACOSX_DEPLOYMENT_TARGET=10.3 cc', ldflags =' -fstack-protector -L/opt/local/lib'
    libpth=/opt/local/lib /usr/lib
    libs=-lgdbm -ldbm -ldl -lm -lutil -lc
    perllibs=-ldl -lm -lutil -lc
    libc=, so=dylib, useshrplib=false, libperl=libperl.a
    gnulibc_version=''
  Dynamic Linking:
    dlsrc=dl_dlopen.xs, dlext=bundle, d_dlsymun=undef, ccdlflags=' '
    cccdlflags=' ', lddlflags=' -bundle -undefined dynamic_lookup -L/opt/local/lib -fstack-protector'


Characteristics of this binary (from libperl): 
  Compile-time options: PERL_DONT_CREATE_GVSV PERL_MALLOC_WRAP
                        PERL_PRESERVE_IVUV USE_64_BIT_ALL USE_64_BIT_INT
                        USE_LARGE_FILES USE_PERLIO USE_PERL_ATOF
  Built under darwin
  Compiled at Aug 14 2014 12:55:54
  %ENV:
    PERL5LIB="/Users/ether/.perlbrew/libs/14.4@std/lib/perl5"
    PERLBREW_BASHRC_VERSION="0.73"
    PERLBREW_HOME="/Users/ether/.perlbrew"
    PERLBREW_LIB="std"
    PERLBREW_MANPATH="/Users/ether/.perlbrew/libs/14.4@std/man:/Users/ether/perl5/perlbrew/perls/14.4/man"
    PERLBREW_PATH="/Users/ether/.perlbrew/libs/14.4@std/bin:/Users/ether/perl5/perlbrew/bin:/Users/ether/perl5/perlbrew/perls/14.4/bin"
    PERLBREW_PERL="14.4"
    PERLBREW_ROOT="/Users/ether/perl5/perlbrew"
    PERLBREW_VERSION="0.73"
    PERLDOC_PAGER="less -sicMr"
    PERL_AUTOINSTALL_PREFER_CPAN="1"
    PERL_INSTALL_QUIET="1"
    PERL_LOCAL_LIB_ROOT="/Users/ether/.perlbrew/libs/14.4@std"
    PERL_MB_OPT="--install_base /Users/ether/.perlbrew/libs/14.4@std"
    PERL_MM_OPT="INSTALL_BASE=/Users/ether/.perlbrew/libs/14.4@std"
  @INC:
    /Users/ether/.perlbrew/libs/14.4@std/lib/perl5/darwin-2level
    /Users/ether/.perlbrew/libs/14.4@std/lib/perl5
    /Users/ether/perl5/perlbrew/perls/14.4/lib/site_perl/5.14.4/darwin-2level
    /Users/ether/perl5/perlbrew/perls/14.4/lib/site_perl/5.14.4
    /Users/ether/perl5/perlbrew/perls/14.4/lib/5.14.4/darwin-2level
    /Users/ether/perl5/perlbrew/perls/14.4/lib/5.14.4
    .