autodie v2.29 Perl 5 v5.8.6 x86_64-linux-thread-multi

Status
Pass
From
Nigel Horne
Dist
autodie v2.29
Platform
Perl 5 v5.8.6 x86_64-linux-thread-multi
Date
2017-12-21 07:04:22
ID
2bce92fe-e61d-11e7-b8bd-809199b835e7
This distribution has been tested as part of the CPAN Testers
project, supporting the Perl programming language.  See
http://wiki.cpantesters.org/ for more information or email
questions to cpan-testers-discuss@perl.org


--
Dear Paul Jamieson Fenwick,

This is a computer-generated report for autodie-2.29
on perl 5.8.6, created by CPAN-Reporter-1.2018.

Thank you for uploading your work to CPAN.  Congratulations!
All tests were successful.

Sections of this report:

    * Tester comments
    * Program output
    * Prerequisites
    * Environment and other context

------------------------------
TESTER COMMENTS
------------------------------

Additional comments from tester:

this report is from an automated smoke testing program
and was not reviewed by a human for accuracy

------------------------------
PROGRAM OUTPUT
------------------------------

Output from '/usr/bin/make test':

PERL_DL_NONLAZY=1 "/home/njh/perl5/perlbrew/perls/perl-5.8.6/bin/perl" "-MExtUtils::Command::MM" "-MTest::Harness" "-e" "undef *Test::Harness::Switches; test_harness(0, 'blib/lib', 'blib/arch')" t/*.t
t/00-load.t ...................... ok
t/args.t ......................... ok
t/author-critic.t ................ skipped: these tests are for testing by the author
t/backcompat.t ................... ok
t/autodie.t ...................... ok
t/basic_exceptions.t ............. ok
t/binmode.t ...................... ok
t/blog_hints.t ................... ok
t/caller.t ....................... ok
t/chown.t ........................ ok
t/chmod.t ........................ ok
t/context.t ...................... ok
t/core-trampoline-slurp.t ........ ok
t/context_lexical.t .............. ok
t/critic.t ....................... skipped: Author test.  Set $ENV{AUTHOR_TESTING} to true to run.
t/crickey.t ...................... ok
t/eval_error.t ................... ok
t/exception_class.t .............. ok
t/exceptions.t ................... skipped: Perl 5.10 only tests
t/dbmopen.t ...................... ok
t/exec.t ......................... ok
t/Fatal.t ........................ ok
t/filehandles.t .................. ok
t/fileno.t ....................... ok
t/flock.t ........................ ok
t/fork.t ......................... ok
# Sub::Identify is loaded
t/format-clobber.t ............... ok
t/hints.t ........................ ok
t/hints_pod_examples.t ........... skipped: Only subroutine hints supported in 5.8.x
t/hints_insist.t ................. ok
t/hints_provider_does.t .......... ok
t/hints_provider_isa.t ........... ok
t/hints_provider_easy_does_it.t .. ok
t/internal-backcompat.t .......... ok
t/import-into.t .................. ok
t/internal.t ..................... ok
t/kwalitee.t ..................... skipped: Author test.  Set $ENV{RELEASE_TESTING} to true to run.
t/kill.t ......................... ok
t/lex58.t ........................ skipped: IPC::System::Simple required
t/lethal.t ....................... ok
t/no_carp.t ...................... ok
t/mkdir.t ........................ ok
t/pod-coverage.t ................. skipped: Author test.  Set $ENV{AUTHOR_TESTING} to true to run.
t/pod.t .......................... skipped: Author test.  Set $ENV{AUTHOR_TESTING} to true to run.
t/read.t ......................... ok
t/open.t ......................... ok
t/release-pod-coverage.t ......... skipped: these tests are for release candidate testing
t/recv.t ......................... ok
t/release-pod-syntax.t ........... skipped: these tests are for release candidate testing
Variable "$open" is not imported at (eval 4) line 5.
	(Did you mean &open instead?)
t/rt-74246.t ..................... ok
t/repeat.t ....................... ok
t/scope_leak.t ................... ok
t/skip.t ......................... ok
t/socket.t ....................... skipped: Author test.  Set $ENV{AUTHOR_TESTING} to true to run.
t/string-eval-basic.t ............ ok
t/string-eval-leak.t ............. ok
t/system.t ....................... skipped: IPC::System::Simple not installed
t/sysopen.t ...................... ok
t/unlink.t ....................... ok
t/truncate.t ..................... ok
t/user-context.t ................. ok
t/usersub.t ...................... ok
t/utf8_open.t .................... skipped: autodie does not honor the open pragma before 5.10
t/utime.t ........................ ok
t/version.t ...................... skipped: Release test.  Set $ENV{RELEASE_TESTING} to true to run.
t/version_tag.t .................. ok
All tests successful.
Files=66, Tests=389,  3 wallclock secs ( 0.40 usr  0.21 sys +  3.29 cusr  0.90 csys =  4.80 CPU)
Result: PASS

------------------------------
PREREQUISITES
------------------------------

Prerequisite modules loaded:

requires:

    Module              Need     Have    
    ------------------- -------- --------
    B                   0        1.07    
    Carp                0        1.3301  
    constant            0        1.04    
    Exporter            5.57     5.70    
    Fcntl               0        1.05    
    overload            0        1.02    
    parent              0        0.228   
    perl                5.008004 5.008006
    POSIX               0        1.08    
    Scalar::Util        0        1.41    
    strict              0        1.03    
    Tie::RefHash        0        1.31    
    warnings            0        1.03    

build_requires:

    Module              Need     Have    
    ------------------- -------- --------
    ExtUtils::MakeMaker 0        7.22    
    File::Copy          0        2.08    
    File::Spec          0        3.47    
    File::Temp          0        0.2304  
    FindBin             0        1.44    
    if                  0        0.03    
    IO::Handle          0        1.28    
    lib                 0        0.5565  
    Socket              0        2.016   
    Test::More          0        1.001014

configure_requires:

    Module              Need     Have    
    ------------------- -------- --------
    ExtUtils::MakeMaker 0        7.22    


------------------------------
ENVIRONMENT AND OTHER CONTEXT
------------------------------

Environment variables:

    AUTOMATED_TESTING = 1
    HARNESS_OPTIONS = j2
    LANG = en_GB.UTF-8
    LANGUAGE = en_GB:en
    PATH = /home/njh/perl5/perlbrew/bin:/home/njh/perl5/perlbrew/perls/perl-5.8.6/bin:/usr/bin:/bin:src/njh/smoker/bin
    PERL5LIB = /home/njh/.cpan/build/Module-ScanDeps-1.24-5/blib/arch:/home/njh/.cpan/build/Module-ScanDeps-1.24-5/blib/lib:/home/njh/.cpan/build/File-Remove-1.57-5/blib/arch:/home/njh/.cpan/build/File-Remove-1.57-5/blib/lib:/home/njh/.cpan/build/Devel-PPPort-3.36-2/blib/arch:/home/njh/.cpan/build/Devel-PPPort-3.36-2/blib/lib:/home/njh/.cpan/build/YAML-Tiny-1.70-5/blib/arch:/home/njh/.cpan/build/YAML-Tiny-1.70-5/blib/lib
    PERL5OPT = 
    PERL5_CPANPLUS_IS_RUNNING = 17522
    PERL5_CPAN_IS_RUNNING = 17522
    PERLBREW_BASHRC_VERSION = 0.75
    PERLBREW_HOME = /home/njh/.perlbrew
    PERLBREW_MANPATH = /home/njh/perl5/perlbrew/perls/perl-5.8.6/man
    PERLBREW_PATH = /home/njh/perl5/perlbrew/bin:/home/njh/perl5/perlbrew/perls/perl-5.8.6/bin
    PERLBREW_PERL = perl-5.8.6
    PERLBREW_ROOT = /home/njh/perl5/perlbrew
    PERLBREW_VERSION = 0.75
    SHELL = /bin/sh

Perl special variables (and OS-specific diagnostics, for MSWin32):

    $^X = /home/njh/perl5/perlbrew/perls/perl-5.8.6/bin/perl
    $UID/$EUID = 1000 / 1000
    $GID = 1000 1000 127 116 108 103 46 44 30 29 25 24 4
    $EGID = 1000 1000 127 116 108 103 46 44 30 29 25 24 4

Perl module toolchain versions installed:

    Module              Have    
    ------------------- --------
    CPAN                2.16    
    CPAN::Meta          2.150005
    Cwd                 3.47    
    ExtUtils::CBuilder  0.280220
    ExtUtils::Command   7.22    
    ExtUtils::Install   1.54    
    ExtUtils::MakeMaker 7.22    
    ExtUtils::Manifest  1.70    
    ExtUtils::ParseXS   3.30    
    File::Spec          3.47    
    JSON                2.90    
    JSON::PP            2.27400 
    Module::Build       0.4210  
    Module::Signature   n/a     
    Parse::CPAN::Meta   1.4422  
    Test::Harness       3.36    
    Test::More          1.001014
    YAML                n/a     
    YAML::Syck          1.30    
    version             0.9909  


--

Summary of my perl5 (revision 5 version 8 subversion 6) configuration:
  Platform:
    osname=linux, osvers=3.16-3-amd64, archname=x86_64-linux-thread-multi
    uname='linux compaq 3.16-3-amd64 #1 smp debian 3.16.5-1 (2014-10-10) x86_64 gnulinux '
    config_args='-de -Dprefix=/home/njh/perl5/perlbrew/perls/perl-5.8.6 -Duseithreads -Dusemultiplicity -Dusedevel -Accflags= -Aeval:scriptdir=/home/njh/perl5/perlbrew/perls/perl-5.8.6/bin'
    hint=recommended, useposix=true, d_sigaction=define
    usethreads=define use5005threads=undef useithreads=define usemultiplicity=define
    useperlio=define d_sfio=undef uselargefiles=define usesocks=undef
    use64bitint=define use64bitall=define uselongdouble=undef
    usemymalloc=n, bincompat5005=undef
  Compiler:
    cc='cc', ccflags ='-D_REENTRANT -D_GNU_SOURCE -fno-strict-aliasing -pipe -I/usr/local/include -D_LARGEFILE_SOURCE -D_FILE_OFFSET_BITS=64',
    optimize='-O2',
    cppflags='-D_REENTRANT -D_GNU_SOURCE -fno-strict-aliasing -pipe -I/usr/local/include'
    ccversion='', gccversion='4.9.2', gccosandvers=''
    intsize=4, longsize=8, ptrsize=8, doublesize=8, byteorder=12345678
    d_longlong=define, longlongsize=8, d_longdbl=define, longdblsize=16
    ivtype='long', ivsize=8, nvtype='double', nvsize=8, Off_t='off_t', lseeksize=8
    alignbytes=8, prototype=define
  Linker and Libraries:
    ld='cc', ldflags =' -L/usr/local/lib'
    libpth=/usr/local/lib /lib/x86_64-linux-gnu /lib/../lib /usr/lib/x86_64-linux-gnu /usr/lib/../lib /lib /usr/lib
    libs=-lnsl -lgdbm -ldb -ldl -lm -lcrypt -lutil -lpthread -lc -lgdbm_compat
    perllibs=-lnsl -ldl -lm -lcrypt -lutil -lpthread -lc -lgdbm_compat
    libc=, so=so, useshrplib=false, libperl=libperl.a
    gnulibc_version='2.19'
  Dynamic Linking:
    dlsrc=dl_dlopen.xs, dlext=so, d_dlsymun=undef, ccdlflags='-Wl,-E'
    cccdlflags='-fpic', lddlflags='-shared -L/usr/local/lib'


Characteristics of this binary (from libperl): 
  Compile-time options: MULTIPLICITY USE_ITHREADS USE_64_BIT_INT USE_64_BIT_ALL USE_LARGE_FILES PERL_IMPLICIT_CONTEXT
  Built under linux
  Compiled at Nov 15 2014 04:44:48
  %ENV:
    PERL5LIB="/home/njh/.cpan/build/Module-ScanDeps-1.24-5/blib/arch:/home/njh/.cpan/build/Module-ScanDeps-1.24-5/blib/lib:/home/njh/.cpan/build/File-Remove-1.57-5/blib/arch:/home/njh/.cpan/build/File-Remove-1.57-5/blib/lib:/home/njh/.cpan/build/Devel-PPPort-3.36-2/blib/arch:/home/njh/.cpan/build/Devel-PPPort-3.36-2/blib/lib:/home/njh/.cpan/build/YAML-Tiny-1.70-5/blib/arch:/home/njh/.cpan/build/YAML-Tiny-1.70-5/blib/lib"
    PERL5OPT=""
    PERL5_CPANPLUS_IS_RUNNING="17522"
    PERL5_CPAN_IS_RUNNING="17522"
    PERLBREW_BASHRC_VERSION="0.75"
    PERLBREW_HOME="/home/njh/.perlbrew"
    PERLBREW_MANPATH="/home/njh/perl5/perlbrew/perls/perl-5.8.6/man"
    PERLBREW_PATH="/home/njh/perl5/perlbrew/bin:/home/njh/perl5/perlbrew/perls/perl-5.8.6/bin"
    PERLBREW_PERL="perl-5.8.6"
    PERLBREW_ROOT="/home/njh/perl5/perlbrew"
    PERLBREW_VERSION="0.75"
  @INC:
    /home/njh/.cpan/build/Module-ScanDeps-1.24-5/blib/arch
    /home/njh/.cpan/build/Module-ScanDeps-1.24-5/blib/lib
    /home/njh/.cpan/build/File-Remove-1.57-5/blib/arch
    /home/njh/.cpan/build/File-Remove-1.57-5/blib/lib
    /home/njh/.cpan/build/Devel-PPPort-3.36-2/blib/arch
    /home/njh/.cpan/build/Devel-PPPort-3.36-2/blib/lib
    /home/njh/.cpan/build/YAML-Tiny-1.70-5/blib/arch
    /home/njh/.cpan/build/YAML-Tiny-1.70-5/blib/lib
    /home/njh/perl5/perlbrew/perls/perl-5.8.6/lib/5.8.6/x86_64-linux-thread-multi
    /home/njh/perl5/perlbrew/perls/perl-5.8.6/lib/5.8.6
    /home/njh/perl5/perlbrew/perls/perl-5.8.6/lib/site_perl/5.8.6/x86_64-linux-thread-multi
    /home/njh/perl5/perlbrew/perls/perl-5.8.6/lib/site_perl/5.8.6
    /home/njh/perl5/perlbrew/perls/perl-5.8.6/lib/site_perl
    .