Report for DBIx-Connector-0.56

Back
From: metabase:user:30f4dfbe-2aae-11df-837a-5e0a49663a4f
Subject: PASS DBIx-Connector-0.56 v5.22.2 NetBSD
Date: 2017-01-11T22:34:53Z

This distribution has been tested as part of the CPAN Testers
project, supporting the Perl programming language.  See
http://wiki.cpantesters.org/ for more information or email
questions to cpan-testers-discuss@perl.org


--
Dear David E. Wheeler,

This is a computer-generated report for DBIx-Connector-0.56
on perl 5.22.2, created by CPAN-Reporter-1.2018.

Thank you for uploading your work to CPAN.  Congratulations!
All tests were successful.

Sections of this report:

    * Tester comments
    * Program output
    * Prerequisites
    * Environment and other context

------------------------------
TESTER COMMENTS
------------------------------

Additional comments from tester:

this report is from an automated smoke testing program
and was not reviewed by a human for accuracy

------------------------------
PROGRAM OUTPUT
------------------------------

Output from './Build test':

t/base.t ....... ok
t/driver.t ..... ok
t/load.t ....... ok
t/run.t ........ ok
t/run_fixup.t .. ok
t/run_ping.t ... ok
t/svp.t ........ ok
t/svp_fixup.t .. ok
t/svp_live.t ... skipped: Set DBICTEST_DSN _USER and _PASS to run savepoint tests
t/svp_ping.t ... ok
t/txn.t ........ ok
t/txn_fixup.t .. ok
t/txn_ping.t ... ok
All tests successful.
Files=13, Tests=762, 108 wallclock secs ( 1.67 usr  0.80 sys + 13.14 cusr  9.30 csys = 24.91 CPU)
Result: PASS

------------------------------
PREREQUISITES
------------------------------

Prerequisite modules loaded:

requires:

    Module           Need     Have    
    ---------------- -------- --------
    DBI              1.605    1.636   
    perl             5.006002 5.022002

build_requires:

    Module           Need     Have    
    ---------------- -------- --------
    Module::Build    0.30     0.4220  
    Test::MockModule 0.05     0.11    
    Test::More       0.88     1.001014

configure_requires:

    Module           Need     Have    
    ---------------- -------- --------
    Module::Build    0.30     0.4220  


------------------------------
ENVIRONMENT AND OTHER CONTEXT
------------------------------

Environment variables:

    AUTOMATED_TESTING = 1
    PATH = /home/njh/perl5/perlbrew/bin:/home/njh/perl5/perlbrew/perls/perl-5.22.2/bin:/home/njh/perl5/perlbrew/bin:/home/njh/perl5/perlbrew/perls/perl-5.6.2/bin:/home/njh/perl5/perlbrew/bin:/home/njh/src/njh/smoker:/usr/bin:/bin:/usr/pkg/bin:/usr/local/bin
    PERL5LIB = /home/njh/.cpan/build/Test-MockModule-0.11-0/blib/arch:/home/njh/.cpan/build/Test-MockModule-0.11-0/blib/lib:/home/njh/.cpan/build/SUPER-1.20141117-0/blib/arch:/home/njh/.cpan/build/SUPER-1.20141117-0/blib/lib:/home/njh/.cpan/build/Sub-Identify-0.12-0/blib/arch:/home/njh/.cpan/build/Sub-Identify-0.12-0/blib/lib:/home/njh/.cpan/build/Module-Build-0.4220-5/blib/arch:/home/njh/.cpan/build/Module-Build-0.4220-5/blib/lib:/home/njh/.cpan/build/Cache-FastMmap-1.44-0/blib/arch:/home/njh/.cpan/build/Cache-FastMmap-1.44-0/blib/lib:/home/njh/.cpan/build/Data-Structure-Util-0.16-0/blib/arch:/home/njh/.cpan/build/Data-Structure-Util-0.16-0/blib/lib:/home/njh/.cpan/build/Test-Pod-1.51-0/blib/arch:/home/njh/.cpan/build/Test-Pod-1.51-0/blib/lib:/home/njh/.cpan/build/common-sense-3.74-0/blib/arch:/home/njh/.cpan/build/common-sense-3.74-0/blib/lib:/home/njh/.cpan/build/Guard-1.023-0/blib/arch:/home/njh/.cpan/build/Guard-1.023-0/blib/lib:/home/njh/.cpan/build/Clone-0.38-0/blib/arch:/home/njh/.cpan/build/Clone-0.38-0/blib/lib:/home/njh/.cpan/build/Canary-Stability-2012-0/blib/arch:/home/njh/.cpan/build/Canary-Stability-2012-0/blib/lib
    PERL5OPT = 
    PERL5_CPANPLUS_IS_RUNNING = 14678
    PERL5_CPAN_IS_RUNNING = 14678
    PERLBREW_BASHRC_VERSION = 0.78
    PERLBREW_LIB = 
    PERLBREW_MANPATH = /home/njh/perl5/perlbrew/perls/perl-5.22.2/man
    PERLBREW_PATH = /home/njh/perl5/perlbrew/bin:/home/njh/perl5/perlbrew/perls/perl-5.22.2/bin
    PERLBREW_PERL = perl-5.22.2
    PERLBREW_ROOT = /home/njh/perl5/perlbrew
    PERLBREW_VERSION = 0.78
    PERL_LOCAL_LIB_ROOT = 
    SHELL = /bin/sh
    TMPDIR = /home/njh/tmp

Perl special variables (and OS-specific diagnostics, for MSWin32):

    $^X = /home/njh/perl5/perlbrew/perls/perl-5.22.2/bin/perl
    $UID/$EUID = 1000 / 1000
    $GID = 1000 1000 0
    $EGID = 1000 1000 0

Perl module toolchain versions installed:

    Module              Have    
    ------------------- --------
    CPAN                2.14    
    CPAN::Meta          2.150001
    Cwd                 3.56_01 
    ExtUtils::CBuilder  0.280221
    ExtUtils::Command   7.24    
    ExtUtils::Install   2.04    
    ExtUtils::MakeMaker 7.24    
    ExtUtils::Manifest  1.70    
    ExtUtils::ParseXS   3.28    
    File::Spec          3.56_01 
    JSON                n/a     
    JSON::PP            2.27300 
    Module::Build       0.4220  
    Module::Signature   n/a     
    Parse::CPAN::Meta   1.4414  
    Test::Harness       3.35    
    Test::More          1.001014
    YAML                1.21    
    YAML::Syck          1.29    
    version             0.9909  


--

Summary of my perl5 (revision 5 version 22 subversion 2) configuration:
   
  Platform:
    osname=netbsd, osvers=7.0.2_patch, archname=evbarm-netbsd-thread-multi
    uname='netbsd pi2c.bandsman.co.uk 7.0.2_patch netbsd 7.0.2_patch (rpi2.201612281350z) evbarm '
    config_args='-de -Dprefix=/home/njh/perl5/perlbrew/perls/perl-5.22.2 -Duseithreads -Dusemultiplicity -Dusedevel -Accflags=-O2 -W -Wformat=2 -Wswitch -Wshadow -Wwrite-strings -Wuninitialized -Wall -pipe -fomit-frame-pointer -D_FORTIFY_SOURCE=2 -Wpointer-arith -Wstrict-prototypes -fstack-protector -Wstack-protector -Wextra -Wbad-function-cast -Wcast-align -Wcast-qual -Wdisabled-optimization -Wendif-labels -Wfloat-equal -Wformat-nonliteral -Winline -Wmissing-declarations -Wmissing-prototypes -Wnested-externs -Wpointer-arith -Wundef -Wformat-security -mtune=cortex-a7 -mfpu=vfp -mfloat-abi=hard -Aeval:scriptdir=/home/njh/perl5/perlbrew/perls/perl-5.22.2/bin'
    hint=recommended, useposix=true, d_sigaction=define
    useithreads=define, usemultiplicity=define
    use64bitint=undef, use64bitall=undef, uselongdouble=undef
    usemymalloc=n, bincompat5005=undef
  Compiler:
    cc='cc', ccflags ='-O2 -W -Wformat=2 -Wswitch -Wshadow -Wwrite-strings -Wuninitialized -Wall -pipe -fomit-frame-pointer -D_FORTIFY_SOURCE=2 -Wpointer-arith -Wstrict-prototypes -fstack-protector -Wstack-protector -Wextra -Wbad-function-cast -Wcast-align -Wcast-qual -Wdisabled-optimization -Wendif-labels -Wfloat-equal -Wformat-nonliteral -Winline -Wmissing-declarations -Wmissing-prototypes -Wnested-externs -Wpointer-arith -Wundef -Wformat-security -mtune=cortex-a7 -mfpu=vfp -mfloat-abi=hard -fwrapv -fno-strict-aliasing -I/usr/pkg/include',
    optimize='-O',
    cppflags='-O2 -W -Wformat=2 -Wswitch -Wshadow -Wwrite-strings -Wuninitialized -Wall -pipe -fomit-frame-pointer -D_FORTIFY_SOURCE=2 -Wpointer-arith -Wstrict-prototypes -fstack-protector -Wstack-protector -Wextra -Wbad-function-cast -Wcast-align -Wcast-qual -Wdisabled-optimization -Wendif-labels -Wfloat-equal -Wformat-nonliteral -Winline -Wmissing-declarations -Wmissing-prototypes -Wnested-externs -Wpointer-arith -Wundef -Wformat-security -mtune=cortex-a7 -mfpu=vfp -mfloat-abi=hard -fwrapv -fno-strict-aliasing -I/usr/pkg/include'
    ccversion='', gccversion='4.8.4', gccosandvers=''
    intsize=4, longsize=4, ptrsize=4, doublesize=8, byteorder=1234, doublekind=3
    d_longlong=define, longlongsize=8, d_longdbl=define, longdblsize=8, longdblkind=0
    ivtype='long', ivsize=4, nvtype='double', nvsize=8, Off_t='off_t', lseeksize=8
    alignbytes=8, prototype=define
  Linker and Libraries:
    ld='cc', ldflags =' -Wl,-rpath,/usr/pkg/lib -Wl,-rpath,/usr/local/lib -fstack-protector -L/usr/pkg/lib'
    libpth=/usr/include/gcc-4.8 /usr/lib /usr/pkg/lib /lib
    libs=-lpthread -lm -lcrypt -lutil -lc -lposix
    perllibs=-lpthread -lm -lcrypt -lutil -lc -lposix
    libc=/lib/libc.so, so=so, useshrplib=false, libperl=libperl.a
    gnulibc_version=''
  Dynamic Linking:
    dlsrc=dl_dlopen.xs, dlext=so, d_dlsymun=undef, ccdlflags='-Wl,-E '
    cccdlflags='-DPIC -fPIC ', lddlflags='-shared  -L/usr/pkg/lib -fstack-protector'


Characteristics of this binary (from libperl): 
  Compile-time options: HAS_TIMES MULTIPLICITY PERLIO_LAYERS
                        PERL_DONT_CREATE_GVSV
                        PERL_HASH_FUNC_ONE_AT_A_TIME_HARD
                        PERL_IMPLICIT_CONTEXT PERL_MALLOC_WRAP
                        PERL_NEW_COPY_ON_WRITE PERL_PRESERVE_IVUV
                        PERL_USE_DEVEL USE_ITHREADS USE_LARGE_FILES
                        USE_LOCALE USE_LOCALE_COLLATE USE_LOCALE_CTYPE
                        USE_LOCALE_NUMERIC USE_LOCALE_TIME USE_PERLIO
                        USE_PERL_ATOF USE_REENTRANT_API
  Locally applied patches:
	Devel::PatchPerl 1.38
  Built under netbsd
  Compiled at Dec 29 2016 16:04:50
  %ENV:
    PERL5LIB="/home/njh/.cpan/build/Test-MockModule-0.11-0/blib/arch:/home/njh/.cpan/build/Test-MockModule-0.11-0/blib/lib:/home/njh/.cpan/build/SUPER-1.20141117-0/blib/arch:/home/njh/.cpan/build/SUPER-1.20141117-0/blib/lib:/home/njh/.cpan/build/Sub-Identify-0.12-0/blib/arch:/home/njh/.cpan/build/Sub-Identify-0.12-0/blib/lib:/home/njh/.cpan/build/Module-Build-0.4220-5/blib/arch:/home/njh/.cpan/build/Module-Build-0.4220-5/blib/lib:/home/njh/.cpan/build/Cache-FastMmap-1.44-0/blib/arch:/home/njh/.cpan/build/Cache-FastMmap-1.44-0/blib/lib:/home/njh/.cpan/build/Data-Structure-Util-0.16-0/blib/arch:/home/njh/.cpan/build/Data-Structure-Util-0.16-0/blib/lib:/home/njh/.cpan/build/Test-Pod-1.51-0/blib/arch:/home/njh/.cpan/build/Test-Pod-1.51-0/blib/lib:/home/njh/.cpan/build/common-sense-3.74-0/blib/arch:/home/njh/.cpan/build/common-sense-3.74-0/blib/lib:/home/njh/.cpan/build/Guard-1.023-0/blib/arch:/home/njh/.cpan/build/Guard-1.023-0/blib/lib:/home/njh/.cpan/build/Clone-0.38-0/blib/arch:/home/njh/.cpan/build/Clone-0.38-0/blib/lib:/home/njh/.cpan/build/Canary-Stability-2012-0/blib/arch:/home/njh/.cpan/build/Canary-Stability-2012-0/blib/lib"
    PERL5OPT=""
    PERL5_CPANPLUS_IS_RUNNING="14678"
    PERL5_CPAN_IS_RUNNING="14678"
    PERLBREW_BASHRC_VERSION="0.78"
    PERLBREW_LIB=""
    PERLBREW_MANPATH="/home/njh/perl5/perlbrew/perls/perl-5.22.2/man"
    PERLBREW_PATH="/home/njh/perl5/perlbrew/bin:/home/njh/perl5/perlbrew/perls/perl-5.22.2/bin"
    PERLBREW_PERL="perl-5.22.2"
    PERLBREW_ROOT="/home/njh/perl5/perlbrew"
    PERLBREW_VERSION="0.78"
    PERL_LOCAL_LIB_ROOT=""
  @INC:
    /home/njh/.cpan/build/Test-MockModule-0.11-0/blib/arch
    /home/njh/.cpan/build/Test-MockModule-0.11-0/blib/lib
    /home/njh/.cpan/build/SUPER-1.20141117-0/blib/arch
    /home/njh/.cpan/build/SUPER-1.20141117-0/blib/lib
    /home/njh/.cpan/build/Sub-Identify-0.12-0/blib/arch
    /home/njh/.cpan/build/Sub-Identify-0.12-0/blib/lib
    /home/njh/.cpan/build/Module-Build-0.4220-5/blib/arch
    /home/njh/.cpan/build/Module-Build-0.4220-5/blib/lib
    /home/njh/.cpan/build/Cache-FastMmap-1.44-0/blib/arch
    /home/njh/.cpan/build/Cache-FastMmap-1.44-0/blib/lib
    /home/njh/.cpan/build/Data-Structure-Util-0.16-0/blib/arch
    /home/njh/.cpan/build/Data-Structure-Util-0.16-0/blib/lib
    /home/njh/.cpan/build/Test-Pod-1.51-0/blib/arch
    /home/njh/.cpan/build/Test-Pod-1.51-0/blib/lib
    /home/njh/.cpan/build/common-sense-3.74-0/blib/arch
    /home/njh/.cpan/build/common-sense-3.74-0/blib/lib
    /home/njh/.cpan/build/Guard-1.023-0/blib/arch
    /home/njh/.cpan/build/Guard-1.023-0/blib/lib
    /home/njh/.cpan/build/Clone-0.38-0/blib/arch
    /home/njh/.cpan/build/Clone-0.38-0/blib/lib
    /home/njh/.cpan/build/Canary-Stability-2012-0/blib/arch
    /home/njh/.cpan/build/Canary-Stability-2012-0/blib/lib
    /home/njh/perl5/perlbrew/perls/perl-5.22.2/lib/site_perl/5.22.2/evbarm-netbsd-thread-multi
    /home/njh/perl5/perlbrew/perls/perl-5.22.2/lib/site_perl/5.22.2
    /home/njh/perl5/perlbrew/perls/perl-5.22.2/lib/5.22.2/evbarm-netbsd-thread-multi
    /home/njh/perl5/perlbrew/perls/perl-5.22.2/lib/5.22.2
    .