Dist-Zilla-Plugin-DynamicPrereqs v0.040 Perl 5 v5.41.10 i86pc-solaris-64

Status
Pass
From
Carlos Guevara
Dist
Dist-Zilla-Plugin-DynamicPrereqs v0.040
Platform
Perl 5 v5.41.10 i86pc-solaris-64
Date
2025-03-18 16:00:54
ID
2bd9d93c-0412-11f0-a424-e0a9e86dce57
This distribution has been tested as part of the CPAN Testers
project, supporting the Perl programming language.  See
http://wiki.cpantesters.org/ for more information or email
questions to cpan-testers-discuss@perl.org


--
Dear Karen Etheridge,

This is a computer-generated report for Dist-Zilla-Plugin-DynamicPrereqs-0.040
on perl 5.41.10, created by CPAN-Reporter-1.2020.

Thank you for uploading your work to CPAN.  Congratulations!
All tests were successful.

Sections of this report:

    * Tester comments
    * Program output
    * Prerequisites
    * Environment and other context

------------------------------
TESTER COMMENTS
------------------------------

Additional comments from tester:

this report is from an automated smoke testing program
and was not reviewed by a human for accuracy

------------------------------
PROGRAM OUTPUT
------------------------------

Output from '/usr/bin/make test':

Skip blib/lib/auto/share/module/Dist-Zilla-Plugin-DynamicPrereqs/include_subs/is_os (unchanged)
Skip blib/lib/auto/share/module/Dist-Zilla-Plugin-DynamicPrereqs/include_subs/want_xs (unchanged)
Skip blib/lib/auto/share/module/Dist-Zilla-Plugin-DynamicPrereqs/include_subs/can_run (unchanged)
Skip blib/lib/auto/share/module/Dist-Zilla-Plugin-DynamicPrereqs/include_subs/is_miniperl (unchanged)
Skip blib/lib/auto/share/module/Dist-Zilla-Plugin-DynamicPrereqs/include_subs/build_requires (unchanged)
Skip blib/lib/auto/share/module/Dist-Zilla-Plugin-DynamicPrereqs/include_subs/prompt_default_yes (unchanged)
Skip blib/lib/auto/share/module/Dist-Zilla-Plugin-DynamicPrereqs/include_subs/is_interactive (unchanged)
Skip blib/lib/auto/share/module/Dist-Zilla-Plugin-DynamicPrereqs/include_subs/is_trial (unchanged)
Skip blib/lib/auto/share/module/Dist-Zilla-Plugin-DynamicPrereqs/include_subs/can_cc (unchanged)
Skip blib/lib/auto/share/module/Dist-Zilla-Plugin-DynamicPrereqs/include_subs/parse_args (unchanged)
Skip blib/lib/auto/share/module/Dist-Zilla-Plugin-DynamicPrereqs/include_subs/maybe_command (unchanged)
Skip blib/lib/auto/share/module/Dist-Zilla-Plugin-DynamicPrereqs/include_subs/isnt_os (unchanged)
Skip blib/lib/auto/share/module/Dist-Zilla-Plugin-DynamicPrereqs/include_subs/prompt_default_no (unchanged)
Skip blib/lib/auto/share/module/Dist-Zilla-Plugin-DynamicPrereqs/include_subs/is_smoker (unchanged)
Skip blib/lib/auto/share/module/Dist-Zilla-Plugin-DynamicPrereqs/include_subs/test_requires (unchanged)
Skip blib/lib/auto/share/module/Dist-Zilla-Plugin-DynamicPrereqs/include_subs/_add_prereq (unchanged)
Skip blib/lib/auto/share/module/Dist-Zilla-Plugin-DynamicPrereqs/include_subs/can_xs (unchanged)
Skip blib/lib/auto/share/module/Dist-Zilla-Plugin-DynamicPrereqs/include_subs/want_pp (unchanged)
Skip blib/lib/auto/share/module/Dist-Zilla-Plugin-DynamicPrereqs/include_subs/can_use (unchanged)
Skip blib/lib/auto/share/module/Dist-Zilla-Plugin-DynamicPrereqs/include_subs/has_module (unchanged)
Skip blib/lib/auto/share/module/Dist-Zilla-Plugin-DynamicPrereqs/include_subs/runtime_requires (unchanged)
Skip blib/lib/auto/share/module/Dist-Zilla-Plugin-DynamicPrereqs/include_subs/requires (unchanged)
PERL_DL_NONLAZY=1 "/export/home/cpan/bin/perl/bin/perl5.41.10" "-MExtUtils::Command::MM" "-MTest::Harness" "-e" "undef *Test::Harness::Switches; test_harness(0, 'blib/lib', 'blib/arch')" t/*.t
# 
# Versions for all modules listed in MYMETA.json (including optional ones):
# 
# === Configure Requires ===
# 
#     Module                  Want Have
#     ----------------------- ---- ----
#     ExtUtils::MakeMaker      any 7.72
#     File::ShareDir::Install 0.06 0.14
# 
# === Build Requires ===
# 
#     Module              Want Have
#     ------------------- ---- ----
#     ExtUtils::MakeMaker  any 7.72
# 
# === Test Requires ===
# 
#     Module                          Want       Have
#     ------------------------------ ----- ----------
#     Capture::Tiny                    any       0.50
#     Dist::Zilla::Plugin::MakeMaker 5.022      6.032
#     ExtUtils::MakeMaker             6.64       7.72
#     File::Spec                       any       3.93
#     File::pushd                      any      1.016
#     Module::CoreList                3.06 5.20250220
#     PadWalker                        any        2.5
#     Test::DZil                       any      6.032
#     Test::Deep                       any      1.204
#     Test::Deep::JSON                 any       0.05
#     Test::Fatal                      any      0.017
#     Test::File::ShareDir             any   1.001002
#     Test::More                      0.88   1.302209
#     Test::Needs                      any   0.002010
#     if                               any     0.0610
#     lib                              any       0.65
# 
# === Test Recommends ===
# 
#     Module         Want     Have
#     ---------- -------- --------
#     CPAN::Meta 2.120900 2.150010
# 
# === Test Conflicts ===
# 
#     Module      Want Have
#     ----------- ---- ----
#     CPAN::Index 0.01 2.29
# 
# === Runtime Requires ===
# 
#     Module                             Want    Have
#     --------------------------------- ----- -------
#     Dist::Zilla::Plugin::MakeMaker    5.022   6.032
#     Dist::Zilla::Role::AfterBuild       any   6.032
#     Dist::Zilla::Role::FileGatherer     any   6.032
#     Dist::Zilla::Role::FileMunger       any   6.032
#     Dist::Zilla::Role::MetaProvider     any   6.032
#     Dist::Zilla::Role::ModuleMetadata   any   0.006
#     Dist::Zilla::Role::PrereqSource     any   6.032
#     Dist::Zilla::Role::TextTemplate     any   6.032
#     File::ShareDir                      any   1.118
#     List::Util                         1.45 1.68_01
#     Module::Runtime                     any   0.016
#     Moose                               any  2.2207
#     Path::Tiny                          any   0.148
#     Term::ANSIColor                    3.00    5.01
#     Try::Tiny                           any    0.32
#     namespace::autoclean                any    0.31
#     strict                              any    1.13
#     warnings                            any    1.74
# 
# === Other Modules ===
# 
#     Module                                    Have
#     --------------------------------------- ------
#     Dist::Zilla::Plugin::MakeMaker::Awesome   0.49
#     Encode                                    3.21
#     File::Temp                              0.2311
#     JSON::PP                                  4.16
#     Module::Runtime                          0.016
#     Pod::Coverage                             0.23
#     Sub::Name                                 0.28
#     YAML                                      1.31
#     autodie                                   2.37
# 
t/00-report-prereqs.t ........... ok
t/01-basic.t .................... ok
t/02-no-makefile.t .............. ok
t/03-build_pl.t ................. ok
t/04-two-plugins.t .............. ok
t/05-overshadow-static.t ........ ok
t/06-makemaker-awesome.t ........ ok
t/07-unknown-arguments.t ........ ok
t/08-empty-prereqs.t ............ ok
t/09-delimiter-whitespace.t ..... ok
t/10-raw-from-file.t ............ ok
t/11-include-sub.t .............. ok
t/12-include-sub-definitions.t .. ok
t/13-two-plugins.t .............. ok
t/14-nonexistent-sub.t .......... ok
t/15-conditions-raw.t ........... ok
t/17-sub-prereqs-core.t ......... ok
t/18-subs.t ..................... ok
t/19-include-subs-requires.t .... ok
t/20-include-subs-allraw.t ...... ok
t/21-body-from-file.t ........... ok
t/22-conditions-body.t .......... ok
t/23-inlined-module.t ........... ok
t/zzz-check-breaks.t ............ ok
All tests successful.
Files=24, Tests=206, 26 wallclock secs ( 0.09 usr  0.05 sys + 19.74 cusr  4.06 csys = 23.95 CPU)
Result: PASS

------------------------------
PREREQUISITES
------------------------------

Prerequisite modules loaded:

requires:

    Module                            Need  Have      
    --------------------------------- ----- ----------
    Dist::Zilla::Plugin::MakeMaker    5.022 6.032     
    Dist::Zilla::Role::AfterBuild     0     6.032     
    Dist::Zilla::Role::FileGatherer   0     6.032     
    Dist::Zilla::Role::FileMunger     0     6.032     
    Dist::Zilla::Role::MetaProvider   0     6.032     
    Dist::Zilla::Role::ModuleMetadata 0     0.006     
    Dist::Zilla::Role::PrereqSource   0     6.032     
    Dist::Zilla::Role::TextTemplate   0     6.032     
    File::ShareDir                    0     1.118     
    List::Util                        1.45  1.68_01   
    Module::Runtime                   0     0.016     
    Moose                             0     2.2207    
    namespace::autoclean              0     0.31      
    Path::Tiny                        0     0.148     
    perl                              5.010 5.041010  
    strict                            0     1.13      
    Term::ANSIColor                   3.00  5.01      
    Try::Tiny                         0     0.32      
    warnings                          0     1.74      

build_requires:

    Module                            Need  Have      
    --------------------------------- ----- ----------
    Capture::Tiny                     0     0.50      
    Dist::Zilla::Plugin::MakeMaker    5.022 6.032     
    ExtUtils::MakeMaker               6.64  7.72      
    File::pushd                       0     1.016     
    File::Spec                        0     3.93      
    if                                0     0.0610    
    lib                               0     0.65      
    Module::CoreList                  3.06  5.20250220
    PadWalker                         0     2.5       
    Test::Deep                        0     1.204     
    Test::Deep::JSON                  0     0.05      
    Test::DZil                        0     6.032     
    Test::Fatal                       0     0.017     
    Test::File::ShareDir              0     1.001002  
    Test::More                        0.88  1.302209  
    Test::Needs                       0     0.002010  

configure_requires:

    Module                            Need  Have      
    --------------------------------- ----- ----------
    ExtUtils::MakeMaker               0     7.72      
    File::ShareDir::Install           0.06  0.14      
    perl                              5.006 5.041010  


------------------------------
ENVIRONMENT AND OTHER CONTEXT
------------------------------

Environment variables:

    AUTOMATED_TESTING = 1
    DATE_MANIP_TEST_DM5 = 1
    LANG = en_US.UTF-8
    LC_ALL = C
    NONINTERACTIVE_TESTING = 1
    NO_NETWORK_TESTING = 1
    PATH = /export/home/cpan/bin/perl/bin:/usr/bin:/usr/sbin:/sbin:/opt/ooce/bin:/usr/gnu/bin
    PERL5LIB = 
    PERL5OPT = 
    PERL5_CPANPLUS_IS_RUNNING = 15085
    PERL5_CPAN_IS_RUNNING = 15085
    PERL_MM_USE_DEFAULT = 1
    PERL_USE_UNSAFE_INC = 1
    SHELL = /bin/bash
    TERM = screen

Perl special variables (and OS-specific diagnostics, for MSWin32):

    $^X = /export/home/cpan/bin/perl/bin/perl5.41.10
    $UID/$EUID = 101 / 101
    $GID = 1 1
    $EGID = 1 1

Perl module toolchain versions installed:

    Module              Have    
    ------------------- --------
    CPAN                2.38    
    CPAN::Meta          2.150010
    Cwd                 3.92    
    ExtUtils::CBuilder  0.280240
    ExtUtils::Command   7.72    
    ExtUtils::Install   2.22    
    ExtUtils::MakeMaker 7.72    
    ExtUtils::Manifest  1.75    
    ExtUtils::ParseXS   3.57    
    File::Spec          3.93    
    JSON                4.10    
    JSON::PP            4.16    
    Module::Build       0.4234  
    Module::Signature   0.89    
    Parse::CPAN::Meta   2.150010
    Test2               1.302209
    Test::Harness       3.50    
    Test::More          1.302209
    YAML                1.31    
    YAML::Syck          1.34    
    version             0.9933  


--

Summary of my perl5 (revision 5 version 41 subversion 10) configuration:
  Commit id: 24ec8e7f78d0add1f58f08cd5e5ddb042d45f3b9
  Platform:
    osname=solaris
    osvers=2.11
    archname=i86pc-solaris-64
    uname='sunos cjg-omniosce 5.11 omnios-r151050-daf07d448c8 i86pc i386 i86pc '
    config_args='-des -Dprefix=/export/home/cpan/bin/perl -Dscriptdir=/export/home/cpan/bin/perl/bin -Dusedevel -Duse64bitall -Dcc=gcc'
    hint=recommended
    useposix=true
    d_sigaction=define
    useithreads=undef
    usemultiplicity=undef
    use64bitint=define
    use64bitall=define
    uselongdouble=undef
    usemymalloc=n
    default_inc_excludes_dot=define
  Compiler:
    cc='gcc'
    ccflags ='-m64 -fwrapv -fno-strict-aliasing -pipe -fstack-protector-strong -D_LARGEFILE_SOURCE -D_FILE_OFFSET_BITS=64 -D_FORTIFY_SOURCE=2'
    optimize='-O'
    cppflags='-m64 -fwrapv -fno-strict-aliasing -pipe -fstack-protector-strong'
    ccversion=''
    gccversion='13.2.0'
    gccosandvers=''
    intsize=4
    longsize=8
    ptrsize=8
    doublesize=8
    byteorder=12345678
    doublekind=3
    d_longlong=define
    longlongsize=8
    d_longdbl=define
    longdblsize=16
    longdblkind=3
    ivtype='long'
    ivsize=8
    nvtype='double'
    nvsize=8
    Off_t='off_t'
    lseeksize=8
    alignbytes=8
    prototype=define
  Linker and Libraries:
    ld='gcc'
    ldflags =' -m64 -fstack-protector-strong -L/usr/gnu/lib '
    libpth=/opt/gcc-13/lib /usr/lib /usr/gnu/lib /usr/ccs/lib
    libs=-lpthread -lsocket -lnsl -ldl -lm -lc
    perllibs=-lpthread -lsocket -lnsl -ldl -lm -lc
    libc=/lib/libc.so
    so=so
    useshrplib=true
    libperl=libperl.so
    gnulibc_version=''
  Dynamic Linking:
    dlsrc=dl_dlopen.xs
    dlext=so
    d_dlsymun=undef
    ccdlflags='  -R /export/home/cpan/bin/perl/lib/5.41.10/i86pc-solaris-64/CORE'
    cccdlflags='-fPIC'
    lddlflags=' -shared -m64 -L/usr/gnu/lib -fstack-protector-strong'


Characteristics of this binary (from libperl): 
  Compile-time options:
    HAS_LONG_DOUBLE
    HAS_STRTOLD
    HAS_TIMES
    PERLIO_LAYERS
    PERL_COPY_ON_WRITE
    PERL_DONT_CREATE_GVSV
    PERL_HASH_FUNC_SIPHASH13
    PERL_HASH_USE_SBOX32
    PERL_MALLOC_WRAP
    PERL_OP_PARENT
    PERL_PRESERVE_IVUV
    PERL_USE_DEVEL
    PERL_USE_SAFE_PUTENV
    USE_64_BIT_ALL
    USE_64_BIT_INT
    USE_LARGE_FILES
    USE_LOCALE
    USE_LOCALE_COLLATE
    USE_LOCALE_CTYPE
    USE_LOCALE_NUMERIC
    USE_LOCALE_TIME
    USE_PERLIO
    USE_PERL_ATOF
  Built under solaris
  Compiled at Mar 17 2025 22:30:45
  %ENV:
    PERL5LIB=""
    PERL5OPT=""
    PERL5_CPANPLUS_IS_RUNNING="15085"
    PERL5_CPAN_IS_RUNNING="15085"
    PERL_MM_USE_DEFAULT="1"
    PERL_USE_UNSAFE_INC="1"
  @INC:
    /export/home/cpan/bin/perl/lib/site_perl/5.41.10/i86pc-solaris-64
    /export/home/cpan/bin/perl/lib/site_perl/5.41.10
    /export/home/cpan/bin/perl/lib/5.41.10/i86pc-solaris-64
    /export/home/cpan/bin/perl/lib/5.41.10
    .