Report for Git-DescribeVersion-1.000010

Back
From: metabase:user:e3434da8-b236-11df-85ca-0247c6d74bde
Subject: PASS Git-DescribeVersion-1.000010 v5.8.9 GNU/Linux
Date: 2010-12-10T03:18:34Z

This distribution has been tested as part of the CPAN Testers
project, supporting the Perl programming language.  See
http://wiki.cpantesters.org/ for more information or email
questions to cpan-testers-discuss@perl.org


--
Dear Randy Stauner,

This is a computer-generated report for Git-DescribeVersion-1.000010
on perl 5.8.9, created by CPAN-Reporter-1.18_06.

Thank you for uploading your work to CPAN.  Congratulations!
All tests were successful.

Sections of this report:

    * Tester comments
    * Program output
    * Prerequisites
    * Environment and other context

------------------------------
TESTER COMMENTS
------------------------------

Additional comments from tester:

this report is from an automated smoke testing program
and was not reviewed by a human for accuracy

------------------------------
PROGRAM OUTPUT
------------------------------

Output from '/usr/bin/make test':

PERL_DL_NONLAZY=1 /home/tester/vers/perl-5.8.9/bin/perl "-MExtUtils::Command::MM" "-e" "test_harness(0, 'blib/lib', 'blib/arch')" t/*.t
t/00-compile.t ............... ok
t/app.t ...................... skipped: Test::Output required for testing STDOUT
t/author-wrappers.t .......... skipped: these tests are for testing by the author
t/count-objects.t ............ ok
t/describe.t ................. ok
# warning expected:
Version could not be determined.
# warning expected:
Version could not be determined.
# warning expected:
Version could not be determined.
# warning expected:
Version 'vx.y' not a valid version string.
Invalid version format (dotted-decimal versions require at least three parts)
# warning expected:
Version 'vx.y' not a valid version string.
Invalid version format (dotted-decimal versions require at least three parts)
# warning expected:
Version 'vx.y' not a valid version string.
Invalid version format (dotted-decimal versions require at least three parts)
# warning expected:
Version 'v .201' not a valid version string.
Invalid version format (dotted-decimal versions require at least three parts)
# warning expected:
Version 'v .201' not a valid version string.
Invalid version format (dotted-decimal versions require at least three parts)
# warning expected:
Version 'v .201' not a valid version string.
Invalid version format (dotted-decimal versions require at least three parts)
# warning expected:
Version 'v4.ppp' not a valid version string.
Invalid version format (non-numeric data)
# warning expected:
Version 'v4.ppp' not a valid version string.
Invalid version format (non-numeric data)
# warning expected:
Version 'v4.ppp' not a valid version string.
Invalid version format (non-numeric data)
t/parse_version.t ............ ok
t/release-distmeta.t ......... skipped: these tests are for release candidate testing
t/release-kwalitee.t ......... skipped: these tests are for release candidate testing
t/release-minimum-version.t .. skipped: these tests are for release candidate testing
t/release-pod-coverage.t ..... skipped: these tests are for release candidate testing
t/release-pod-spell.t ........ skipped: these tests are for release candidate testing
t/release-pod-syntax.t ....... skipped: these tests are for release candidate testing
t/release-portability.t ...... skipped: these tests are for release candidate testing
t/wrappers.t ................. ok
All tests successful.
Files=14, Tests=1098,  1 wallclock secs ( 0.19 usr  0.03 sys +  0.66 cusr  0.14 csys =  1.02 CPU)
Result: PASS

------------------------------
PREREQUISITES
------------------------------

Prerequisite modules loaded:

requires:

    Module                    Need  Have    
    ------------------------- ----- --------
    perl                      5.006 5.008009
    version                   0.77  0.86    

build_requires:

    Module                    Need  Have    
    ------------------------- ----- --------
    Exporter                  0     5.63    
    File::Find                0     1.13    
    File::Temp                0     0.22    
    FindBin                   0     1.49    
    Test::MockObject          0     1.09    
    Test::MockObject::Extends 1.09  1.09    
    Test::More                0.96  0.96    

configure_requires:

    Module                    Need  Have    
    ------------------------- ----- --------
    ExtUtils::MakeMaker       6.31  6.56    


------------------------------
ENVIRONMENT AND OTHER CONTEXT
------------------------------

Environment variables:

    AUTOMATED_TESTING = 1
    LANG = en_US.utf8
    PATH = /home/tester/perl5/perlbrew/bin:/home/tester/perl5/perlbrew/perls/current/bin:/home/tester/perl5/perlbrew/bin:/home/tester/perl5/perlbrew/perls/current/bin:/usr/lib64/qt-3.3/bin:/usr/lib64/ccache:/usr/local/bin:/bin:/usr/bin:/usr/local/sbin:/usr/sbin:/sbin:/home/tester/bin
    PERL5LIB = /home/tester/cpan/perl-5.8.9/.cpan/build/Test-MockObject-1.09-kzN0jI/blib/arch:/home/tester/cpan/perl-5.8.9/.cpan/build/Test-MockObject-1.09-kzN0jI/blib/lib:/home/tester/cpan/perl-5.8.9/.cpan/build/UNIVERSAL-can-1.16-638_6I/blib/arch:/home/tester/cpan/perl-5.8.9/.cpan/build/UNIVERSAL-can-1.16-638_6I/blib/lib:/home/tester/cpan/perl-5.8.9/.cpan/build/UNIVERSAL-isa-1.03-tEfBSy/blib/arch:/home/tester/cpan/perl-5.8.9/.cpan/build/UNIVERSAL-isa-1.03-tEfBSy/blib/lib
    PERL5OPT = 
    PERL5_CPANPLUS_IS_RUNNING = 19119
    PERL5_CPAN_IS_RUNNING = 19119
    PERL5_MINISMOKEBOX = 0.38
    PERL_EXTUTILS_AUTOINSTALL = --defaultdeps
    PERL_MM_USE_DEFAULT = 1
    SHELL = /bin/bash
    TERM = screen

Perl special variables (and OS-specific diagnostics, for MSWin32):

    $^X = /home/tester/vers/perl-5.8.9/bin/perl
    $UID/$EUID = 501 / 501
    $GID = 501 501
    $EGID = 501 501

Perl module toolchain versions installed:

    Module              Have  
    ------------------- ------
    CPAN                1.9301
    Cwd                 3.33  
    ExtUtils::CBuilder  0.2703
    ExtUtils::Command   1.16  
    ExtUtils::Install   1.54  
    ExtUtils::MakeMaker 6.56  
    ExtUtils::Manifest  1.58  
    ExtUtils::ParseXS   2.2206
    File::Spec          3.33  
    Module::Build       0.3607
    Module::Signature   n/a   
    Test::Harness       3.22  
    Test::More          0.96  
    YAML                0.72  
    YAML::Syck          1.17  
    version             0.86  


--

Summary of my perl5 (revision 5 version 8 subversion 9) configuration:
  Platform:
    osname=linux, osvers=2.6.35.6-48.fc14.x86_64, archname=x86_64-linux-thread-multi
    uname='linux firenze.localhost 2.6.35.6-48.fc14.x86_64 #1 smp fri oct 22 15:36:08 utc 2010 x86_64 x86_64 x86_64 gnulinux '
    config_args='-des -Dprefix=/home/tester/vers/perl-5.8.9 -Dusethreads -Duse64bitint'
    hint=recommended, useposix=true, d_sigaction=define
    usethreads=define use5005threads=undef useithreads=define usemultiplicity=define
    useperlio=define d_sfio=undef uselargefiles=define usesocks=undef
    use64bitint=define use64bitall=define uselongdouble=undef
    usemymalloc=n, bincompat5005=undef
  Compiler:
    cc='cc', ccflags ='-D_REENTRANT -D_GNU_SOURCE -DTHREADS_HAVE_PIDS -fno-strict-aliasing -pipe -I/usr/local/include -D_LARGEFILE_SOURCE -D_FILE_OFFSET_BITS=64 -I/usr/include/gdbm',
    optimize='-O2',
    cppflags='-D_REENTRANT -D_GNU_SOURCE -DTHREADS_HAVE_PIDS -fno-strict-aliasing -pipe -I/usr/local/include -I/usr/include/gdbm'
    ccversion='', gccversion='4.5.1 20100924 (Red Hat 4.5.1-4)', gccosandvers=''
    intsize=4, longsize=8, ptrsize=8, doublesize=8, byteorder=12345678
    d_longlong=define, longlongsize=8, d_longdbl=define, longdblsize=16
    ivtype='long', ivsize=8, nvtype='double', nvsize=8, Off_t='off_t', lseeksize=8
    alignbytes=8, prototype=define
  Linker and Libraries:
    ld='cc', ldflags =' -L/usr/local/lib'
    libpth=/usr/local/lib /lib /usr/lib /lib64 /usr/lib64 /usr/local/lib64
    libs=-lnsl -lgdbm -ldb -ldl -lm -lcrypt -lutil -lpthread -lc
    perllibs=-lnsl -ldl -lm -lcrypt -lutil -lpthread -lc
    libc=, so=so, useshrplib=false, libperl=libperl.a
    gnulibc_version='2.12.90'
  Dynamic Linking:
    dlsrc=dl_dlopen.xs, dlext=so, d_dlsymun=undef, ccdlflags='-Wl,-E'
    cccdlflags='-fPIC', lddlflags='-shared -O2 -L/usr/local/lib'


Characteristics of this binary (from libperl): 
  Compile-time options: MULTIPLICITY PERL_IMPLICIT_CONTEXT PERL_MALLOC_WRAP
                        THREADS_HAVE_PIDS USE_64_BIT_ALL USE_64_BIT_INT
                        USE_FAST_STDIO USE_ITHREADS USE_LARGE_FILES
                        USE_PERLIO USE_REENTRANT_API
  Built under linux
  Compiled at Nov 30 2010 22:21:16
  %ENV:
    PERL5LIB="/home/tester/cpan/perl-5.8.9/.cpan/build/Test-MockObject-1.09-kzN0jI/blib/arch:/home/tester/cpan/perl-5.8.9/.cpan/build/Test-MockObject-1.09-kzN0jI/blib/lib:/home/tester/cpan/perl-5.8.9/.cpan/build/UNIVERSAL-can-1.16-638_6I/blib/arch:/home/tester/cpan/perl-5.8.9/.cpan/build/UNIVERSAL-can-1.16-638_6I/blib/lib:/home/tester/cpan/perl-5.8.9/.cpan/build/UNIVERSAL-isa-1.03-tEfBSy/blib/arch:/home/tester/cpan/perl-5.8.9/.cpan/build/UNIVERSAL-isa-1.03-tEfBSy/blib/lib"
    PERL5OPT=""
    PERL5_CPANPLUS_IS_RUNNING="19119"
    PERL5_CPAN_IS_RUNNING="19119"
    PERL5_MINISMOKEBOX="0.38"
    PERL_EXTUTILS_AUTOINSTALL="--defaultdeps"
    PERL_MM_USE_DEFAULT="1"
  @INC:
    /home/tester/cpan/perl-5.8.9/.cpan/build/Test-MockObject-1.09-kzN0jI/blib/arch
    /home/tester/cpan/perl-5.8.9/.cpan/build/Test-MockObject-1.09-kzN0jI/blib/lib
    /home/tester/cpan/perl-5.8.9/.cpan/build/UNIVERSAL-can-1.16-638_6I/blib/arch
    /home/tester/cpan/perl-5.8.9/.cpan/build/UNIVERSAL-can-1.16-638_6I/blib/lib
    /home/tester/cpan/perl-5.8.9/.cpan/build/UNIVERSAL-isa-1.03-tEfBSy/blib/arch
    /home/tester/cpan/perl-5.8.9/.cpan/build/UNIVERSAL-isa-1.03-tEfBSy/blib/lib
    /home/tester/vers/perl-5.8.9/lib/5.8.9/x86_64-linux-thread-multi
    /home/tester/vers/perl-5.8.9/lib/5.8.9
    /home/tester/vers/perl-5.8.9/lib/site_perl/5.8.9/x86_64-linux-thread-multi
    /home/tester/vers/perl-5.8.9/lib/site_perl/5.8.9
    .