Syntax-Keyword-Try v0.30 Perl 5 v5.20.3 darwin-2level
- Status
- Pass
- From
- Stanislaw Pusep
- Dist
-
Syntax-Keyword-Try v0.30
- Platform
- Perl 5 v5.20.3 darwin-2level
- Date
- 2025-05-11 17:05:42
- ID
- 2bea20b0-2e8a-11f0-92b7-a19ebda2f7ad
This distribution has been tested as part of the CPAN Testers
project, supporting the Perl programming language. See
http://wiki.cpantesters.org/ for more information or email
questions to cpan-testers-discuss@perl.org
--
Dear PEVANS,
This is a computer-generated report for Syntax-Keyword-Try-0.30
on perl 5.20.3, created by App::cpanminus::reporter 0.22 (1.7047).
Thank you for uploading your work to CPAN. Congratulations!
All tests were successful.
Sections of this report:
* Tester comments
* Program output
* Prerequisites
* Environment and other context
------------------------------
TESTER COMMENTS
------------------------------
Additional comments from tester:
none provided
------------------------------
PROGRAM OUTPUT
------------------------------
Output from '':
Building and testing Syntax-Keyword-Try-0.30
Building Syntax-Keyword-Try
cc -I/Users/stan/perl5/perlbrew/perls/perl-5.20.3/lib/5.20.3/darwin-2level/CORE -DVERSION="0.30" -DXS_VERSION="0.30" -Ihax -I/Users/stan/perl5/perlbrew/perls/perl-5.20.3/lib/site_perl/5.20.3/darwin-2level/auto/share/module/XS-Parse-Keyword/include -c -fno-common -DPERL_DARWIN -mmacosx-version-min=12.2 -fno-strict-aliasing -pipe -fstack-protector -I/usr/local/include -DPERL_USE_SAFE_PUTENV -Wno-error=implicit-function-declaration -O3 -o lib/Syntax/Keyword/Try.o lib/Syntax/Keyword/Try.c
In file included from lib/Syntax/Keyword/Try.xs:7:
In file included from /Users/stan/perl5/perlbrew/perls/perl-5.20.3/lib/5.20.3/darwin-2level/CORE/perl.h:3344:
In file included from /Users/stan/perl5/perlbrew/perls/perl-5.20.3/lib/5.20.3/darwin-2level/CORE/hv.h:629:
/Users/stan/perl5/perlbrew/perls/perl-5.20.3/lib/5.20.3/darwin-2level/CORE/hv_func.h:393:7: warning: '(' and '{' tokens introducing statement expression appear in different macro expansion contexts [-Wcompound-token-split-by-macro]
MURMUR_DOBYTES((int)i, h1, carry, bytes_in_carry, ptr, len);
^~~~~~~~~~~~~~~~~~~~~~~~~~~~~~~~~~~~~~~~~~~~~~~~~~~~~~~~~~~
/Users/stan/perl5/perlbrew/perls/perl-5.20.3/lib/5.20.3/darwin-2level/CORE/hv_func.h:348:49: note: expanded from macro 'MURMUR_DOBYTES'
#define MURMUR_DOBYTES(cnt, h1, c, n, ptr, len) STMT_START { \
^~~~~~~~~~
/Users/stan/perl5/perlbrew/perls/perl-5.20.3/lib/5.20.3/darwin-2level/CORE/perl.h:511:29: note: expanded from macro 'STMT_START'
# define STMT_START (void)( /* gcc supports "({ STATEMENTS; })" */
^
/Users/stan/perl5/perlbrew/perls/perl-5.20.3/lib/5.20.3/darwin-2level/CORE/hv_func.h:393:7: note: '{' token is here
MURMUR_DOBYTES((int)i, h1, carry, bytes_in_carry, ptr, len);
^~~~~~~~~~~~~~~~~~~~~~~~~~~~~~~~~~~~~~~~~~~~~~~~~~~~~~~~~~~
/Users/stan/perl5/perlbrew/perls/perl-5.20.3/lib/5.20.3/darwin-2level/CORE/hv_func.h:348:60: note: expanded from macro 'MURMUR_DOBYTES'
#define MURMUR_DOBYTES(cnt, h1, c, n, ptr, len) STMT_START { \
^
/Users/stan/perl5/perlbrew/perls/perl-5.20.3/lib/5.20.3/darwin-2level/CORE/hv_func.h:393:7: warning: '(' and '{' tokens introducing statement expression appear in different macro expansion contexts [-Wcompound-token-split-by-macro]
MURMUR_DOBYTES((int)i, h1, carry, bytes_in_carry, ptr, len);
^~~~~~~~~~~~~~~~~~~~~~~~~~~~~~~~~~~~~~~~~~~~~~~~~~~~~~~~~~~
/Users/stan/perl5/perlbrew/perls/perl-5.20.3/lib/5.20.3/darwin-2level/CORE/hv_func.h:354:13: note: expanded from macro 'MURMUR_DOBYTES'
MURMUR_DOBLOCK(h1, c); \
^~~~~~~~~~~~~~~~~~~~~
/Users/stan/perl5/perlbrew/perls/perl-5.20.3/lib/5.20.3/darwin-2level/CORE/hv_func.h:335:32: note: expanded from macro 'MURMUR_DOBLOCK'
#define MURMUR_DOBLOCK(h1, k1) STMT_START { \
^~~~~~~~~~
/Users/stan/perl5/perlbrew/perls/perl-5.20.3/lib/5.20.3/darwin-2level/CORE/perl.h:511:29: note: expanded from macro 'STMT_START'
# define STMT_START (void)( /* gcc supports "({ STATEMENTS; })" */
^
/Users/stan/perl5/perlbrew/perls/perl-5.20.3/lib/5.20.3/darwin-2level/CORE/hv_func.h:393:7: note: '{' token is here
MURMUR_DOBYTES((int)i, h1, carry, bytes_in_carry, ptr, len);
^~~~~~~~~~~~~~~~~~~~~~~~~~~~~~~~~~~~~~~~~~~~~~~~~~~~~~~~~~~
/Users/stan/perl5/perlbrew/perls/perl-5.20.3/lib/5.20.3/darwin-2level/CORE/hv_func.h:354:13: note: expanded from macro 'MURMUR_DOBYTES'
MURMUR_DOBLOCK(h1, c); \
^~~~~~~~~~~~~~~~~~~~~
/Users/stan/perl5/perlbrew/perls/perl-5.20.3/lib/5.20.3/darwin-2level/CORE/hv_func.h:335:43: note: expanded from macro 'MURMUR_DOBLOCK'
#define MURMUR_DOBLOCK(h1, k1) STMT_START { \
^
/Users/stan/perl5/perlbrew/perls/perl-5.20.3/lib/5.20.3/darwin-2level/CORE/hv_func.h:393:7: warning: '}' and ')' tokens terminating statement expression appear in different macro expansion contexts [-Wcompound-token-split-by-macro]
MURMUR_DOBYTES((int)i, h1, carry, bytes_in_carry, ptr, len);
^~~~~~~~~~~~~~~~~~~~~~~~~~~~~~~~~~~~~~~~~~~~~~~~~~~~~~~~~~~
/Users/stan/perl5/perlbrew/perls/perl-5.20.3/lib/5.20.3/darwin-2level/CORE/hv_func.h:354:13: note: expanded from macro 'MURMUR_DOBYTES'
MURMUR_DOBLOCK(h1, c); \
^~~~~~~~~~~~~~~~~~~~~
/Users/stan/perl5/perlbrew/perls/perl-5.20.3/lib/5.20.3/darwin-2level/CORE/hv_func.h:342:30: note: expanded from macro 'MURMUR_DOBLOCK'
h1 = h1 * 5 + MURMUR_C3; \
^
/Users/stan/perl5/perlbrew/perls/perl-5.20.3/lib/5.20.3/darwin-2level/CORE/hv_func.h:393:7: note: ')' token is here
MURMUR_DOBYTES((int)i, h1, carry, bytes_in_carry, ptr, len);
^~~~~~~~~~~~~~~~~~~~~~~~~~~~~~~~~~~~~~~~~~~~~~~~~~~~~~~~~~~
/Users/stan/perl5/perlbrew/perls/perl-5.20.3/lib/5.20.3/darwin-2level/CORE/hv_func.h:354:13: note: expanded from macro 'MURMUR_DOBYTES'
MURMUR_DOBLOCK(h1, c); \
^~~~~~~~~~~~~~~~~~~~~
/Users/stan/perl5/perlbrew/perls/perl-5.20.3/lib/5.20.3/darwin-2level/CORE/hv_func.h:343:3: note: expanded from macro 'MURMUR_DOBLOCK'
} STMT_END
^~~~~~~~
/Users/stan/perl5/perlbrew/perls/perl-5.20.3/lib/5.20.3/darwin-2level/CORE/perl.h:512:21: note: expanded from macro 'STMT_END'
# define STMT_END )
^
In file included from lib/Syntax/Keyword/Try.xs:7:
In file included from /Users/stan/perl5/perlbrew/perls/perl-5.20.3/lib/5.20.3/darwin-2level/CORE/perl.h:3344:
In file included from /Users/stan/perl5/perlbrew/perls/perl-5.20.3/lib/5.20.3/darwin-2level/CORE/hv.h:629:
/Users/stan/perl5/perlbrew/perls/perl-5.20.3/lib/5.20.3/darwin-2level/CORE/hv_func.h:393:7: warning: '}' and ')' tokens terminating statement expression appear in different macro expansion contexts [-Wcompound-token-split-by-macro]
MURMUR_DOBYTES((int)i, h1, carry, bytes_in_carry, ptr, len);
^~~~~~~~~~~~~~~~~~~~~~~~~~~~~~~~~~~~~~~~~~~~~~~~~~~~~~~~~~~
/Users/stan/perl5/perlbrew/perls/perl-5.20.3/lib/5.20.3/darwin-2level/CORE/hv_func.h:357:7: note: expanded from macro 'MURMUR_DOBYTES'
} \
^
/Users/stan/perl5/perlbrew/perls/perl-5.20.3/lib/5.20.3/darwin-2level/CORE/hv_func.h:393:7: note: ')' token is here
MURMUR_DOBYTES((int)i, h1, carry, bytes_in_carry, ptr, len);
^~~~~~~~~~~~~~~~~~~~~~~~~~~~~~~~~~~~~~~~~~~~~~~~~~~~~~~~~~~
/Users/stan/perl5/perlbrew/perls/perl-5.20.3/lib/5.20.3/darwin-2level/CORE/hv_func.h:358:3: note: expanded from macro 'MURMUR_DOBYTES'
} STMT_END
^~~~~~~~
/Users/stan/perl5/perlbrew/perls/perl-5.20.3/lib/5.20.3/darwin-2level/CORE/perl.h:512:21: note: expanded from macro 'STMT_END'
# define STMT_END )
^
In file included from lib/Syntax/Keyword/Try.xs:7:
In file included from /Users/stan/perl5/perlbrew/perls/perl-5.20.3/lib/5.20.3/darwin-2level/CORE/perl.h:3344:
In file included from /Users/stan/perl5/perlbrew/perls/perl-5.20.3/lib/5.20.3/darwin-2level/CORE/hv.h:629:
/Users/stan/perl5/perlbrew/perls/perl-5.20.3/lib/5.20.3/darwin-2level/CORE/hv_func.h:402:13: warning: '(' and '{' tokens introducing statement expression appear in different macro expansion contexts [-Wcompound-token-split-by-macro]
MURMUR_DOBLOCK(h1, k1);
^~~~~~~~~~~~~~~~~~~~~~
/Users/stan/perl5/perlbrew/perls/perl-5.20.3/lib/5.20.3/darwin-2level/CORE/hv_func.h:335:32: note: expanded from macro 'MURMUR_DOBLOCK'
#define MURMUR_DOBLOCK(h1, k1) STMT_START { \
^~~~~~~~~~
/Users/stan/perl5/perlbrew/perls/perl-5.20.3/lib/5.20.3/darwin-2level/CORE/perl.h:511:29: note: expanded from macro 'STMT_START'
# define STMT_START (void)( /* gcc supports "({ STATEMENTS; })" */
^
/Users/stan/perl5/perlbrew/perls/perl-5.20.3/lib/5.20.3/darwin-2level/CORE/hv_func.h:402:13: note: '{' token is here
MURMUR_DOBLOCK(h1, k1);
^~~~~~~~~~~~~~~~~~~~~~
/Users/stan/perl5/perlbrew/perls/perl-5.20.3/lib/5.20.3/darwin-2level/CORE/hv_func.h:335:43: note: expanded from macro 'MURMUR_DOBLOCK'
#define MURMUR_DOBLOCK(h1, k1) STMT_START { \
^
/Users/stan/perl5/perlbrew/perls/perl-5.20.3/lib/5.20.3/darwin-2level/CORE/hv_func.h:402:13: warning: '}' and ')' tokens terminating statement expression appear in different macro expansion contexts [-Wcompound-token-split-by-macro]
MURMUR_DOBLOCK(h1, k1);
^~~~~~~~~~~~~~~~~~~~~~
/Users/stan/perl5/perlbrew/perls/perl-5.20.3/lib/5.20.3/darwin-2level/CORE/hv_func.h:342:30: note: expanded from macro 'MURMUR_DOBLOCK'
h1 = h1 * 5 + MURMUR_C3; \
^
/Users/stan/perl5/perlbrew/perls/perl-5.20.3/lib/5.20.3/darwin-2level/CORE/hv_func.h:402:13: note: ')' token is here
MURMUR_DOBLOCK(h1, k1);
^~~~~~~~~~~~~~~~~~~~~~
/Users/stan/perl5/perlbrew/perls/perl-5.20.3/lib/5.20.3/darwin-2level/CORE/hv_func.h:343:3: note: expanded from macro 'MURMUR_DOBLOCK'
} STMT_END
^~~~~~~~
/Users/stan/perl5/perlbrew/perls/perl-5.20.3/lib/5.20.3/darwin-2level/CORE/perl.h:512:21: note: expanded from macro 'STMT_END'
# define STMT_END )
^
In file included from lib/Syntax/Keyword/Try.xs:7:
In file included from /Users/stan/perl5/perlbrew/perls/perl-5.20.3/lib/5.20.3/darwin-2level/CORE/perl.h:3344:
In file included from /Users/stan/perl5/perlbrew/perls/perl-5.20.3/lib/5.20.3/darwin-2level/CORE/hv.h:629:
/Users/stan/perl5/perlbrew/perls/perl-5.20.3/lib/5.20.3/darwin-2level/CORE/hv_func.h:410:13: warning: '(' and '{' tokens introducing statement expression appear in different macro expansion contexts [-Wcompound-token-split-by-macro]
MURMUR_DOBLOCK(h1, k1);
^~~~~~~~~~~~~~~~~~~~~~
/Users/stan/perl5/perlbrew/perls/perl-5.20.3/lib/5.20.3/darwin-2level/CORE/hv_func.h:335:32: note: expanded from macro 'MURMUR_DOBLOCK'
#define MURMUR_DOBLOCK(h1, k1) STMT_START { \
^~~~~~~~~~
/Users/stan/perl5/perlbrew/perls/perl-5.20.3/lib/5.20.3/darwin-2level/CORE/perl.h:511:29: note: expanded from macro 'STMT_START'
# define STMT_START (void)( /* gcc supports "({ STATEMENTS; })" */
^
/Users/stan/perl5/perlbrew/perls/perl-5.20.3/lib/5.20.3/darwin-2level/CORE/hv_func.h:410:13: note: '{' token is here
MURMUR_DOBLOCK(h1, k1);
^~~~~~~~~~~~~~~~~~~~~~
/Users/stan/perl5/perlbrew/perls/perl-5.20.3/lib/5.20.3/darwin-2level/CORE/hv_func.h:335:43: note: expanded from macro 'MURMUR_DOBLOCK'
#define MURMUR_DOBLOCK(h1, k1) STMT_START { \
^
/Users/stan/perl5/perlbrew/perls/perl-5.20.3/lib/5.20.3/darwin-2level/CORE/hv_func.h:410:13: warning: '}' and ')' tokens terminating statement expression appear in different macro expansion contexts [-Wcompound-token-split-by-macro]
MURMUR_DOBLOCK(h1, k1);
^~~~~~~~~~~~~~~~~~~~~~
/Users/stan/perl5/perlbrew/perls/perl-5.20.3/lib/5.20.3/darwin-2level/CORE/hv_func.h:342:30: note: expanded from macro 'MURMUR_DOBLOCK'
h1 = h1 * 5 + MURMUR_C3; \
^
/Users/stan/perl5/perlbrew/perls/perl-5.20.3/lib/5.20.3/darwin-2level/CORE/hv_func.h:410:13: note: ')' token is here
MURMUR_DOBLOCK(h1, k1);
^~~~~~~~~~~~~~~~~~~~~~
/Users/stan/perl5/perlbrew/perls/perl-5.20.3/lib/5.20.3/darwin-2level/CORE/hv_func.h:343:3: note: expanded from macro 'MURMUR_DOBLOCK'
} STMT_END
^~~~~~~~
/Users/stan/perl5/perlbrew/perls/perl-5.20.3/lib/5.20.3/darwin-2level/CORE/perl.h:512:21: note: expanded from macro 'STMT_END'
# define STMT_END )
^
In file included from lib/Syntax/Keyword/Try.xs:7:
In file included from /Users/stan/perl5/perlbrew/perls/perl-5.20.3/lib/5.20.3/darwin-2level/CORE/perl.h:3344:
In file included from /Users/stan/perl5/perlbrew/perls/perl-5.20.3/lib/5.20.3/darwin-2level/CORE/hv.h:629:
/Users/stan/perl5/perlbrew/perls/perl-5.20.3/lib/5.20.3/darwin-2level/CORE/hv_func.h:418:13: warning: '(' and '{' tokens introducing statement expression appear in different macro expansion contexts [-Wcompound-token-split-by-macro]
MURMUR_DOBLOCK(h1, k1);
^~~~~~~~~~~~~~~~~~~~~~
/Users/stan/perl5/perlbrew/perls/perl-5.20.3/lib/5.20.3/darwin-2level/CORE/hv_func.h:335:32: note: expanded from macro 'MURMUR_DOBLOCK'
#define MURMUR_DOBLOCK(h1, k1) STMT_START { \
^~~~~~~~~~
/Users/stan/perl5/perlbrew/perls/perl-5.20.3/lib/5.20.3/darwin-2level/CORE/perl.h:511:29: note: expanded from macro 'STMT_START'
# define STMT_START (void)( /* gcc supports "({ STATEMENTS; })" */
^
/Users/stan/perl5/perlbrew/perls/perl-5.20.3/lib/5.20.3/darwin-2level/CORE/hv_func.h:418:13: note: '{' token is here
MURMUR_DOBLOCK(h1, k1);
^~~~~~~~~~~~~~~~~~~~~~
/Users/stan/perl5/perlbrew/perls/perl-5.20.3/lib/5.20.3/darwin-2level/CORE/hv_func.h:335:43: note: expanded from macro 'MURMUR_DOBLOCK'
#define MURMUR_DOBLOCK(h1, k1) STMT_START { \
^
/Users/stan/perl5/perlbrew/perls/perl-5.20.3/lib/5.20.3/darwin-2level/CORE/hv_func.h:418:13: warning: '}' and ')' tokens terminating statement expression appear in different macro expansion contexts [-Wcompound-token-split-by-macro]
MURMUR_DOBLOCK(h1, k1);
^~~~~~~~~~~~~~~~~~~~~~
/Users/stan/perl5/perlbrew/perls/perl-5.20.3/lib/5.20.3/darwin-2level/CORE/hv_func.h:342:30: note: expanded from macro 'MURMUR_DOBLOCK'
h1 = h1 * 5 + MURMUR_C3; \
^
/Users/stan/perl5/perlbrew/perls/perl-5.20.3/lib/5.20.3/darwin-2level/CORE/hv_func.h:418:13: note: ')' token is here
MURMUR_DOBLOCK(h1, k1);
^~~~~~~~~~~~~~~~~~~~~~
/Users/stan/perl5/perlbrew/perls/perl-5.20.3/lib/5.20.3/darwin-2level/CORE/hv_func.h:343:3: note: expanded from macro 'MURMUR_DOBLOCK'
} STMT_END
^~~~~~~~
/Users/stan/perl5/perlbrew/perls/perl-5.20.3/lib/5.20.3/darwin-2level/CORE/perl.h:512:21: note: expanded from macro 'STMT_END'
# define STMT_END )
^
In file included from lib/Syntax/Keyword/Try.xs:7:
In file included from /Users/stan/perl5/perlbrew/perls/perl-5.20.3/lib/5.20.3/darwin-2level/CORE/perl.h:3344:
In file included from /Users/stan/perl5/perlbrew/perls/perl-5.20.3/lib/5.20.3/darwin-2level/CORE/hv.h:629:
/Users/stan/perl5/perlbrew/perls/perl-5.20.3/lib/5.20.3/darwin-2level/CORE/hv_func.h:426:13: warning: '(' and '{' tokens introducing statement expression appear in different macro expansion contexts [-Wcompound-token-split-by-macro]
MURMUR_DOBLOCK(h1, k1);
^~~~~~~~~~~~~~~~~~~~~~
/Users/stan/perl5/perlbrew/perls/perl-5.20.3/lib/5.20.3/darwin-2level/CORE/hv_func.h:335:32: note: expanded from macro 'MURMUR_DOBLOCK'
#define MURMUR_DOBLOCK(h1, k1) STMT_START { \
^~~~~~~~~~
/Users/stan/perl5/perlbrew/perls/perl-5.20.3/lib/5.20.3/darwin-2level/CORE/perl.h:511:29: note: expanded from macro 'STMT_START'
# define STMT_START (void)( /* gcc supports "({ STATEMENTS; })" */
^
/Users/stan/perl5/perlbrew/perls/perl-5.20.3/lib/5.20.3/darwin-2level/CORE/hv_func.h:426:13: note: '{' token is here
MURMUR_DOBLOCK(h1, k1);
^~~~~~~~~~~~~~~~~~~~~~
/Users/stan/perl5/perlbrew/perls/perl-5.20.3/lib/5.20.3/darwin-2level/CORE/hv_func.h:335:43: note: expanded from macro 'MURMUR_DOBLOCK'
#define MURMUR_DOBLOCK(h1, k1) STMT_START { \
^
/Users/stan/perl5/perlbrew/perls/perl-5.20.3/lib/5.20.3/darwin-2level/CORE/hv_func.h:426:13: warning: '}' and ')' tokens terminating statement expression appear in different macro expansion contexts [-Wcompound-token-split-by-macro]
MURMUR_DOBLOCK(h1, k1);
^~~~~~~~~~~~~~~~~~~~~~
/Users/stan/perl5/perlbrew/perls/perl-5.20.3/lib/5.20.3/darwin-2level/CORE/hv_func.h:342:30: note: expanded from macro 'MURMUR_DOBLOCK'
h1 = h1 * 5 + MURMUR_C3; \
^
/Users/stan/perl5/perlbrew/perls/perl-5.20.3/lib/5.20.3/darwin-2level/CORE/hv_func.h:426:13: note: ')' token is here
MURMUR_DOBLOCK(h1, k1);
^~~~~~~~~~~~~~~~~~~~~~
/Users/stan/perl5/perlbrew/perls/perl-5.20.3/lib/5.20.3/darwin-2level/CORE/hv_func.h:343:3: note: expanded from macro 'MURMUR_DOBLOCK'
} STMT_END
^~~~~~~~
/Users/stan/perl5/perlbrew/perls/perl-5.20.3/lib/5.20.3/darwin-2level/CORE/perl.h:512:21: note: expanded from macro 'STMT_END'
# define STMT_END )
^
In file included from lib/Syntax/Keyword/Try.xs:7:
In file included from /Users/stan/perl5/perlbrew/perls/perl-5.20.3/lib/5.20.3/darwin-2level/CORE/perl.h:3344:
In file included from /Users/stan/perl5/perlbrew/perls/perl-5.20.3/lib/5.20.3/darwin-2level/CORE/hv.h:629:
/Users/stan/perl5/perlbrew/perls/perl-5.20.3/lib/5.20.3/darwin-2level/CORE/hv_func.h:434:5: warning: '(' and '{' tokens introducing statement expression appear in different macro expansion contexts [-Wcompound-token-split-by-macro]
MURMUR_DOBYTES((int)len, h1, carry, bytes_in_carry, ptr, len);
^~~~~~~~~~~~~~~~~~~~~~~~~~~~~~~~~~~~~~~~~~~~~~~~~~~~~~~~~~~~~
/Users/stan/perl5/perlbrew/perls/perl-5.20.3/lib/5.20.3/darwin-2level/CORE/hv_func.h:348:49: note: expanded from macro 'MURMUR_DOBYTES'
#define MURMUR_DOBYTES(cnt, h1, c, n, ptr, len) STMT_START { \
^~~~~~~~~~
/Users/stan/perl5/perlbrew/perls/perl-5.20.3/lib/5.20.3/darwin-2level/CORE/perl.h:511:29: note: expanded from macro 'STMT_START'
# define STMT_START (void)( /* gcc supports "({ STATEMENTS; })" */
^
/Users/stan/perl5/perlbrew/perls/perl-5.20.3/lib/5.20.3/darwin-2level/CORE/hv_func.h:434:5: note: '{' token is here
MURMUR_DOBYTES((int)len, h1, carry, bytes_in_carry, ptr, len);
^~~~~~~~~~~~~~~~~~~~~~~~~~~~~~~~~~~~~~~~~~~~~~~~~~~~~~~~~~~~~
/Users/stan/perl5/perlbrew/perls/perl-5.20.3/lib/5.20.3/darwin-2level/CORE/hv_func.h:348:60: note: expanded from macro 'MURMUR_DOBYTES'
#define MURMUR_DOBYTES(cnt, h1, c, n, ptr, len) STMT_START { \
^
/Users/stan/perl5/perlbrew/perls/perl-5.20.3/lib/5.20.3/darwin-2level/CORE/hv_func.h:434:5: warning: '(' and '{' tokens introducing statement expression appear in different macro expansion contexts [-Wcompound-token-split-by-macro]
MURMUR_DOBYTES((int)len, h1, carry, bytes_in_carry, ptr, len);
^~~~~~~~~~~~~~~~~~~~~~~~~~~~~~~~~~~~~~~~~~~~~~~~~~~~~~~~~~~~~
/Users/stan/perl5/perlbrew/perls/perl-5.20.3/lib/5.20.3/darwin-2level/CORE/hv_func.h:354:13: note: expanded from macro 'MURMUR_DOBYTES'
MURMUR_DOBLOCK(h1, c); \
^~~~~~~~~~~~~~~~~~~~~
/Users/stan/perl5/perlbrew/perls/perl-5.20.3/lib/5.20.3/darwin-2level/CORE/hv_func.h:335:32: note: expanded from macro 'MURMUR_DOBLOCK'
#define MURMUR_DOBLOCK(h1, k1) STMT_START { \
^~~~~~~~~~
/Users/stan/perl5/perlbrew/perls/perl-5.20.3/lib/5.20.3/darwin-2level/CORE/perl.h:511:29: note: expanded from macro 'STMT_START'
# define STMT_START (void)( /* gcc supports "({ STATEMENTS; })" */
^
/Users/stan/perl5/perlbrew/perls/perl-5.20.3/lib/5.20.3/darwin-2level/CORE/hv_func.h:434:5: note: '{' token is here
MURMUR_DOBYTES((int)len, h1, carry, bytes_in_carry, ptr, len);
^~~~~~~~~~~~~~~~~~~~~~~~~~~~~~~~~~~~~~~~~~~~~~~~~~~~~~~~~~~~~
/Users/stan/perl5/perlbrew/perls/perl-5.20.3/lib/5.20.3/darwin-2level/CORE/hv_func.h:354:13: note: expanded from macro 'MURMUR_DOBYTES'
MURMUR_DOBLOCK(h1, c); \
^~~~~~~~~~~~~~~~~~~~~
/Users/stan/perl5/perlbrew/perls/perl-5.20.3/lib/5.20.3/darwin-2level/CORE/hv_func.h:335:43: note: expanded from macro 'MURMUR_DOBLOCK'
#define MURMUR_DOBLOCK(h1, k1) STMT_START { \
^
/Users/stan/perl5/perlbrew/perls/perl-5.20.3/lib/5.20.3/darwin-2level/CORE/hv_func.h:434:5: warning: '}' and ')' tokens terminating statement expression appear in different macro expansion contexts [-Wcompound-token-split-by-macro]
MURMUR_DOBYTES((int)len, h1, carry, bytes_in_carry, ptr, len);
^~~~~~~~~~~~~~~~~~~~~~~~~~~~~~~~~~~~~~~~~~~~~~~~~~~~~~~~~~~~~
/Users/stan/perl5/perlbrew/perls/perl-5.20.3/lib/5.20.3/darwin-2level/CORE/hv_func.h:354:13: note: expanded from macro 'MURMUR_DOBYTES'
MURMUR_DOBLOCK(h1, c); \
^~~~~~~~~~~~~~~~~~~~~
/Users/stan/perl5/perlbrew/perls/perl-5.20.3/lib/5.20.3/darwin-2level/CORE/hv_func.h:342:30: note: expanded from macro 'MURMUR_DOBLOCK'
h1 = h1 * 5 + MURMUR_C3; \
^
/Users/stan/perl5/perlbrew/perls/perl-5.20.3/lib/5.20.3/darwin-2level/CORE/hv_func.h:434:5: note: ')' token is here
MURMUR_DOBYTES((int)len, h1, carry, bytes_in_carry, ptr, len);
^~~~~~~~~~~~~~~~~~~~~~~~~~~~~~~~~~~~~~~~~~~~~~~~~~~~~~~~~~~~~
/Users/stan/perl5/perlbrew/perls/perl-5.20.3/lib/5.20.3/darwin-2level/CORE/hv_func.h:354:13: note: expanded from macro 'MURMUR_DOBYTES'
MURMUR_DOBLOCK(h1, c); \
^~~~~~~~~~~~~~~~~~~~~
/Users/stan/perl5/perlbrew/perls/perl-5.20.3/lib/5.20.3/darwin-2level/CORE/hv_func.h:343:3: note: expanded from macro 'MURMUR_DOBLOCK'
} STMT_END
^~~~~~~~
/Users/stan/perl5/perlbrew/perls/perl-5.20.3/lib/5.20.3/darwin-2level/CORE/perl.h:512:21: note: expanded from macro 'STMT_END'
# define STMT_END )
^
In file included from lib/Syntax/Keyword/Try.xs:7:
In file included from /Users/stan/perl5/perlbrew/perls/perl-5.20.3/lib/5.20.3/darwin-2level/CORE/perl.h:3344:
In file included from /Users/stan/perl5/perlbrew/perls/perl-5.20.3/lib/5.20.3/darwin-2level/CORE/hv.h:629:
/Users/stan/perl5/perlbrew/perls/perl-5.20.3/lib/5.20.3/darwin-2level/CORE/hv_func.h:434:5: warning: '}' and ')' tokens terminating statement expression appear in different macro expansion contexts [-Wcompound-token-split-by-macro]
MURMUR_DOBYTES((int)len, h1, carry, bytes_in_carry, ptr, len);
^~~~~~~~~~~~~~~~~~~~~~~~~~~~~~~~~~~~~~~~~~~~~~~~~~~~~~~~~~~~~
/Users/stan/perl5/perlbrew/perls/perl-5.20.3/lib/5.20.3/darwin-2level/CORE/hv_func.h:357:7: note: expanded from macro 'MURMUR_DOBYTES'
} \
^
/Users/stan/perl5/perlbrew/perls/perl-5.20.3/lib/5.20.3/darwin-2level/CORE/hv_func.h:434:5: note: ')' token is here
MURMUR_DOBYTES((int)len, h1, carry, bytes_in_carry, ptr, len);
^~~~~~~~~~~~~~~~~~~~~~~~~~~~~~~~~~~~~~~~~~~~~~~~~~~~~~~~~~~~~
/Users/stan/perl5/perlbrew/perls/perl-5.20.3/lib/5.20.3/darwin-2level/CORE/hv_func.h:358:3: note: expanded from macro 'MURMUR_DOBYTES'
} STMT_END
^~~~~~~~
/Users/stan/perl5/perlbrew/perls/perl-5.20.3/lib/5.20.3/darwin-2level/CORE/perl.h:512:21: note: expanded from macro 'STMT_END'
# define STMT_END )
^
In file included from lib/Syntax/Keyword/Try.xs:7:
In file included from /Users/stan/perl5/perlbrew/perls/perl-5.20.3/lib/5.20.3/darwin-2level/CORE/perl.h:5199:
/Users/stan/perl5/perlbrew/perls/perl-5.20.3/lib/5.20.3/darwin-2level/CORE/inline.h:311:9: warning: nonnull parameter 'pv' will evaluate to 'true' on first encounter [-Wpointer-bool-conversion]
if (pv && len > 1) {
^~ ~~
/Users/stan/perl5/perlbrew/perls/perl-5.20.3/lib/5.20.3/darwin-2level/CORE/proto.h:1791:4: note: declared 'nonnull' here
__attribute__nonnull__(pTHX_1)
^
/Users/stan/perl5/perlbrew/perls/perl-5.20.3/lib/5.20.3/darwin-2level/CORE/perl.h:3100:60: note: expanded from macro '__attribute__nonnull__'
# define __attribute__nonnull__(a) __attribute__((nonnull(a)))
^
In file included from lib/Syntax/Keyword/Try.xs:28:
hax/perl-additions.c.inc:76:3: warning: '(' and '{' tokens introducing statement expression appear in different macro expansion contexts [-Wcompound-token-split-by-macro]
PUSHMARK(SP);
^~~~~~~~~~~~
/Users/stan/perl5/perlbrew/perls/perl-5.20.3/lib/5.20.3/darwin-2level/CORE/pp.h:59:2: note: expanded from macro 'PUSHMARK'
STMT_START { \
^~~~~~~~~~
/Users/stan/perl5/perlbrew/perls/perl-5.20.3/lib/5.20.3/darwin-2level/CORE/perl.h:511:29: note: expanded from macro 'STMT_START'
# define STMT_START (void)( /* gcc supports "({ STATEMENTS; })" */
^
hax/perl-additions.c.inc:76:3: note: '{' token is here
PUSHMARK(SP);
^~~~~~~~~~~~
/Users/stan/perl5/perlbrew/perls/perl-5.20.3/lib/5.20.3/darwin-2level/CORE/pp.h:59:13: note: expanded from macro 'PUSHMARK'
STMT_START { \
^
In file included from lib/Syntax/Keyword/Try.xs:28:
hax/perl-additions.c.inc:76:3: warning: '}' and ')' tokens terminating statement expression appear in different macro expansion contexts [-Wcompound-token-split-by-macro]
PUSHMARK(SP);
^~~~~~~~~~~~
/Users/stan/perl5/perlbrew/perls/perl-5.20.3/lib/5.20.3/darwin-2level/CORE/pp.h:63:2: note: expanded from macro 'PUSHMARK'
} STMT_END
^
hax/perl-additions.c.inc:76:3: note: ')' token is here
PUSHMARK(SP);
^~~~~~~~~~~~
/Users/stan/perl5/perlbrew/perls/perl-5.20.3/lib/5.20.3/darwin-2level/CORE/pp.h:63:4: note: expanded from macro 'PUSHMARK'
} STMT_END
^~~~~~~~
/Users/stan/perl5/perlbrew/perls/perl-5.20.3/lib/5.20.3/darwin-2level/CORE/perl.h:512:21: note: expanded from macro 'STMT_END'
# define STMT_END )
^
In file included from lib/Syntax/Keyword/Try.xs:28:
hax/perl-additions.c.inc:94:3: warning: '(' and '{' tokens introducing statement expression appear in different macro expansion contexts [-Wcompound-token-split-by-macro]
PUSHMARK(SP);
^~~~~~~~~~~~
/Users/stan/perl5/perlbrew/perls/perl-5.20.3/lib/5.20.3/darwin-2level/CORE/pp.h:59:2: note: expanded from macro 'PUSHMARK'
STMT_START { \
^~~~~~~~~~
/Users/stan/perl5/perlbrew/perls/perl-5.20.3/lib/5.20.3/darwin-2level/CORE/perl.h:511:29: note: expanded from macro 'STMT_START'
# define STMT_START (void)( /* gcc supports "({ STATEMENTS; })" */
^
hax/perl-additions.c.inc:94:3: note: '{' token is here
PUSHMARK(SP);
^~~~~~~~~~~~
/Users/stan/perl5/perlbrew/perls/perl-5.20.3/lib/5.20.3/darwin-2level/CORE/pp.h:59:13: note: expanded from macro 'PUSHMARK'
STMT_START { \
^
In file included from lib/Syntax/Keyword/Try.xs:28:
hax/perl-additions.c.inc:94:3: warning: '}' and ')' tokens terminating statement expression appear in different macro expansion contexts [-Wcompound-token-split-by-macro]
PUSHMARK(SP);
^~~~~~~~~~~~
/Users/stan/perl5/perlbrew/perls/perl-5.20.3/lib/5.20.3/darwin-2level/CORE/pp.h:63:2: note: expanded from macro 'PUSHMARK'
} STMT_END
^
hax/perl-additions.c.inc:94:3: note: ')' token is here
PUSHMARK(SP);
^~~~~~~~~~~~
/Users/stan/perl5/perlbrew/perls/perl-5.20.3/lib/5.20.3/darwin-2level/CORE/pp.h:63:4: note: expanded from macro 'PUSHMARK'
} STMT_END
^~~~~~~~
/Users/stan/perl5/perlbrew/perls/perl-5.20.3/lib/5.20.3/darwin-2level/CORE/perl.h:512:21: note: expanded from macro 'STMT_END'
# define STMT_END )
^
lib/Syntax/Keyword/Try.xs:113:7: warning: '(' and '{' tokens introducing statement expression appear in different macro expansion contexts [-Wcompound-token-split-by-macro]
PUSHMARK(SP);
^~~~~~~~~~~~
/Users/stan/perl5/perlbrew/perls/perl-5.20.3/lib/5.20.3/darwin-2level/CORE/pp.h:59:2: note: expanded from macro 'PUSHMARK'
STMT_START { \
^~~~~~~~~~
/Users/stan/perl5/perlbrew/perls/perl-5.20.3/lib/5.20.3/darwin-2level/CORE/perl.h:511:29: note: expanded from macro 'STMT_START'
# define STMT_START (void)( /* gcc supports "({ STATEMENTS; })" */
^
lib/Syntax/Keyword/Try.xs:113:7: note: '{' token is here
PUSHMARK(SP);
^~~~~~~~~~~~
/Users/stan/perl5/perlbrew/perls/perl-5.20.3/lib/5.20.3/darwin-2level/CORE/pp.h:59:13: note: expanded from macro 'PUSHMARK'
STMT_START { \
^
lib/Syntax/Keyword/Try.xs:113:7: warning: '}' and ')' tokens terminating statement expression appear in different macro expansion contexts [-Wcompound-token-split-by-macro]
PUSHMARK(SP);
^~~~~~~~~~~~
/Users/stan/perl5/perlbrew/perls/perl-5.20.3/lib/5.20.3/darwin-2level/CORE/pp.h:63:2: note: expanded from macro 'PUSHMARK'
} STMT_END
^
lib/Syntax/Keyword/Try.xs:113:7: note: ')' token is here
PUSHMARK(SP);
^~~~~~~~~~~~
/Users/stan/perl5/perlbrew/perls/perl-5.20.3/lib/5.20.3/darwin-2level/CORE/pp.h:63:4: note: expanded from macro 'PUSHMARK'
} STMT_END
^~~~~~~~
/Users/stan/perl5/perlbrew/perls/perl-5.20.3/lib/5.20.3/darwin-2level/CORE/perl.h:512:21: note: expanded from macro 'STMT_END'
# define STMT_END )
^
lib/Syntax/Keyword/Try.xs:119:7: warning: '(' and '{' tokens introducing statement expression appear in different macro expansion contexts [-Wcompound-token-split-by-macro]
PUSHMARK(SP);
^~~~~~~~~~~~
/Users/stan/perl5/perlbrew/perls/perl-5.20.3/lib/5.20.3/darwin-2level/CORE/pp.h:59:2: note: expanded from macro 'PUSHMARK'
STMT_START { \
^~~~~~~~~~
/Users/stan/perl5/perlbrew/perls/perl-5.20.3/lib/5.20.3/darwin-2level/CORE/perl.h:511:29: note: expanded from macro 'STMT_START'
# define STMT_START (void)( /* gcc supports "({ STATEMENTS; })" */
^
lib/Syntax/Keyword/Try.xs:119:7: note: '{' token is here
PUSHMARK(SP);
^~~~~~~~~~~~
/Users/stan/perl5/perlbrew/perls/perl-5.20.3/lib/5.20.3/darwin-2level/CORE/pp.h:59:13: note: expanded from macro 'PUSHMARK'
STMT_START { \
^
lib/Syntax/Keyword/Try.xs:119:7: warning: '}' and ')' tokens terminating statement expression appear in different macro expansion contexts [-Wcompound-token-split-by-macro]
PUSHMARK(SP);
^~~~~~~~~~~~
/Users/stan/perl5/perlbrew/perls/perl-5.20.3/lib/5.20.3/darwin-2level/CORE/pp.h:63:2: note: expanded from macro 'PUSHMARK'
} STMT_END
^
lib/Syntax/Keyword/Try.xs:119:7: note: ')' token is here
PUSHMARK(SP);
^~~~~~~~~~~~
/Users/stan/perl5/perlbrew/perls/perl-5.20.3/lib/5.20.3/darwin-2level/CORE/pp.h:63:4: note: expanded from macro 'PUSHMARK'
} STMT_END
^~~~~~~~
/Users/stan/perl5/perlbrew/perls/perl-5.20.3/lib/5.20.3/darwin-2level/CORE/perl.h:512:21: note: expanded from macro 'STMT_END'
# define STMT_END )
^
lib/Syntax/Keyword/Try.xs:127:7: warning: '(' and '{' tokens introducing statement expression appear in different macro expansion contexts [-Wcompound-token-split-by-macro]
PUSHMARK(SP);
^~~~~~~~~~~~
/Users/stan/perl5/perlbrew/perls/perl-5.20.3/lib/5.20.3/darwin-2level/CORE/pp.h:59:2: note: expanded from macro 'PUSHMARK'
STMT_START { \
^~~~~~~~~~
/Users/stan/perl5/perlbrew/perls/perl-5.20.3/lib/5.20.3/darwin-2level/CORE/perl.h:511:29: note: expanded from macro 'STMT_START'
# define STMT_START (void)( /* gcc supports "({ STATEMENTS; })" */
^
lib/Syntax/Keyword/Try.xs:127:7: note: '{' token is here
PUSHMARK(SP);
^~~~~~~~~~~~
/Users/stan/perl5/perlbrew/perls/perl-5.20.3/lib/5.20.3/darwin-2level/CORE/pp.h:59:13: note: expanded from macro 'PUSHMARK'
STMT_START { \
^
lib/Syntax/Keyword/Try.xs:127:7: warning: '}' and ')' tokens terminating statement expression appear in different macro expansion contexts [-Wcompound-token-split-by-macro]
PUSHMARK(SP);
^~~~~~~~~~~~
/Users/stan/perl5/perlbrew/perls/perl-5.20.3/lib/5.20.3/darwin-2level/CORE/pp.h:63:2: note: expanded from macro 'PUSHMARK'
} STMT_END
^
lib/Syntax/Keyword/Try.xs:127:7: note: ')' token is here
PUSHMARK(SP);
^~~~~~~~~~~~
/Users/stan/perl5/perlbrew/perls/perl-5.20.3/lib/5.20.3/darwin-2level/CORE/pp.h:63:4: note: expanded from macro 'PUSHMARK'
} STMT_END
^~~~~~~~
/Users/stan/perl5/perlbrew/perls/perl-5.20.3/lib/5.20.3/darwin-2level/CORE/perl.h:512:21: note: expanded from macro 'STMT_END'
# define STMT_END )
^
lib/Syntax/Keyword/Try.xs:152:3: warning: '(' and '{' tokens introducing statement expression appear in different macro expansion contexts [-Wcompound-token-split-by-macro]
PUSHMARK(SP);
^~~~~~~~~~~~
/Users/stan/perl5/perlbrew/perls/perl-5.20.3/lib/5.20.3/darwin-2level/CORE/pp.h:59:2: note: expanded from macro 'PUSHMARK'
STMT_START { \
^~~~~~~~~~
/Users/stan/perl5/perlbrew/perls/perl-5.20.3/lib/5.20.3/darwin-2level/CORE/perl.h:511:29: note: expanded from macro 'STMT_START'
# define STMT_START (void)( /* gcc supports "({ STATEMENTS; })" */
^
lib/Syntax/Keyword/Try.xs:152:3: note: '{' token is here
PUSHMARK(SP);
^~~~~~~~~~~~
/Users/stan/perl5/perlbrew/perls/perl-5.20.3/lib/5.20.3/darwin-2level/CORE/pp.h:59:13: note: expanded from macro 'PUSHMARK'
STMT_START { \
^
lib/Syntax/Keyword/Try.xs:152:3: warning: '}' and ')' tokens terminating statement expression appear in different macro expansion contexts [-Wcompound-token-split-by-macro]
PUSHMARK(SP);
^~~~~~~~~~~~
/Users/stan/perl5/perlbrew/perls/perl-5.20.3/lib/5.20.3/darwin-2level/CORE/pp.h:63:2: note: expanded from macro 'PUSHMARK'
} STMT_END
^
lib/Syntax/Keyword/Try.xs:152:3: note: ')' token is here
PUSHMARK(SP);
^~~~~~~~~~~~
/Users/stan/perl5/perlbrew/perls/perl-5.20.3/lib/5.20.3/darwin-2level/CORE/pp.h:63:4: note: expanded from macro 'PUSHMARK'
} STMT_END
^~~~~~~~
/Users/stan/perl5/perlbrew/perls/perl-5.20.3/lib/5.20.3/darwin-2level/CORE/perl.h:512:21: note: expanded from macro 'STMT_END'
# define STMT_END )
^
lib/Syntax/Keyword/Try.xs:614:3: warning: '(' and '{' tokens introducing statement expression appear in different macro expansion contexts [-Wcompound-token-split-by-macro]
XopENTRY_set(&xop_catch, xop_name, "catch");
^~~~~~~~~~~~~~~~~~~~~~~~~~~~~~~~~~~~~~~~~~~
/Users/stan/perl5/perlbrew/perls/perl-5.20.3/lib/5.20.3/darwin-2level/CORE/op.h:969:5: note: expanded from macro 'XopENTRY_set'
STMT_START { \
^~~~~~~~~~
/Users/stan/perl5/perlbrew/perls/perl-5.20.3/lib/5.20.3/darwin-2level/CORE/perl.h:511:29: note: expanded from macro 'STMT_START'
# define STMT_START (void)( /* gcc supports "({ STATEMENTS; })" */
^
lib/Syntax/Keyword/Try.xs:614:3: note: '{' token is here
XopENTRY_set(&xop_catch, xop_name, "catch");
^~~~~~~~~~~~~~~~~~~~~~~~~~~~~~~~~~~~~~~~~~~
/Users/stan/perl5/perlbrew/perls/perl-5.20.3/lib/5.20.3/darwin-2level/CORE/op.h:969:16: note: expanded from macro 'XopENTRY_set'
STMT_START { \
^
lib/Syntax/Keyword/Try.xs:614:3: warning: '}' and ')' tokens terminating statement expression appear in different macro expansion contexts [-Wcompound-token-split-by-macro]
XopENTRY_set(&xop_catch, xop_name, "catch");
^~~~~~~~~~~~~~~~~~~~~~~~~~~~~~~~~~~~~~~~~~~
/Users/stan/perl5/perlbrew/perls/perl-5.20.3/lib/5.20.3/darwin-2level/CORE/op.h:972:5: note: expanded from macro 'XopENTRY_set'
} STMT_END
^
lib/Syntax/Keyword/Try.xs:614:3: note: ')' token is here
XopENTRY_set(&xop_catch, xop_name, "catch");
^~~~~~~~~~~~~~~~~~~~~~~~~~~~~~~~~~~~~~~~~~~
/Users/stan/perl5/perlbrew/perls/perl-5.20.3/lib/5.20.3/darwin-2level/CORE/op.h:972:7: note: expanded from macro 'XopENTRY_set'
} STMT_END
^~~~~~~~
/Users/stan/perl5/perlbrew/perls/perl-5.20.3/lib/5.20.3/darwin-2level/CORE/perl.h:512:21: note: expanded from macro 'STMT_END'
# define STMT_END )
^
lib/Syntax/Keyword/Try.xs:615:3: warning: '(' and '{' tokens introducing statement expression appear in different macro expansion contexts [-Wcompound-token-split-by-macro]
XopENTRY_set(&xop_catch, xop_desc,
^~~~~~~~~~~~~~~~~~~~~~~~~~~~~~~~~~
/Users/stan/perl5/perlbrew/perls/perl-5.20.3/lib/5.20.3/darwin-2level/CORE/op.h:969:5: note: expanded from macro 'XopENTRY_set'
STMT_START { \
^~~~~~~~~~
/Users/stan/perl5/perlbrew/perls/perl-5.20.3/lib/5.20.3/darwin-2level/CORE/perl.h:511:29: note: expanded from macro 'STMT_START'
# define STMT_START (void)( /* gcc supports "({ STATEMENTS; })" */
^
lib/Syntax/Keyword/Try.xs:615:3: note: '{' token is here
XopENTRY_set(&xop_catch, xop_desc,
^~~~~~~~~~~~~~~~~~~~~~~~~~~~~~~~~~
/Users/stan/perl5/perlbrew/perls/perl-5.20.3/lib/5.20.3/darwin-2level/CORE/op.h:969:16: note: expanded from macro 'XopENTRY_set'
STMT_START { \
^
lib/Syntax/Keyword/Try.xs:615:3: warning: '}' and ')' tokens terminating statement expression appear in different macro expansion contexts [-Wcompound-token-split-by-macro]
XopENTRY_set(&xop_catch, xop_desc,
^~~~~~~~~~~~~~~~~~~~~~~~~~~~~~~~~~
/Users/stan/perl5/perlbrew/perls/perl-5.20.3/lib/5.20.3/darwin-2level/CORE/op.h:972:5: note: expanded from macro 'XopENTRY_set'
} STMT_END
^
lib/Syntax/Keyword/Try.xs:615:3: note: ')' token is here
XopENTRY_set(&xop_catch, xop_desc,
^~~~~~~~~~~~~~~~~~~~~~~~~~~~~~~~~~
/Users/stan/perl5/perlbrew/perls/perl-5.20.3/lib/5.20.3/darwin-2level/CORE/op.h:972:7: note: expanded from macro 'XopENTRY_set'
} STMT_END
^~~~~~~~
/Users/stan/perl5/perlbrew/perls/perl-5.20.3/lib/5.20.3/darwin-2level/CORE/perl.h:512:21: note: expanded from macro 'STMT_END'
# define STMT_END )
^
lib/Syntax/Keyword/Try.xs:617:3: warning: '(' and '{' tokens introducing statement expression appear in different macro expansion contexts [-Wcompound-token-split-by-macro]
XopENTRY_set(&xop_catch, xop_class, OA_LOGOP);
^~~~~~~~~~~~~~~~~~~~~~~~~~~~~~~~~~~~~~~~~~~~~
/Users/stan/perl5/perlbrew/perls/perl-5.20.3/lib/5.20.3/darwin-2level/CORE/op.h:969:5: note: expanded from macro 'XopENTRY_set'
STMT_START { \
^~~~~~~~~~
/Users/stan/perl5/perlbrew/perls/perl-5.20.3/lib/5.20.3/darwin-2level/CORE/perl.h:511:29: note: expanded from macro 'STMT_START'
# define STMT_START (void)( /* gcc supports "({ STATEMENTS; })" */
^
lib/Syntax/Keyword/Try.xs:617:3: note: '{' token is here
XopENTRY_set(&xop_catch, xop_class, OA_LOGOP);
^~~~~~~~~~~~~~~~~~~~~~~~~~~~~~~~~~~~~~~~~~~~~
/Users/stan/perl5/perlbrew/perls/perl-5.20.3/lib/5.20.3/darwin-2level/CORE/op.h:969:16: note: expanded from macro 'XopENTRY_set'
STMT_START { \
^
lib/Syntax/Keyword/Try.xs:617:3: warning: '}' and ')' tokens terminating statement expression appear in different macro expansion contexts [-Wcompound-token-split-by-macro]
XopENTRY_set(&xop_catch, xop_class, OA_LOGOP);
^~~~~~~~~~~~~~~~~~~~~~~~~~~~~~~~~~~~~~~~~~~~~
/Users/stan/perl5/perlbrew/perls/perl-5.20.3/lib/5.20.3/darwin-2level/CORE/op.h:972:5: note: expanded from macro 'XopENTRY_set'
} STMT_END
^
lib/Syntax/Keyword/Try.xs:617:3: note: ')' token is here
XopENTRY_set(&xop_catch, xop_class, OA_LOGOP);
^~~~~~~~~~~~~~~~~~~~~~~~~~~~~~~~~~~~~~~~~~~~~
/Users/stan/perl5/perlbrew/perls/perl-5.20.3/lib/5.20.3/darwin-2level/CORE/op.h:972:7: note: expanded from macro 'XopENTRY_set'
} STMT_END
^~~~~~~~
/Users/stan/perl5/perlbrew/perls/perl-5.20.3/lib/5.20.3/darwin-2level/CORE/perl.h:512:21: note: expanded from macro 'STMT_END'
# define STMT_END )
^
lib/Syntax/Keyword/Try.xs:620:3: warning: '(' and '{' tokens introducing statement expression appear in different macro expansion contexts [-Wcompound-token-split-by-macro]
XopENTRY_set(&xop_pushfinally, xop_name, "pushfinally");
^~~~~~~~~~~~~~~~~~~~~~~~~~~~~~~~~~~~~~~~~~~~~~~~~~~~~~~
/Users/stan/perl5/perlbrew/perls/perl-5.20.3/lib/5.20.3/darwin-2level/CORE/op.h:969:5: note: expanded from macro 'XopENTRY_set'
STMT_START { \
^~~~~~~~~~
/Users/stan/perl5/perlbrew/perls/perl-5.20.3/lib/5.20.3/darwin-2level/CORE/perl.h:511:29: note: expanded from macro 'STMT_START'
# define STMT_START (void)( /* gcc supports "({ STATEMENTS; })" */
^
lib/Syntax/Keyword/Try.xs:620:3: note: '{' token is here
XopENTRY_set(&xop_pushfinally, xop_name, "pushfinally");
^~~~~~~~~~~~~~~~~~~~~~~~~~~~~~~~~~~~~~~~~~~~~~~~~~~~~~~
/Users/stan/perl5/perlbrew/perls/perl-5.20.3/lib/5.20.3/darwin-2level/CORE/op.h:969:16: note: expanded from macro 'XopENTRY_set'
STMT_START { \
^
lib/Syntax/Keyword/Try.xs:620:3: warning: '}' and ')' tokens terminating statement expression appear in different macro expansion contexts [-Wcompound-token-split-by-macro]
XopENTRY_set(&xop_pushfinally, xop_name, "pushfinally");
^~~~~~~~~~~~~~~~~~~~~~~~~~~~~~~~~~~~~~~~~~~~~~~~~~~~~~~
/Users/stan/perl5/perlbrew/perls/perl-5.20.3/lib/5.20.3/darwin-2level/CORE/op.h:972:5: note: expanded from macro 'XopENTRY_set'
} STMT_END
^
lib/Syntax/Keyword/Try.xs:620:3: note: ')' token is here
XopENTRY_set(&xop_pushfinally, xop_name, "pushfinally");
^~~~~~~~~~~~~~~~~~~~~~~~~~~~~~~~~~~~~~~~~~~~~~~~~~~~~~~
/Users/stan/perl5/perlbrew/perls/perl-5.20.3/lib/5.20.3/darwin-2level/CORE/op.h:972:7: note: expanded from macro 'XopENTRY_set'
} STMT_END
^~~~~~~~
/Users/stan/perl5/perlbrew/perls/perl-5.20.3/lib/5.20.3/darwin-2level/CORE/perl.h:512:21: note: expanded from macro 'STMT_END'
# define STMT_END )
^
lib/Syntax/Keyword/Try.xs:621:3: warning: '(' and '{' tokens introducing statement expression appear in different macro expansion contexts [-Wcompound-token-split-by-macro]
XopENTRY_set(&xop_pushfinally, xop_desc,
^~~~~~~~~~~~~~~~~~~~~~~~~~~~~~~~~~~~~~~~
/Users/stan/perl5/perlbrew/perls/perl-5.20.3/lib/5.20.3/darwin-2level/CORE/op.h:969:5: note: expanded from macro 'XopENTRY_set'
STMT_START { \
^~~~~~~~~~
/Users/stan/perl5/perlbrew/perls/perl-5.20.3/lib/5.20.3/darwin-2level/CORE/perl.h:511:29: note: expanded from macro 'STMT_START'
# define STMT_START (void)( /* gcc supports "({ STATEMENTS; })" */
^
lib/Syntax/Keyword/Try.xs:621:3: note: '{' token is here
XopENTRY_set(&xop_pushfinally, xop_desc,
^~~~~~~~~~~~~~~~~~~~~~~~~~~~~~~~~~~~~~~~
/Users/stan/perl5/perlbrew/perls/perl-5.20.3/lib/5.20.3/darwin-2level/CORE/op.h:969:16: note: expanded from macro 'XopENTRY_set'
STMT_START { \
^
lib/Syntax/Keyword/Try.xs:621:3: warning: '}' and ')' tokens terminating statement expression appear in different macro expansion contexts [-Wcompound-token-split-by-macro]
XopENTRY_set(&xop_pushfinally, xop_desc,
^~~~~~~~~~~~~~~~~~~~~~~~~~~~~~~~~~~~~~~~
/Users/stan/perl5/perlbrew/perls/perl-5.20.3/lib/5.20.3/darwin-2level/CORE/op.h:972:5: note: expanded from macro 'XopENTRY_set'
} STMT_END
^
lib/Syntax/Keyword/Try.xs:621:3: note: ')' token is here
XopENTRY_set(&xop_pushfinally, xop_desc,
^~~~~~~~~~~~~~~~~~~~~~~~~~~~~~~~~~~~~~~~
/Users/stan/perl5/perlbrew/perls/perl-5.20.3/lib/5.20.3/darwin-2level/CORE/op.h:972:7: note: expanded from macro 'XopENTRY_set'
} STMT_END
^~~~~~~~
/Users/stan/perl5/perlbrew/perls/perl-5.20.3/lib/5.20.3/darwin-2level/CORE/perl.h:512:21: note: expanded from macro 'STMT_END'
# define STMT_END )
^
lib/Syntax/Keyword/Try.xs:623:3: warning: '(' and '{' tokens introducing statement expression appear in different macro expansion contexts [-Wcompound-token-split-by-macro]
XopENTRY_set(&xop_pushfinally, xop_class, OA_SVOP);
^~~~~~~~~~~~~~~~~~~~~~~~~~~~~~~~~~~~~~~~~~~~~~~~~~
/Users/stan/perl5/perlbrew/perls/perl-5.20.3/lib/5.20.3/darwin-2level/CORE/op.h:969:5: note: expanded from macro 'XopENTRY_set'
STMT_START { \
^~~~~~~~~~
/Users/stan/perl5/perlbrew/perls/perl-5.20.3/lib/5.20.3/darwin-2level/CORE/perl.h:511:29: note: expanded from macro 'STMT_START'
# define STMT_START (void)( /* gcc supports "({ STATEMENTS; })" */
^
lib/Syntax/Keyword/Try.xs:623:3: note: '{' token is here
XopENTRY_set(&xop_pushfinally, xop_class, OA_SVOP);
^~~~~~~~~~~~~~~~~~~~~~~~~~~~~~~~~~~~~~~~~~~~~~~~~~
/Users/stan/perl5/perlbrew/perls/perl-5.20.3/lib/5.20.3/darwin-2level/CORE/op.h:969:16: note: expanded from macro 'XopENTRY_set'
STMT_START { \
^
lib/Syntax/Keyword/Try.xs:623:3: warning: '}' and ')' tokens terminating statement expression appear in different macro expansion contexts [-Wcompound-token-split-by-macro]
XopENTRY_set(&xop_pushfinally, xop_class, OA_SVOP);
^~~~~~~~~~~~~~~~~~~~~~~~~~~~~~~~~~~~~~~~~~~~~~~~~~
/Users/stan/perl5/perlbrew/perls/perl-5.20.3/lib/5.20.3/darwin-2level/CORE/op.h:972:5: note: expanded from macro 'XopENTRY_set'
} STMT_END
^
lib/Syntax/Keyword/Try.xs:623:3: note: ')' token is here
XopENTRY_set(&xop_pushfinally, xop_class, OA_SVOP);
^~~~~~~~~~~~~~~~~~~~~~~~~~~~~~~~~~~~~~~~~~~~~~~~~~
/Users/stan/perl5/perlbrew/perls/perl-5.20.3/lib/5.20.3/darwin-2level/CORE/op.h:972:7: note: expanded from macro 'XopENTRY_set'
} STMT_END
^~~~~~~~
/Users/stan/perl5/perlbrew/perls/perl-5.20.3/lib/5.20.3/darwin-2level/CORE/perl.h:512:21: note: expanded from macro 'STMT_END'
# define STMT_END )
^
lib/Syntax/Keyword/Try.xs:626:3: warning: '(' and '{' tokens introducing statement expression appear in different macro expansion contexts [-Wcompound-token-split-by-macro]
XopENTRY_set(&xop_isa, xop_name, "isa");
^~~~~~~~~~~~~~~~~~~~~~~~~~~~~~~~~~~~~~~
/Users/stan/perl5/perlbrew/perls/perl-5.20.3/lib/5.20.3/darwin-2level/CORE/op.h:969:5: note: expanded from macro 'XopENTRY_set'
STMT_START { \
^~~~~~~~~~
/Users/stan/perl5/perlbrew/perls/perl-5.20.3/lib/5.20.3/darwin-2level/CORE/perl.h:511:29: note: expanded from macro 'STMT_START'
# define STMT_START (void)( /* gcc supports "({ STATEMENTS; })" */
^
lib/Syntax/Keyword/Try.xs:626:3: note: '{' token is here
XopENTRY_set(&xop_isa, xop_name, "isa");
^~~~~~~~~~~~~~~~~~~~~~~~~~~~~~~~~~~~~~~
/Users/stan/perl5/perlbrew/perls/perl-5.20.3/lib/5.20.3/darwin-2level/CORE/op.h:969:16: note: expanded from macro 'XopENTRY_set'
STMT_START { \
^
lib/Syntax/Keyword/Try.xs:626:3: warning: '}' and ')' tokens terminating statement expression appear in different macro expansion contexts [-Wcompound-token-split-by-macro]
XopENTRY_set(&xop_isa, xop_name, "isa");
^~~~~~~~~~~~~~~~~~~~~~~~~~~~~~~~~~~~~~~
/Users/stan/perl5/perlbrew/perls/perl-5.20.3/lib/5.20.3/darwin-2level/CORE/op.h:972:5: note: expanded from macro 'XopENTRY_set'
} STMT_END
^
lib/Syntax/Keyword/Try.xs:626:3: note: ')' token is here
XopENTRY_set(&xop_isa, xop_name, "isa");
^~~~~~~~~~~~~~~~~~~~~~~~~~~~~~~~~~~~~~~
/Users/stan/perl5/perlbrew/perls/perl-5.20.3/lib/5.20.3/darwin-2level/CORE/op.h:972:7: note: expanded from macro 'XopENTRY_set'
} STMT_END
^~~~~~~~
/Users/stan/perl5/perlbrew/perls/perl-5.20.3/lib/5.20.3/darwin-2level/CORE/perl.h:512:21: note: expanded from macro 'STMT_END'
# define STMT_END )
^
lib/Syntax/Keyword/Try.xs:627:3: warning: '(' and '{' tokens introducing statement expression appear in different macro expansion contexts [-Wcompound-token-split-by-macro]
XopENTRY_set(&xop_isa, xop_desc,
^~~~~~~~~~~~~~~~~~~~~~~~~~~~~~~~
/Users/stan/perl5/perlbrew/perls/perl-5.20.3/lib/5.20.3/darwin-2level/CORE/op.h:969:5: note: expanded from macro 'XopENTRY_set'
STMT_START { \
^~~~~~~~~~
/Users/stan/perl5/perlbrew/perls/perl-5.20.3/lib/5.20.3/darwin-2level/CORE/perl.h:511:29: note: expanded from macro 'STMT_START'
# define STMT_START (void)( /* gcc supports "({ STATEMENTS; })" */
^
lib/Syntax/Keyword/Try.xs:627:3: note: '{' token is here
XopENTRY_set(&xop_isa, xop_desc,
^~~~~~~~~~~~~~~~~~~~~~~~~~~~~~~~
/Users/stan/perl5/perlbrew/perls/perl-5.20.3/lib/5.20.3/darwin-2level/CORE/op.h:969:16: note: expanded from macro 'XopENTRY_set'
STMT_START { \
^
lib/Syntax/Keyword/Try.xs:627:3: warning: '}' and ')' tokens terminating statement expression appear in different macro expansion contexts [-Wcompound-token-split-by-macro]
XopENTRY_set(&xop_isa, xop_desc,
^~~~~~~~~~~~~~~~~~~~~~~~~~~~~~~~
/Users/stan/perl5/perlbrew/perls/perl-5.20.3/lib/5.20.3/darwin-2level/CORE/op.h:972:5: note: expanded from macro 'XopENTRY_set'
} STMT_END
^
lib/Syntax/Keyword/Try.xs:627:3: note: ')' token is here
XopENTRY_set(&xop_isa, xop_desc,
^~~~~~~~~~~~~~~~~~~~~~~~~~~~~~~~
/Users/stan/perl5/perlbrew/perls/perl-5.20.3/lib/5.20.3/darwin-2level/CORE/op.h:972:7: note: expanded from macro 'XopENTRY_set'
} STMT_END
^~~~~~~~
/Users/stan/perl5/perlbrew/perls/perl-5.20.3/lib/5.20.3/darwin-2level/CORE/perl.h:512:21: note: expanded from macro 'STMT_END'
# define STMT_END )
^
lib/Syntax/Keyword/Try.xs:629:3: warning: '(' and '{' tokens introducing statement expression appear in different macro expansion contexts [-Wcompound-token-split-by-macro]
XopENTRY_set(&xop_isa, xop_class, OA_BINOP);
^~~~~~~~~~~~~~~~~~~~~~~~~~~~~~~~~~~~~~~~~~~
/Users/stan/perl5/perlbrew/perls/perl-5.20.3/lib/5.20.3/darwin-2level/CORE/op.h:969:5: note: expanded from macro 'XopENTRY_set'
STMT_START { \
^~~~~~~~~~
/Users/stan/perl5/perlbrew/perls/perl-5.20.3/lib/5.20.3/darwin-2level/CORE/perl.h:511:29: note: expanded from macro 'STMT_START'
# define STMT_START (void)( /* gcc supports "({ STATEMENTS; })" */
^
lib/Syntax/Keyword/Try.xs:629:3: note: '{' token is here
XopENTRY_set(&xop_isa, xop_class, OA_BINOP);
^~~~~~~~~~~~~~~~~~~~~~~~~~~~~~~~~~~~~~~~~~~
/Users/stan/perl5/perlbrew/perls/perl-5.20.3/lib/5.20.3/darwin-2level/CORE/op.h:969:16: note: expanded from macro 'XopENTRY_set'
STMT_START { \
^
lib/Syntax/Keyword/Try.xs:629:3: warning: '}' and ')' tokens terminating statement expression appear in different macro expansion contexts [-Wcompound-token-split-by-macro]
XopENTRY_set(&xop_isa, xop_class, OA_BINOP);
^~~~~~~~~~~~~~~~~~~~~~~~~~~~~~~~~~~~~~~~~~~
/Users/stan/perl5/perlbrew/perls/perl-5.20.3/lib/5.20.3/darwin-2level/CORE/op.h:972:5: note: expanded from macro 'XopENTRY_set'
} STMT_END
^
lib/Syntax/Keyword/Try.xs:629:3: note: ')' token is here
XopENTRY_set(&xop_isa, xop_class, OA_BINOP);
^~~~~~~~~~~~~~~~~~~~~~~~~~~~~~~~~~~~~~~~~~~
/Users/stan/perl5/perlbrew/perls/perl-5.20.3/lib/5.20.3/darwin-2level/CORE/op.h:972:7: note: expanded from macro 'XopENTRY_set'
} STMT_END
^~~~~~~~
/Users/stan/perl5/perlbrew/perls/perl-5.20.3/lib/5.20.3/darwin-2level/CORE/perl.h:512:21: note: expanded from macro 'STMT_END'
# define STMT_END )
^
lib/Syntax/Keyword/Try.c:829:5: warning: '(' and '{' tokens introducing statement expression appear in different macro expansion contexts [-Wcompound-token-split-by-macro]
XSRETURN_YES;
^~~~~~~~~~~~
/Users/stan/perl5/perlbrew/perls/perl-5.20.3/lib/5.20.3/darwin-2level/CORE/XSUB.h:320:24: note: expanded from macro 'XSRETURN_YES'
#define XSRETURN_YES STMT_START { XST_mYES(0); XSRETURN(1); } STMT_END
^~~~~~~~~~
/Users/stan/perl5/perlbrew/perls/perl-5.20.3/lib/5.20.3/darwin-2level/CORE/perl.h:511:29: note: expanded from macro 'STMT_START'
# define STMT_START (void)( /* gcc supports "({ STATEMENTS; })" */
^
lib/Syntax/Keyword/Try.c:829:5: note: '{' token is here
XSRETURN_YES;
^~~~~~~~~~~~
/Users/stan/perl5/perlbrew/perls/perl-5.20.3/lib/5.20.3/darwin-2level/CORE/XSUB.h:320:35: note: expanded from macro 'XSRETURN_YES'
#define XSRETURN_YES STMT_START { XST_mYES(0); XSRETURN(1); } STMT_END
^
lib/Syntax/Keyword/Try.c:829:5: warning: '(' and '{' tokens introducing statement expression appear in different macro expansion contexts [-Wcompound-token-split-by-macro]
XSRETURN_YES;
^~~~~~~~~~~~
/Users/stan/perl5/perlbrew/perls/perl-5.20.3/lib/5.20.3/darwin-2level/CORE/XSUB.h:320:52: note: expanded from macro 'XSRETURN_YES'
#define XSRETURN_YES STMT_START { XST_mYES(0); XSRETURN(1); } STMT_END
^~~~~~~~~~~
/Users/stan/perl5/perlbrew/perls/perl-5.20.3/lib/5.20.3/darwin-2level/CORE/XSUB.h:308:5: note: expanded from macro 'XSRETURN'
STMT_START { \
^~~~~~~~~~
/Users/stan/perl5/perlbrew/perls/perl-5.20.3/lib/5.20.3/darwin-2level/CORE/perl.h:511:29: note: expanded from macro 'STMT_START'
# define STMT_START (void)( /* gcc supports "({ STATEMENTS; })" */
^
lib/Syntax/Keyword/Try.c:829:5: note: '{' token is here
XSRETURN_YES;
^~~~~~~~~~~~
/Users/stan/perl5/perlbrew/perls/perl-5.20.3/lib/5.20.3/darwin-2level/CORE/XSUB.h:320:52: note: expanded from macro 'XSRETURN_YES'
#define XSRETURN_YES STMT_START { XST_mYES(0); XSRETURN(1); } STMT_END
^~~~~~~~~~~
/Users/stan/perl5/perlbrew/perls/perl-5.20.3/lib/5.20.3/darwin-2level/CORE/XSUB.h:308:16: note: expanded from macro 'XSRETURN'
STMT_START { \
^
lib/Syntax/Keyword/Try.c:829:5: warning: '}' and ')' tokens terminating statement expression appear in different macro expansion contexts [-Wcompound-token-split-by-macro]
XSRETURN_YES;
^~~~~~~~~~~~
/Users/stan/perl5/perlbrew/perls/perl-5.20.3/lib/5.20.3/darwin-2level/CORE/XSUB.h:320:52: note: expanded from macro 'XSRETURN_YES'
#define XSRETURN_YES STMT_START { XST_mYES(0); XSRETURN(1); } STMT_END
^~~~~~~~~~~
/Users/stan/perl5/perlbrew/perls/perl-5.20.3/lib/5.20.3/darwin-2level/CORE/XSUB.h:312:5: note: expanded from macro 'XSRETURN'
} STMT_END
^
lib/Syntax/Keyword/Try.c:829:5: note: ')' token is here
XSRETURN_YES;
^~~~~~~~~~~~
/Users/stan/perl5/perlbrew/perls/perl-5.20.3/lib/5.20.3/darwin-2level/CORE/XSUB.h:320:52: note: expanded from macro 'XSRETURN_YES'
#define XSRETURN_YES STMT_START { XST_mYES(0); XSRETURN(1); } STMT_END
^~~~~~~~~~~
/Users/stan/perl5/perlbrew/perls/perl-5.20.3/lib/5.20.3/darwin-2level/CORE/XSUB.h:312:7: note: expanded from macro 'XSRETURN'
} STMT_END
^~~~~~~~
/Users/stan/perl5/perlbrew/perls/perl-5.20.3/lib/5.20.3/darwin-2level/CORE/perl.h:512:21: note: expanded from macro 'STMT_END'
# define STMT_END )
^
lib/Syntax/Keyword/Try.c:829:5: warning: '}' and ')' tokens terminating statement expression appear in different macro expansion contexts [-Wcompound-token-split-by-macro]
XSRETURN_YES;
^~~~~~~~~~~~
/Users/stan/perl5/perlbrew/perls/perl-5.20.3/lib/5.20.3/darwin-2level/CORE/XSUB.h:320:65: note: expanded from macro 'XSRETURN_YES'
#define XSRETURN_YES STMT_START { XST_mYES(0); XSRETURN(1); } STMT_END
^
lib/Syntax/Keyword/Try.c:829:5: note: ')' token is here
XSRETURN_YES;
^~~~~~~~~~~~
/Users/stan/perl5/perlbrew/perls/perl-5.20.3/lib/5.20.3/darwin-2level/CORE/XSUB.h:320:67: note: expanded from macro 'XSRETURN_YES'
#define XSRETURN_YES STMT_START { XST_mYES(0); XSRETURN(1); } STMT_END
^~~~~~~~
/Users/stan/perl5/perlbrew/perls/perl-5.20.3/lib/5.20.3/darwin-2level/CORE/perl.h:512:21: note: expanded from macro 'STMT_END'
# define STMT_END )
^
51 warnings generated.
ExtUtils::Mkbootstrap::Mkbootstrap('blib/arch/auto/Syntax/Keyword/Try/Try.bs')
cc -mmacosx-version-min=12.2 -bundle -undefined dynamic_lookup -L/usr/local/lib -fstack-protector -o blib/arch/auto/Syntax/Keyword/Try/Try.bundle lib/Syntax/Keyword/Try.o
t/00use.t .............. ok
t/01trycatch.t ......... ok
t/02tryfinally.t ....... ok
t/03trycatchfinally.t .. ok
t/04catch-types.t ...... ok
t/10snail.t ............ ok
t/11loop.t ............. ok
t/12return.t ........... ok
t/13die-in-finally.t ... ok
t/14try-localises.t .... ok
t/15context.t .......... ok
t/16final-expr.t ....... ok
t/30compat.t ........... ok
t/70deparse.t .......... ok
t/80await+SKT.t ........ skipped: Future is not available
t/80defer+SKT.t ........ skipped: Syntax::Keyword::Defer >= 0.02 is not available
t/90rt123547.t ......... skipped: threads are not supported
t/90rt125971.t ......... ok
t/99pod.t .............. ok
All tests successful.
Files=19, Tests=67, 2 wallclock secs ( 0.04 usr 0.03 sys + 1.47 cusr 0.29 csys = 1.83 CPU)
Result: PASS
------------------------------
PREREQUISITES
------------------------------
Prerequisite modules loaded:
runtime:
Module Need Have
--------------------------- ------ --------
perl 5.014 5.020003
XS::Parse::Keyword 0.35 0.48
build:
Module Need Have
--------------------------- ------ --------
ExtUtils::CBuilder 0 0.280236
configure:
Module Need Have
--------------------------- ------ --------
Module::Build 0.4004 0.4234
XS::Parse::Keyword::Builder 0.35 0.48
------------------------------
ENVIRONMENT AND OTHER CONTEXT
------------------------------
Environment variables:
LANG = en_US.UTF-8
LC_ALL = en_US.UTF-8
LDFLAGS = -L/usr/local/opt/curl/lib
PATH = /Users/stan/perl5/perlbrew/bin:/Users/stan/perl5/perlbrew/perls/perl-5.20.3/bin:/Users/stan/perl5/perlbrew/bin:/Users/stan/perl5/perlbrew/perls/perl-5.40.2/bin:/usr/local/opt/mysql-client/bin:/usr/local/opt/curl/bin:/usr/local/bin:/usr/local/sbin:/usr/local/bin:/System/Cryptexes/App/usr/bin:/usr/bin:/bin:/usr/sbin:/sbin:/Applications/Little Snitch.app/Contents/Components:/opt/X11/bin:/Applications/Wireshark.app/Contents/MacOS:/var/run/com.apple.security.cryptexd/codex.system/bootstrap/usr/local/bin:/var/run/com.apple.security.cryptexd/codex.system/bootstrap/usr/bin:/var/run/com.apple.security.cryptexd/codex.system/bootstrap/usr/appleinternal/bin:/Users/stan/.vim/bin:/Users/stan/bin:/Users/stan/.local/bin:/Users/stan/node_modules/.bin:/usr/local/sbin:/usr/local/opt/mysql-client/bin:/usr/local/opt/curl/bin
PERL5LIB =
PERLBREW_HOME = /Users/stan/.perlbrew
PERLBREW_LIB =
PERLBREW_MANPATH = /Users/stan/perl5/perlbrew/perls/perl-5.20.3/man
PERLBREW_PATH = /Users/stan/perl5/perlbrew/bin:/Users/stan/perl5/perlbrew/perls/perl-5.20.3/bin
PERLBREW_PERL = perl-5.20.3
PERLBREW_ROOT = /Users/stan/perl5/perlbrew
PERLBREW_SHELLRC_VERSION = 0.99
PERLBREW_VERSION = 0.99
PERL_LOCAL_LIB_ROOT =
PERL_MM_USE_DEFAULT = 1
SHELL = /usr/local/bin/zsh
TERM = screen-256color
TMPDIR = /var/folders/tk/hx6fvpsj3yzbyd1k1br945mc0000gn/T/
Perl special variables (and OS-specific diagnostics, for MSWin32):
EGID = 20 20 103 12 61 79 80 81 98 701 33 100 204 250 395 398 101
EUID = 501
EXECUTABLE_NAME = /Users/stan/perl5/perlbrew/perls/perl-5.20.3/bin/perl
GID = 20 20 103 12 61 79 80 81 98 701 33 100 204 250 395 398 101
UID = 501
Perl module toolchain versions installed:
Module Have
------------------- --------
CPAN 2.38
CPAN::Meta 2.150010
Cwd 3.75
ExtUtils::CBuilder 0.280236
ExtUtils::Command 7.74
ExtUtils::Install 2.22
ExtUtils::MakeMaker 7.74
ExtUtils::Manifest 1.75
ExtUtils::ParseXS 3.57
File::Spec 3.75
JSON 4.10
JSON::PP 4.16
Module::Build 0.4234
Module::Signature n/a
Parse::CPAN::Meta 2.150010
Test::Harness 3.52
Test::More 1.302211
YAML 1.31
YAML::Syck n/a
version 0.9933
--
Summary of my perl5 (revision 5 version 20 subversion 3) configuration:
Platform:
osname=darwin, osvers=21.3.0, archname=darwin-2level
uname='darwin imac.fritz.box 21.3.0 darwin kernel version 21.3.0: wed jan 5 21:37:58 pst 2022; root:xnu-8019.80.24~20release_x86_64 x86_64 '
config_args='-de -Dprefix=/Users/stan/perl5/perlbrew/perls/perl-5.20.3 -Aeval:scriptdir=/Users/stan/perl5/perlbrew/perls/perl-5.20.3/bin'
hint=recommended, useposix=true, d_sigaction=define
useithreads=undef, usemultiplicity=undef
use64bitint=define, use64bitall=define, uselongdouble=undef
usemymalloc=n, bincompat5005=undef
Compiler:
cc='cc', ccflags ='-fno-common -DPERL_DARWIN -mmacosx-version-min=12.2 -fno-strict-aliasing -pipe -fstack-protector -I/usr/local/include -DPERL_USE_SAFE_PUTENV',
optimize='-O3',
cppflags='-fno-common -DPERL_DARWIN -mmacosx-version-min=12.2 -fno-strict-aliasing -pipe -fstack-protector -I/usr/local/include'
ccversion='', gccversion='Apple LLVM 13.0.0 (clang-1300.0.29.30)', gccosandvers=''
intsize=4, longsize=8, ptrsize=8, doublesize=8, byteorder=12345678
d_longlong=define, longlongsize=8, d_longdbl=define, longdblsize=16
ivtype='long', ivsize=8, nvtype='double', nvsize=8, Off_t='off_t', lseeksize=8
alignbytes=8, prototype=define
Linker and Libraries:
ld='cc', ldflags =' -mmacosx-version-min=12.2 -fstack-protector -L/usr/local/lib'
libpth=/usr/local/lib /Library/Developer/CommandLineTools/usr/lib/clang/13.0.0/lib /Library/Developer/CommandLineTools/SDKs/MacOSX.sdk/usr/lib /Library/Developer/CommandLineTools/usr/lib /usr/lib
libs=-lgdbm -ldb
perllibs=
libc=, so=dylib, useshrplib=false, libperl=libperl.a
gnulibc_version=''
Dynamic Linking:
dlsrc=dl_dlopen.xs, dlext=bundle, d_dlsymun=undef, ccdlflags=' '
cccdlflags=' ', lddlflags=' -mmacosx-version-min=12.2 -bundle -undefined dynamic_lookup -L/usr/local/lib -fstack-protector'
Characteristics of this binary (from libperl):
Compile-time options: HAS_TIMES PERLIO_LAYERS PERL_DONT_CREATE_GVSV
PERL_HASH_FUNC_ONE_AT_A_TIME_HARD PERL_MALLOC_WRAP
PERL_NEW_COPY_ON_WRITE PERL_PRESERVE_IVUV
PERL_USE_SAFE_PUTENV USE_64_BIT_ALL USE_64_BIT_INT
USE_LARGE_FILES USE_LOCALE USE_LOCALE_COLLATE
USE_LOCALE_CTYPE USE_LOCALE_NUMERIC USE_PERLIO
USE_PERL_ATOF
Locally applied patches:
Devel::PatchPerl 2.08
Built under darwin
Compiled at Feb 10 2022 22:49:45
%ENV:
PERL5LIB=""
PERLBREW_HOME="/Users/stan/.perlbrew"
PERLBREW_LIB=""
PERLBREW_MANPATH="/Users/stan/perl5/perlbrew/perls/perl-5.20.3/man"
PERLBREW_PATH="/Users/stan/perl5/perlbrew/bin:/Users/stan/perl5/perlbrew/perls/perl-5.20.3/bin"
PERLBREW_PERL="perl-5.20.3"
PERLBREW_ROOT="/Users/stan/perl5/perlbrew"
PERLBREW_SHELLRC_VERSION="0.99"
PERLBREW_VERSION="0.99"
PERL_LOCAL_LIB_ROOT=""
PERL_MM_USE_DEFAULT="1"
@INC:
/Users/stan/perl5/perlbrew/perls/perl-5.20.3/lib/site_perl/5.20.3/darwin-2level
/Users/stan/perl5/perlbrew/perls/perl-5.20.3/lib/site_perl/5.20.3
/Users/stan/perl5/perlbrew/perls/perl-5.20.3/lib/5.20.3/darwin-2level
/Users/stan/perl5/perlbrew/perls/perl-5.20.3/lib/5.20.3
.