Catalyst-Helper-Controller-DBIC-API-REST v0.09 Perl 5 v5.37.6 x86_64-linux-thread-multi-ld

Status
Pass
From
Andreas J. König (ANDK)
Dist
Catalyst-Helper-Controller-DBIC-API-REST v0.09
Platform
Perl 5 v5.37.6 x86_64-linux-thread-multi-ld
Date
2022-11-22 07:06:22
ID
2bf8a10c-6a34-11ed-a97b-c7d94f77e83b
This distribution has been tested as part of the CPAN Testers
project, supporting the Perl programming language.  See
http://wiki.cpantesters.org/ for more information or email
questions to cpan-testers-discuss@perl.org


--
Dear Amiri Barksdale,

This is a computer-generated report for Catalyst-Helper-Controller-DBIC-API-REST-0.09
on perl 5.37.6, created by CPAN-Reporter-1.2018.

Thank you for uploading your work to CPAN.  Congratulations!
All tests were successful.

Sections of this report:

    * Tester comments
    * Program output
    * Prerequisites
    * Environment and other context

------------------------------
TESTER COMMENTS
------------------------------

Additional comments from tester:

this report is from an automated smoke testing program
and was not reviewed by a human for accuracy

------------------------------
PROGRAM OUTPUT
------------------------------

Output from '/usr/bin/make test':

PERL_DL_NONLAZY=1 "/tmp/basesmoker-reloperl-h690/bin/perl" "-MExtUtils::Command::MM" "-MTest::Harness" "-e" "undef *Test::Harness::Switches; test_harness(0, 'blib/lib', 'blib/arch')" t/*.t
t/00-compile.t ............... ok
t/author-critic.t ............ skipped: these tests are for testing by the author
t/author-mojibake.t .......... skipped: these tests are for testing by the author
t/author-pod-coverage.t ...... skipped: these tests are for testing by the author
t/author-pod-syntax.t ........ skipped: these tests are for testing by the author
t/author-portability.t ....... skipped: these tests are for testing by the author
t/author-test-version.t ...... skipped: these tests are for testing by the author
t/create1.t .................. ok
[error] No value supplied for name and no default at /home/sand/src/perl/repoperls/installed-perls/host/k93focal/v5.37.6/e463/lib/site_perl/5.37.6/Catalyst/Controller/DBIC/API.pm line 445, <$fh> line 1.
# {"messages":["No value supplied for name and no default"],"success":"false"}
t/create2.t .................. ok
[error] No object found for id '4' at /home/sand/src/perl/repoperls/installed-perls/host/k93focal/v5.37.6/e463/lib/site_perl/5.37.6/Catalyst/Controller/DBIC/API.pm line 219.
t/delete.t ................... ok
t/list.t ..................... ok
t/release-cpan-changes.t ..... skipped: these tests are for release candidate testing
t/release-distmeta.t ......... skipped: these tests are for release candidate testing
t/release-meta-json.t ........ skipped: these tests are for release candidate testing
t/release-minimum-version.t .. skipped: these tests are for release candidate testing
t/release-pod-linkcheck.t .... skipped: these tests are for release candidate testing
t/release-unused-vars.t ...... skipped: these tests are for release candidate testing
DBIx::Class::Storage::DBI::SQLite::_dbi_attrs_for_bind(): Non-integer value supplied for column 'me.trackid' despite the integer datatype at /home/sand/src/perl/repoperls/installed-perls/host/k93focal/v5.37.6/e463/lib/site_perl/5.37.6/Catalyst/Controller/DBIC/API.pm line 218
[error] No object found for id 'sdsdsdsd' at /home/sand/src/perl/repoperls/installed-perls/host/k93focal/v5.37.6/e463/lib/site_perl/5.37.6/Catalyst/Controller/DBIC/API.pm line 219, <$fh> line 1.
[error] No object found for id '3434234' at /home/sand/src/perl/repoperls/installed-perls/host/k93focal/v5.37.6/e463/lib/site_perl/5.37.6/Catalyst/Controller/DBIC/API.pm line 219, <$fh> line 1.
[error] No valid keys passed at /home/sand/src/perl/repoperls/installed-perls/host/k93focal/v5.37.6/e463/lib/site_perl/5.37.6/Catalyst/Controller/DBIC/API.pm line 466, <$fh> line 1.
t/update.t ................... ok
All tests successful.
Files=18, Tests=79,  9 wallclock secs ( 0.06 usr  0.03 sys +  7.69 cusr  0.53 csys =  8.31 CPU)
Result: PASS

------------------------------
PREREQUISITES
------------------------------

Prerequisite modules loaded:

requires:

    Module                                Need     Have    
    ------------------------------------- -------- --------
    Class::Load                           0        0.25    
    File::Spec                            0        3.87    
    FindBin                               0        1.53    
    lib                                   0        0.65    
    List::Util                            0        1.63    
    namespace::autoclean                  0        0.29    
    Path::Tiny                            0        0.142   
    perl                                  5.006000 5.037006
    strict                                0        1.12    
    warnings                              0        1.61    

build_requires:

    Module                                Need     Have    
    ------------------------------------- -------- --------
    base                                  0        2.27    
    blib                                  1.01     1.07    
    bytes                                 0        1.08    
    Catalyst                              0        5.90130 
    Catalyst::Controller                  0        0       
    Catalyst::Controller::DBIC::API::REST 2.006002 2.008001
    Catalyst::Helper                      0        1.42    
    Catalyst::Model::DBIC::Schema         0        0.65    
    Catalyst::Utils                       0        0       
    DBIx::Class::Core                     0        0       
    DBIx::Class::ResultSet                0        0       
    DBIx::Class::Schema                   0        0       
    ExtUtils::MakeMaker                   0        7.64    
    File::Copy::Recursive                 0        0.45    
    File::Path                            0        2.18    
    File::Spec                            0        3.87    
    HTTP::Request::Common                 0        6.44    
    IO::Handle                            0        1.51    
    IPC::Open3                            0        1.22    
    JSON::XS                              0        4.03    
    parent                                0        0.238   
    Test::Deep                            0        1.130   
    Test::More                            0        1.302191
    Test::WWW::Mechanize::Catalyst        0        0.62    
    URI                                   0        5.17    

configure_requires:

    Module                                Need     Have    
    ------------------------------------- -------- --------
    ExtUtils::MakeMaker                   0        7.64    


------------------------------
ENVIRONMENT AND OTHER CONTEXT
------------------------------

Environment variables:

    AUTOMATED_TESTING = 1
    LANG = en_US.UTF-8
    PATH = /home/sand/bin:/usr/local/bin:/usr/local/sbin:/usr/sbin:/usr/bin:/sbin:/bin:/usr/games:/usr/local/games:/snap/bin:/usr/local/perl/bin:/usr/X11/bin
    PERL = /tmp/basesmoker-reloperl-h690/bin/perl
    PERL5LIB = /tmp/loop_over_bdir-3557066-bc6Ier/Sysync-0.35-0/blib/arch:/tmp/loop_over_bdir-3557066-bc6Ier/Sysync-0.35-0/blib/lib:/tmp/loop_over_bdir-3557066-bc6Ier/triceps-2.1.0-0/blib/arch:/tmp/loop_over_bdir-3557066-bc6Ier/triceps-2.1.0-0/blib/lib:/tmp/loop_over_bdir-3557066-bc6Ier/DBIx-Migration-Directories-0.12-0/blib/arch:/tmp/loop_over_bdir-3557066-bc6Ier/DBIx-Migration-Directories-0.12-0/blib/lib:/tmp/loop_over_bdir-3557066-bc6Ier/Dpkg-1.21.9-0/blib/arch:/tmp/loop_over_bdir-3557066-bc6Ier/Dpkg-1.21.9-0/blib/lib:/tmp/loop_over_bdir-3557066-bc6Ier/dta-tokwrap-0.98-0/blib/arch:/tmp/loop_over_bdir-3557066-bc6Ier/dta-tokwrap-0.98-0/blib/lib
    PERL5OPT = 
    PERL5_CPANPLUS_IS_RUNNING = 3557074
    PERL5_CPAN_IS_RUNNING = 3557074
    PERL_CANARY_STABILITY_NOPROMPT = 1
    PERL_MM_USE_DEFAULT = 1
    PERL_USE_UNSAFE_INC = 1
    SHELL = /usr/bin/zsh
    TERM = screen

Perl special variables (and OS-specific diagnostics, for MSWin32):

    $^X = /tmp/basesmoker-reloperl-h690/bin/perl
    $UID/$EUID = 1005 / 1005
    $GID = 1005 1005
    $EGID = 1005 1005

Perl module toolchain versions installed:

    Module              Have    
    ------------------- --------
    CPAN                2.34    
    CPAN::Meta          2.150010
    Cwd                 3.86    
    ExtUtils::CBuilder  0.280238
    ExtUtils::Command   7.64    
    ExtUtils::Install   2.20    
    ExtUtils::MakeMaker 7.64    
    ExtUtils::Manifest  1.73    
    ExtUtils::ParseXS   3.48    
    File::Spec          3.87    
    JSON                4.10    
    JSON::PP            4.12    
    Module::Build       0.4231  
    Module::Signature   0.88    
    Parse::CPAN::Meta   2.150010
    Test::Harness       3.44    
    Test::More          1.302191
    YAML                1.30    
    YAML::Syck          1.34    
    version             0.9929  


--

Summary of my perl5 (revision 5 version 37 subversion 6) configuration:
  Commit id: d569e7cc1171d70b4ea183bc7c257dcf50f0ab12
  Platform:
    osname=linux
    osvers=5.4.0-132-generic
    archname=x86_64-linux-thread-multi-ld
    uname='linux k93focal 5.4.0-132-generic #148-ubuntu smp mon oct 17 16:02:06 utc 2022 x86_64 x86_64 x86_64 gnulinux '
    config_args='-Dprefix=/home/sand/src/perl/repoperls/installed-perls/host/k93focal/v5.37.6/e463 -Dmyhostname=k93focal -Dinstallusrbinperl=n -Uversiononly -Dusedevel -des -Ui_db -Dlibswanted=cl pthread socket inet nsl gdbm dbm malloc dl ld sun m crypt sec util c cposix posix ucb BSD gdbm_compat -Duseithreads -Duselongdouble -DEBUGGING=both'
    hint=recommended
    useposix=true
    d_sigaction=define
    useithreads=define
    usemultiplicity=define
    use64bitint=define
    use64bitall=define
    uselongdouble=define
    usemymalloc=n
    default_inc_excludes_dot=define
  Compiler:
    cc='cc'
    ccflags ='-D_REENTRANT -D_GNU_SOURCE -fwrapv -DDEBUGGING -fno-strict-aliasing -pipe -fstack-protector-strong -I/usr/local/include -D_LARGEFILE_SOURCE -D_FILE_OFFSET_BITS=64'
    optimize='-O2 -g'
    cppflags='-D_REENTRANT -D_GNU_SOURCE -fwrapv -DDEBUGGING -fno-strict-aliasing -pipe -fstack-protector-strong -I/usr/local/include'
    ccversion=''
    gccversion='9.4.0'
    gccosandvers=''
    intsize=4
    longsize=8
    ptrsize=8
    doublesize=8
    byteorder=12345678
    doublekind=3
    d_longlong=define
    longlongsize=8
    d_longdbl=define
    longdblsize=16
    longdblkind=3
    ivtype='long'
    ivsize=8
    nvtype='long double'
    nvsize=16
    Off_t='off_t'
    lseeksize=8
    alignbytes=16
    prototype=define
  Linker and Libraries:
    ld='cc'
    ldflags =' -fstack-protector-strong -L/usr/local/lib'
    libpth=/usr/local/lib /usr/lib/x86_64-linux-gnu /usr/lib /usr/lib64
    libs=-lpthread -lnsl -ldl -lm -lcrypt -lutil -lc
    perllibs=-lpthread -lnsl -ldl -lm -lcrypt -lutil -lc
    libc=libc-2.31.so
    so=so
    useshrplib=false
    libperl=libperl.a
    gnulibc_version='2.31'
  Dynamic Linking:
    dlsrc=dl_dlopen.xs
    dlext=so
    d_dlsymun=undef
    ccdlflags='-Wl,-E'
    cccdlflags='-fPIC'
    lddlflags='-shared -O2 -g -L/usr/local/lib -fstack-protector-strong'


Characteristics of this binary (from libperl): 
  Compile-time options:
    DEBUGGING
    HAS_TIMES
    MULTIPLICITY
    PERLIO_LAYERS
    PERL_COPY_ON_WRITE
    PERL_DONT_CREATE_GVSV
    PERL_HASH_FUNC_SIPHASH13
    PERL_HASH_USE_SBOX32
    PERL_MALLOC_WRAP
    PERL_OP_PARENT
    PERL_PRESERVE_IVUV
    PERL_TRACK_MEMPOOL
    PERL_USE_DEVEL
    PERL_USE_SAFE_PUTENV
    USE_64_BIT_ALL
    USE_64_BIT_INT
    USE_ITHREADS
    USE_LARGE_FILES
    USE_LOCALE
    USE_LOCALE_COLLATE
    USE_LOCALE_CTYPE
    USE_LOCALE_NUMERIC
    USE_LOCALE_TIME
    USE_LONG_DOUBLE
    USE_PERLIO
    USE_PERL_ATOF
    USE_REENTRANT_API
    USE_THREAD_SAFE_LOCALE
  Built under linux
  Compiled at Nov 20 2022 15:54:39
  %ENV:
    PERL="/tmp/basesmoker-reloperl-h690/bin/perl"
    PERL5LIB="/tmp/loop_over_bdir-3557066-bc6Ier/Sysync-0.35-0/blib/arch:/tmp/loop_over_bdir-3557066-bc6Ier/Sysync-0.35-0/blib/lib:/tmp/loop_over_bdir-3557066-bc6Ier/triceps-2.1.0-0/blib/arch:/tmp/loop_over_bdir-3557066-bc6Ier/triceps-2.1.0-0/blib/lib:/tmp/loop_over_bdir-3557066-bc6Ier/DBIx-Migration-Directories-0.12-0/blib/arch:/tmp/loop_over_bdir-3557066-bc6Ier/DBIx-Migration-Directories-0.12-0/blib/lib:/tmp/loop_over_bdir-3557066-bc6Ier/Dpkg-1.21.9-0/blib/arch:/tmp/loop_over_bdir-3557066-bc6Ier/Dpkg-1.21.9-0/blib/lib:/tmp/loop_over_bdir-3557066-bc6Ier/dta-tokwrap-0.98-0/blib/arch:/tmp/loop_over_bdir-3557066-bc6Ier/dta-tokwrap-0.98-0/blib/lib"
    PERL5OPT=""
    PERL5_CPANPLUS_IS_RUNNING="3557074"
    PERL5_CPAN_IS_RUNNING="3557074"
    PERL_CANARY_STABILITY_NOPROMPT="1"
    PERL_MM_USE_DEFAULT="1"
    PERL_USE_UNSAFE_INC="1"
  @INC:
    /tmp/loop_over_bdir-3557066-bc6Ier/Sysync-0.35-0/blib/arch
    /tmp/loop_over_bdir-3557066-bc6Ier/Sysync-0.35-0/blib/lib
    /tmp/loop_over_bdir-3557066-bc6Ier/triceps-2.1.0-0/blib/arch
    /tmp/loop_over_bdir-3557066-bc6Ier/triceps-2.1.0-0/blib/lib
    /tmp/loop_over_bdir-3557066-bc6Ier/DBIx-Migration-Directories-0.12-0/blib/arch
    /tmp/loop_over_bdir-3557066-bc6Ier/DBIx-Migration-Directories-0.12-0/blib/lib
    /tmp/loop_over_bdir-3557066-bc6Ier/Dpkg-1.21.9-0/blib/arch
    /tmp/loop_over_bdir-3557066-bc6Ier/Dpkg-1.21.9-0/blib/lib
    /tmp/loop_over_bdir-3557066-bc6Ier/dta-tokwrap-0.98-0/blib/arch
    /tmp/loop_over_bdir-3557066-bc6Ier/dta-tokwrap-0.98-0/blib/lib
    /home/sand/src/perl/repoperls/installed-perls/host/k93focal/v5.37.6/e463/lib/site_perl/5.37.6/x86_64-linux-thread-multi-ld
    /home/sand/src/perl/repoperls/installed-perls/host/k93focal/v5.37.6/e463/lib/site_perl/5.37.6
    /home/sand/src/perl/repoperls/installed-perls/host/k93focal/v5.37.6/e463/lib/5.37.6/x86_64-linux-thread-multi-ld
    /home/sand/src/perl/repoperls/installed-perls/host/k93focal/v5.37.6/e463/lib/5.37.6
    .