Alien-libuv v1.014 Perl 5 v5.30.2 MSWin32-x64-multi-thread

Status
Pass
From
twata
Dist
Alien-libuv v1.014
Platform
Perl 5 v5.30.2 MSWin32-x64-multi-thread
Date
2020-08-03 17:24:36
ID
2bfce571-6e2c-1014-b7dc-2b4a76a13fd6
This distribution has been tested as part of the CPAN Testers
project, supporting the Perl programming language.  See
http://wiki.cpantesters.org/ for more information or email
questions to cpan-testers-discuss@perl.org


--
Dear Chase Whitener,

This is a computer-generated report for Alien-libuv-1.014
on perl 5.30.2, created by CPAN-Reporter-1.2018.

Thank you for uploading your work to CPAN.  Congratulations!
All tests were successful.

Sections of this report:

    * Tester comments
    * Program output
    * Prerequisites
    * Environment and other context

------------------------------
TESTER COMMENTS
------------------------------

Additional comments from tester:

none provided

------------------------------
PROGRAM OUTPUT
------------------------------

Output from 'c:\Strawberry\c\bin\gmake.exe test':

"C:\Strawberry\perl\bin\perl.exe" -MAlien::Build::MM=cmd -e test
Alien::Build::Plugin::PkgConfig::Negotiate> Using PkgConfig plugin: PkgConfig::PP
"C:\Strawberry\perl\bin\perl.exe" "-MExtUtils::Command::MM" "-MTest::Harness" "-e" "undef *Test::Harness::Switches; test_harness(0, 'blib\lib', 'blib\arch')" t/*.t
# 
# Versions for all modules listed in MYMETA.json (including optional ones):
# 
# === Configure Requires ===
# 
#     Module                             Want Have
#     ---------------------------------- ---- ----
#     Alien::Build                       2.15 2.26
#     Alien::Build::MM                   0.32 2.26
#     Alien::Build::Plugin::Build::CMake 0.99 2.26
#     Alien::Build::Plugin::Build::Make  0.99 2.26
#     Alien::Build::Plugin::Probe::Vcpkg 2.15 2.26
#     ExtUtils::MakeMaker                6.52 7.44
# 
# === Build Requires ===
# 
#     Module                                        Want     Have
#     -------------------------------------------- ----- --------
#     Alien::Build                                  2.15     2.26
#     Alien::Build::MM                              0.32     2.26
#     Alien::Build::Plugin::Build::Make              any     2.26
#     Alien::Build::Plugin::Gather::IsolateDynamic  0.48     2.26
#     Alien::Build::Plugin::Probe::Vcpkg            2.15     2.26
#     Alien::cmake3                                 0.02     0.05
#     Archive::Tar                                   any     2.38
#     Config                                         any 5.030002
#     ExtUtils::MakeMaker                           6.52     7.44
#     HTTP::Tiny                                   0.044    0.076
#     IO::Socket::SSL                               1.56    2.067
#     IO::Zlib                                       any     1.10
#     IPC::Cmd                                       any     1.04
#     Mojo::DOM58                                   1.00    2.000
#     Net::SSLeay                                   1.49  1.89_01
#     Path::Tiny                                     any    0.114
#     Sort::Versions                                 any     1.62
#     URI                                            any     1.76
#     URI::Escape                                    any     3.31
# 
# === Test Requires ===
# 
#     Module              Want     Have
#     ------------------- ---- --------
#     ExtUtils::MakeMaker 6.52     7.44
#     File::Spec           any     3.78
#     Test2::Suite         any 0.000130
#     Test2::V0            any 0.000130
#     Test::Alien          any     2.26
#     Test::More          0.88 1.302175
# 
# === Test Recommends ===
# 
#     Module            Want     Have
#     ------------- -------- --------
#     CPAN::Meta    2.120900 2.150010
#     FFI::Platypus      any     1.10
# 
# === Runtime Requires ===
# 
#     Module                             Want Have
#     ---------------------------------- ---- ----
#     Alien::Base                        2.15 2.26
#     Alien::Build                       0.25 2.26
#     Alien::Build::Plugin::Build::CMake  any 2.26
#     Alien::cmake3                      0.04 0.05
#     base                                any 2.27
#     strict                              any 1.11
#     warnings                            any 1.44
# 
t/00-report-prereqs.t .. ok
# 
# 
# 
# HARNESS_ACTIVE=1
# HARNESS_VERSION=3.42
# PERL5LIB=C:\Strawberry\cpan\build\Alien-libuv-1.014-0\blib\lib;C:\Strawberry\cpan\build\Alien-libuv-1.014-0\blib\arch;C:\home\sunlight2\perl5\lib\perl5/MSWin32-x64-multi-thread;C:\home\sunlight2\perl5\lib\perl5;C:\home\sunlight2\perl5\lib\perl5
# PERL5_CPANPLUS_IS_RUNNING=5864
# PERL5_CPAN_IS_RUNNING=5864
# PERL_LOCAL_LIB_ROOT=C:\home\sunlight2\perl5
# PERL_MB_OPT=--install_base "C:\\home\\sunlight2\\perl5"
# PERL_MM_OPT=INSTALL_BASE=C:\\home\\sunlight2\\perl5
# PERL_MM_USE_DEFAULT=1
# PERL_USE_UNSAFE_INC=1
# 
# 
# 
# PERL5LIB path
# C:\Strawberry\cpan\build\Alien-libuv-1.014-0\blib\lib
# C:\Strawberry\cpan\build\Alien-libuv-1.014-0\blib\arch
# C:\home\sunlight2\perl5\lib\perl5/MSWin32-x64-multi-thread
# C:\home\sunlight2\perl5\lib\perl5
# C:\home\sunlight2\perl5\lib\perl5
# 
# 
# 
# perl                                  5.030002
# Alien::Base                           2.26
# Alien::Build                          2.26
# Alien::Build::MM                      2.26
# Alien::Build::Plugin::Build::Autoconf 2.26
# Config                                5.030002
# ExtUtils::MakeMaker                   7.44
# IPC::Cmd                              1.04
# Test2::Suite                          0.000130
# Test::Alien                           2.26
# Test::More                            1.302175
# 
# 
# 
# version        = 1.38.1
# cflags         = -IC:/Strawberry/cpan/build/Alien-libuv-1.014-0/blib/lib/auto/share/dist/Alien-libuv/include -DWIN32 -D_WIN32 -DWIN64 -D_WIN64 -D_WIN32_WINNT=0x0601 -DWINVER=0x0601
# cflags_static  = -IC:/Strawberry/cpan/build/Alien-libuv-1.014-0/blib/lib/auto/share/dist/Alien-libuv/include -DWIN32 -D_WIN32 -DWIN64 -D_WIN64 -D_WIN32_WINNT=0x0601 -DWINVER=0x0601
# libs           = -LC:/Strawberry/cpan/build/Alien-libuv-1.014-0/blib/lib/auto/share/dist/Alien-libuv/lib -luv -msse2 -ladvapi32 -lIphlpapi -lkernel32 -lpsapi -lshell32 -luser32 -luserenv -lws2_32
# libs_static    = -LC:/Strawberry/cpan/build/Alien-libuv-1.014-0/blib/lib/auto/share/dist/Alien-libuv/lib -luv -msse2 -ladvapi32 -lIphlpapi -lkernel32 -lpsapi -lshell32 -luser32 -luserenv -lws2_32
# 
# 
# 
t/00_diag.t ............ ok
# Install type: share
t/01_use.t ............. ok
t/ffi.t ................ ok
t/xs.t ................. ok
All tests successful.
Files=5, Tests=9, 15 wallclock secs ( 0.05 usr +  0.05 sys =  0.09 CPU)
Result: PASS

------------------------------
PREREQUISITES
------------------------------

Prerequisite modules loaded:

requires:

    Module                                       Need  Have    
    -------------------------------------------- ----- --------
    Alien::Base                                  2.15  2.26    
    Alien::Build                                 0.25  2.26    
    Alien::Build::Plugin::Build::CMake           0     2.26    
    Alien::cmake3                                0.04  0.05    
    base                                         0     2.27    
    strict                                       0     1.11    
    warnings                                     0     1.44    

build_requires:

    Module                                       Need  Have    
    -------------------------------------------- ----- --------
    Alien::Build                                 2.15  2.26    
    Alien::Build::MM                             0.32  2.26    
    Alien::Build::Plugin::Build::Make            0     2.26    
    Alien::Build::Plugin::Gather::IsolateDynamic 0.48  2.26    
    Alien::Build::Plugin::Probe::Vcpkg           2.15  2.26    
    Alien::cmake3                                0.02  0.05    
    Archive::Tar                                 0     2.38    
    Config                                       0     5.030002
    ExtUtils::MakeMaker                          6.52  7.44    
    File::Spec                                   0     3.78    
    HTTP::Tiny                                   0.044 0.076   
    IO::Socket::SSL                              1.56  2.067   
    IO::Zlib                                     0     1.10    
    IPC::Cmd                                     0     1.04    
    Mojo::DOM58                                  1.00  2.000   
    Net::SSLeay                                  1.49  1.89_01 
    Path::Tiny                                   0     0.114   
    Sort::Versions                               0     1.62    
    Test2::Suite                                 0     0.000130
    Test2::V0                                    0     0.000130
    Test::Alien                                  0     2.26    
    Test::More                                   0.88  1.302175
    URI                                          0     1.76    
    URI::Escape                                  0     3.31    

configure_requires:

    Module                                       Need  Have    
    -------------------------------------------- ----- --------
    Alien::Build                                 2.15  2.26    
    Alien::Build::MM                             0.32  2.26    
    Alien::Build::Plugin::Build::Make            0.01  2.26    
    Alien::Build::Plugin::Probe::Vcpkg           2.15  2.26    
    ExtUtils::MakeMaker                          6.52  7.44    


------------------------------
ENVIRONMENT AND OTHER CONTEXT
------------------------------

Environment variables:

    COMSPEC = C:\WINDOWS\system32\cmd.exe
    NONINTERACTIVE_TESTING = 1
    NUMBER_OF_PROCESSORS = 4
    PATH = C:\home\sunlight2\perl5\bin;C:\WINDOWS\system32;C:\WINDOWS;C:\WINDOWS\System32\Wbem;C:\WINDOWS\System32\WindowsPowerShell\v1.0\;C:\Strawberry\c\bin;C:\Strawberry\perl\site\bin;C:\Strawberry\perl\bin
    PERL5LIB = C:\home\sunlight2\perl5\lib\perl5
    PERL5OPT = 
    PERL5_CPANPLUS_IS_RUNNING = 5864
    PERL5_CPAN_IS_RUNNING = 5864
    PERL_LOCAL_LIB_ROOT = C:\home\sunlight2\perl5
    PERL_MB_OPT = --install_base "C:\\home\\sunlight2\\perl5"
    PERL_MM_OPT = INSTALL_BASE=C:\\home\\sunlight2\\perl5
    PERL_MM_USE_DEFAULT = 1
    PERL_USE_UNSAFE_INC = 1
    PROCESSOR_IDENTIFIER = Intel64 Family 6 Model 58 Stepping 9, GenuineIntel
    TEMP = C:\Users\USER\AppData\Local\Temp
    TERM = dumb

Perl special variables (and OS-specific diagnostics, for MSWin32):

    $^X = C:\Strawberry\perl\bin\perl.exe
    $UID/$EUID = 0 / 0
    $GID = 0
    $EGID = 0
    Win32::GetOSName = Win8.1
    Win32::GetOSVersion = , 6, 3, 9600, 2, 0, 0, 256, 1
    Win32::FsType = NTFS
    Win32::IsAdminUser = 0

Perl module toolchain versions installed:

    Module              Have    
    ------------------- --------
    CPAN                2.27    
    CPAN::Meta          2.150010
    Cwd                 3.78    
    ExtUtils::CBuilder  0.280234
    ExtUtils::Command   7.44    
    ExtUtils::Install   2.14    
    ExtUtils::MakeMaker 7.44    
    ExtUtils::Manifest  1.72    
    ExtUtils::ParseXS   3.40    
    File::Spec          3.78    
    JSON                4.02    
    JSON::PP            4.04    
    Module::Build       0.4231  
    Module::Signature   n/a     
    Parse::CPAN::Meta   2.150010
    Test::Harness       3.42    
    Test::More          1.302175
    YAML                1.30    
    YAML::Syck          n/a     
    version             0.9924  


--

Summary of my perl5 (revision 5 version 30 subversion 2) configuration:
   
  Platform:
    osname=MSWin32
    osvers=10.0.18363.720
    archname=MSWin32-x64-multi-thread
    uname='Win32 strawberry-perl 5.30.2.1 #1 Tue Mar 17 03:21:32 2020 x64'
    config_args='undef'
    hint=recommended
    useposix=true
    d_sigaction=undef
    useithreads=define
    usemultiplicity=define
    use64bitint=define
    use64bitall=undef
    uselongdouble=undef
    usemymalloc=n
    default_inc_excludes_dot=define
    bincompat5005=undef
  Compiler:
    cc='gcc'
    ccflags =' -s -O2 -DWIN32 -DWIN64 -DCONSERVATIVE -D__USE_MINGW_ANSI_STDIO -DPERL_TEXTMODE_SCRIPTS -DPERL_IMPLICIT_CONTEXT -DPERL_IMPLICIT_SYS -DUSE_PERLIO -fwrapv -fno-strict-aliasing -mms-bitfields'
    optimize='-s -O2'
    cppflags='-DWIN32'
    ccversion=''
    gccversion='8.3.0'
    gccosandvers=''
    intsize=4
    longsize=4
    ptrsize=8
    doublesize=8
    byteorder=12345678
    doublekind=3
    d_longlong=define
    longlongsize=8
    d_longdbl=define
    longdblsize=16
    longdblkind=3
    ivtype='long long'
    ivsize=8
    nvtype='double'
    nvsize=8
    Off_t='long long'
    lseeksize=8
    alignbytes=8
    prototype=define
  Linker and Libraries:
    ld='g++'
    ldflags ='-s -L"c:\Strawberry\perl\lib\CORE" -L"c:\Strawberry\c\lib"'
    libpth=c:\Strawberry\c\lib c:\Strawberry\c\x86_64-w64-mingw32\lib c:\Strawberry\c\lib\gcc\x86_64-w64-mingw32\8.3.0
    libs= -lmoldname -lkernel32 -luser32 -lgdi32 -lwinspool -lcomdlg32 -ladvapi32 -lshell32 -lole32 -loleaut32 -lnetapi32 -luuid -lws2_32 -lmpr -lwinmm -lversion -lodbc32 -lodbccp32 -lcomctl32
    perllibs= -lmoldname -lkernel32 -luser32 -lgdi32 -lwinspool -lcomdlg32 -ladvapi32 -lshell32 -lole32 -loleaut32 -lnetapi32 -luuid -lws2_32 -lmpr -lwinmm -lversion -lodbc32 -lodbccp32 -lcomctl32
    libc=
    so=dll
    useshrplib=true
    libperl=libperl530.a
    gnulibc_version=''
  Dynamic Linking:
    dlsrc=dl_win32.xs
    dlext=xs.dll
    d_dlsymun=undef
    ccdlflags=' '
    cccdlflags=' '
    lddlflags='-mdll -s -L"c:\Strawberry\perl\lib\CORE" -L"c:\Strawberry\c\lib"'


Characteristics of this binary (from libperl): 
  Compile-time options:
    HAS_TIMES
    HAVE_INTERP_INTERN
    MULTIPLICITY
    PERLIO_LAYERS
    PERL_COPY_ON_WRITE
    PERL_DONT_CREATE_GVSV
    PERL_IMPLICIT_CONTEXT
    PERL_IMPLICIT_SYS
    PERL_MALLOC_WRAP
    PERL_OP_PARENT
    PERL_PRESERVE_IVUV
    USE_64_BIT_INT
    USE_ITHREADS
    USE_LARGE_FILES
    USE_LOCALE
    USE_LOCALE_COLLATE
    USE_LOCALE_CTYPE
    USE_LOCALE_NUMERIC
    USE_LOCALE_TIME
    USE_PERLIO
    USE_PERL_ATOF
  Built under MSWin32
  Compiled at Mar 17 2020 03:27:53
  %ENV:
    PERL5LIB="C:\home\sunlight2\perl5\lib\perl5"
    PERL5_CPANPLUS_IS_RUNNING="5864"
    PERL5_CPAN_IS_RUNNING="5864"
    PERL_LOCAL_LIB_ROOT="C:\home\sunlight2\perl5"
    PERL_MB_OPT="--install_base "C:\\home\\sunlight2\\perl5""
    PERL_MM_OPT="INSTALL_BASE=C:\\home\\sunlight2\\perl5"
    PERL_MM_USE_DEFAULT="1"
    PERL_USE_UNSAFE_INC="1"
  @INC:
    C:\home\sunlight2\perl5\lib\perl5/MSWin32-x64-multi-thread
    C:\home\sunlight2\perl5\lib\perl5
    C:/Strawberry/perl/site/lib
    C:/Strawberry/perl/vendor/lib
    C:/Strawberry/perl/lib
    .