Back
From: metabase:user:320bfe00-2aae-11df-837a-5e0a49663a4f
Subject: PASS Filter-Crypto-2.06 v5.10.0 GNU/Linux
Date: 2014-05-30T08:27:00Z
This distribution has been tested as part of the CPAN Testers
project, supporting the Perl programming language. See
http://wiki.cpantesters.org/ for more information or email
questions to cpan-testers-discuss@perl.org
--
Dear Steve Hay,
This is a computer-generated report for Filter-Crypto-2.06
on perl 5.10.0, created by CPAN-Reporter-1.2011.
Thank you for uploading your work to CPAN. Congratulations!
All tests were successful.
Sections of this report:
* Tester comments
* Program output
* Prerequisites
* Environment and other context
------------------------------
TESTER COMMENTS
------------------------------
Additional comments from tester:
this report is from an automated smoke testing program
and was not reviewed by a human for accuracy
------------------------------
PROGRAM OUTPUT
------------------------------
Output from '/usr/bin/make test':
make[1]: Entering directory `/tmp/loop_over_bdir-26202-UOqrDR/Filter-Crypto-2.06-vZ1xOA/CryptFile'
Running Mkbootstrap for Filter::Crypto::CryptFile ()
chmod 644 CryptFile.bs
make[1]: Leaving directory `/tmp/loop_over_bdir-26202-UOqrDR/Filter-Crypto-2.06-vZ1xOA/CryptFile'
make[1]: Entering directory `/tmp/loop_over_bdir-26202-UOqrDR/Filter-Crypto-2.06-vZ1xOA/Decrypt'
Running Mkbootstrap for Filter::Crypto::Decrypt ()
chmod 644 Decrypt.bs
make[1]: Leaving directory `/tmp/loop_over_bdir-26202-UOqrDR/Filter-Crypto-2.06-vZ1xOA/Decrypt'
PERL_DL_NONLAZY=1 /home/sand/src/perl/repoperls/installed-perls/perl/perl-5.10.0/5da8/bin/perl "-MExtUtils::Command::MM" "-MTest::Harness" "-e" "undef *Test::Harness::Switches; test_harness(0, 'blib/lib', 'blib/arch')" t/*.t
t/01_imports_01.t .. ok
t/01_imports_02.t .. ok
t/01_imports_03.t .. ok
t/01_imports_04.t .. ok
t/02_function.t .... ok
t/03_script.t ...... ok
t/04_par.t ......... skipped: PAR::Filter required to test PAR::Filter::Crypto
t/05_errstr.t ...... ok
t/06_pod.t ......... ok
All tests successful.
Files=9, Tests=438, 27 wallclock secs ( 0.09 usr 0.02 sys + 8.28 cusr 0.82 csys = 9.21 CPU)
Result: PASS
------------------------------
PREREQUISITES
------------------------------
Prerequisite modules loaded:
requires:
Module Need Have
--------------------- -------- ------------
Exporter 0 5.70
Fcntl 0 1.06
perl 5.008001 5.010000
Scalar::Util 0 1.38
Text::ParseWords 0 3.29
XSLoader 0 0.16
build_requires:
Module Need Have
--------------------- -------- ------------
blib 0 1.03
Config 0 0
Cwd 0 3.47
ExtUtils::MakeMaker 0 6.98
File::Copy 0 2.11
File::Spec::Functions 0 3.47
FindBin 0 1.49
perl 5.008001 5.010000
strict 0 1.04
Test::More 0 1.001004_003
warnings 0 1.06
configure_requires:
Module Need Have
--------------------- -------- ------------
Carp 0 1.3301
Config 0 0
constant 0 1.27
Cwd 0 3.47
ExtUtils::MakeMaker 6.66 6.98
Fcntl 0 1.06
File::Basename 0 2.76
File::Copy 0 2.11
File::Spec::Functions 0 3.47
Getopt::Long 0 2.42
perl 5.008001 5.010000
Pod::Usage 1.15 1.63
strict 0 1.04
Text::Wrap 0 2013.0523
warnings 0 1.06
------------------------------
ENVIRONMENT AND OTHER CONTEXT
------------------------------
Environment variables:
AUTOMATED_TESTING = 1
LANG = en_US.UTF-8
LANGUAGE = en_US:en
PATH = /usr/lib/ccache:/home/sand/bin:/usr/local/bin:/usr/bin:/bin:/usr/games:/usr/local/perl/bin:/usr/X11/bin:/sbin:/usr/sbin
PERL5LIB =
PERL5OPT =
PERL5_CPANPLUS_IS_RUNNING = 26203
PERL5_CPAN_IS_RUNNING = 26203
PERL_MM_USE_DEFAULT = 1
SHELL = /usr/bin/zsh
TERM = screen
Perl special variables (and OS-specific diagnostics, for MSWin32):
$^X = /home/sand/src/perl/repoperls/installed-perls/perl/perl-5.10.0/5da8/bin/perl
$UID/$EUID = 1005 / 1005
$GID = 1005 1005
$EGID = 1005 1005
Perl module toolchain versions installed:
Module Have
------------------- ------------
CPAN 2.05
CPAN::Meta 2.141170
Cwd 3.47
ExtUtils::CBuilder 0.280216
ExtUtils::Command 1.16
ExtUtils::Install 1.66
ExtUtils::MakeMaker 6.98
ExtUtils::Manifest 1.60
ExtUtils::ParseXS 3.24
File::Spec 3.47
JSON 2.90
JSON::PP 2.27203
Module::Build 0.4205
Module::Signature 0.73
Parse::CPAN::Meta 1.4414
Test::Harness 3.30
Test::More 1.001004_003
YAML 0.92
YAML::Syck 1.27
version 0.9908
--
Summary of my perl5 (revision 5 version 10 subversion 0) configuration:
Platform:
osname=linux, osvers=3.13-1-amd64, archname=x86_64-linux
uname='linux k83 3.13-1-amd64 #1 smp debian 3.13.7-1 (2014-03-25) x86_64 gnulinux '
config_args='-Dprefix=/home/sand/src/perl/repoperls/installed-perls/perl/perl-5.10.0/5da8 -Dmyhostname=k83 -Dinstallusrbinperl=n -Uversiononly -Dusedevel -des -Ui_db -Uuseithreads -Uuselongdouble -DDEBUGGING=-g -Dusedl -Ddlsrc=dl_dlopen.xs -Dlibs=-lnsl -ldb -ldl -lm -lcrypt -lutil -lc -Dlibpth=/usr/lib/x86_64-linux-gnu /usr/local/lib /lib /usr/lib'
hint=recommended, useposix=true, d_sigaction=define
useithreads=undef, usemultiplicity=undef
useperlio=define, d_sfio=undef, uselargefiles=define, usesocks=undef
use64bitint=define, use64bitall=define, uselongdouble=undef
usemymalloc=n, bincompat5005=undef
Compiler:
cc='cc', ccflags ='-fno-strict-aliasing -pipe -I/usr/local/include -D_LARGEFILE_SOURCE -D_FILE_OFFSET_BITS=64',
optimize='-O2 -g',
cppflags='-fno-strict-aliasing -pipe -I/usr/local/include'
ccversion='', gccversion='4.8.2', gccosandvers=''
intsize=4, longsize=8, ptrsize=8, doublesize=8, byteorder=12345678
d_longlong=define, longlongsize=8, d_longdbl=define, longdblsize=16
ivtype='long', ivsize=8, nvtype='double', nvsize=8, Off_t='off_t', lseeksize=8
alignbytes=8, prototype=define
Linker and Libraries:
ld='cc', ldflags =' -L/usr/local/lib'
libpth=/usr/lib/x86_64-linux-gnu /usr/local/lib /lib /usr/lib
libs=-lnsl -ldb -ldl -lm -lcrypt -lutil -lc
perllibs=-lnsl -ldl -lm -lcrypt -lutil -lc
libc=, so=so, useshrplib=false, libperl=libperl.a
gnulibc_version='2.18'
Dynamic Linking:
dlsrc=dl_dlopen.xs, dlext=so, d_dlsymun=undef, ccdlflags='-Wl,-E'
cccdlflags='-fPIC', lddlflags='-shared -O2 -g -L/usr/local/lib'
Characteristics of this binary (from libperl):
Compile-time options: PERL_DONT_CREATE_GVSV PERL_MALLOC_WRAP USE_64_BIT_ALL
USE_64_BIT_INT USE_LARGE_FILES USE_PERLIO
Built under linux
Compiled at Apr 2 2014 20:39:41
%ENV:
PERL5LIB=""
PERL5OPT=""
PERL5_CPANPLUS_IS_RUNNING="26203"
PERL5_CPAN_IS_RUNNING="26203"
PERL_MM_USE_DEFAULT="1"
@INC:
/home/sand/src/perl/repoperls/installed-perls/perl/perl-5.10.0/5da8/lib/5.10.0/x86_64-linux
/home/sand/src/perl/repoperls/installed-perls/perl/perl-5.10.0/5da8/lib/5.10.0
/home/sand/src/perl/repoperls/installed-perls/perl/perl-5.10.0/5da8/lib/site_perl/5.10.0/x86_64-linux
/home/sand/src/perl/repoperls/installed-perls/perl/perl-5.10.0/5da8/lib/site_perl/5.10.0
.