Rose-HTML-Objects v0.626 Perl 5 v5.30.3 x86_64-linux

Status
Pass
From
Slaven Rezić
Dist
Rose-HTML-Objects v0.626
Platform
Perl 5 v5.30.3 x86_64-linux
Date
2023-08-14 14:52:21
ID
2c20b51c-3ab2-11ee-8fc9-51076e8775ea
This distribution has been tested as part of the CPAN Testers
project, supporting the Perl programming language.  See
http://wiki.cpantesters.org/ for more information or email
questions to cpan-testers-discuss@perl.org


--
Dear John Siracusa,

This is a computer-generated report for Rose-HTML-Objects-0.626
on perl 5.30.3, created by CPAN-Reporter-1.2018.

Thank you for uploading your work to CPAN.  Congratulations!
All tests were successful.

Sections of this report:

    * Tester comments
    * Program output
    * Prerequisites
    * Environment and other context

------------------------------
TESTER COMMENTS
------------------------------

Additional comments from tester:

none provided

------------------------------
PROGRAM OUTPUT
------------------------------

Output from '/usr/bin/make test':

PERL_DL_NONLAZY=1 "/opt/perl-5.30.3/bin/perl" "-MExtUtils::Command::MM" "-MTest::Harness" "-e" "undef *Test::Harness::Switches; test_harness(0, 'blib/lib', 'blib/arch')" t/*.t
t/00-warning.t .................... ok
t/anchor.t ........................ ok
t/attachments.t ................... skipped: disabled
t/form-field-checkbox-group.t ..... ok
t/form-field-checkbox.t ........... ok
t/form-field-compound.t ........... ok
t/form-field-datetime-split.t ..... ok
t/form-field-datetime.t ........... ok
t/form-field-email.t .............. ok
t/form-field-file.t ............... ok
t/form-field-hidden.t ............. ok
t/form-field-integer.t ............ ok
t/form-field-l10n.t ............... ok
t/form-field-numeric.t ............ ok
t/form-field-option.t ............. ok
t/form-field-optiongroup.t ........ ok
t/form-field-password.t ........... ok
t/form-field-phone.t .............. ok
t/form-field-popup-menu.t ......... ok
t/form-field-radio-group.t ........ ok
t/form-field-radiobutton.t ........ ok
t/form-field-reset.t .............. ok
t/form-field-selectbox.t .......... ok
t/form-field-set.t ................ ok
t/form-field-submit.t ............. ok
t/form-field-text.t ............... ok
t/form-field-textarea.t ........... ok
t/form-field-time-split.t ......... ok
t/form-field-time.t ............... ok
t/form-field.t .................... ok
t/form-l10n.t ..................... ok
t/form-nested.t ................... ok
t/form-repeatable.t ............... ok
t/form.t .......................... ok
t/image.t ......................... ok
t/l10n-errors-01.t ................ ok
t/l10n-message.t .................. ok
t/l10n-messages-01.t .............. ok
t/label.t ......................... ok
t/leaks.t ......................... ok
t/link.t .......................... ok
t/localizer-auto-load-messages.t .. ok
t/mro-c3.t ........................ ok
t/object-l10n.t ................... ok
t/object-localizer.t .............. ok
t/object-message.t ................ ok
t/object.t ........................ ok
t/pod.t ........................... ok
t/private-library.t ............... ok
t/script.t ........................ ok
t/text.t .......................... ok
All tests successful.
Files=51, Tests=2441,  7 wallclock secs ( 0.31 usr  0.05 sys +  6.98 cusr  0.77 csys =  8.11 CPU)
Result: PASS

------------------------------
PREREQUISITES
------------------------------

Prerequisite modules loaded:

requires:

    Module              Need     Have    
    ------------------- -------- --------
    base                2.18     2.27    
    Carp                0        1.50    
    Clone::PP           0        1.08    
    DateTime            0.20     1.59    
    Email::Valid        0        1.203   
    Encode              0        3.19    
    File::Basename      0        2.85    
    File::Path          0        2.18    
    File::Spec          0        3.78    
    HTML::Entities      0        3.81    
    Image::Size         0        3.300   
    IO::String          1.08     1.08    
    List::MoreUtils     0        0.430   
    perl                5.006000 5.030003
    Rose::DateTime      0.532    0.540   
    Rose::Object        0.854    0.860   
    Rose::URI           0.021    1.00    
    Scalar::Util        0        1.63    
    URI::Escape         0        5.19    

build_requires:

    Module              Need     Have    
    ------------------- -------- --------
    ExtUtils::MakeMaker 0        7.70    

configure_requires:

    Module              Need     Have    
    ------------------- -------- --------
    ExtUtils::MakeMaker 0        7.70    


------------------------------
ENVIRONMENT AND OTHER CONTEXT
------------------------------

Environment variables:

    LANG = en_US.UTF-8
    PATH = /usr/local/bin:/usr/bin:/bin:/usr/local/sbin:/usr/sbin:/sbin:/home/cpansand/bin/linux-gnu:/home/cpansand/bin/sh:/home/cpansand/bin:/usr/games:/home/cpansand/devel:/home/eserte/src/srezic-misc/scripts
    PERL5LIB = 
    PERL5OPT = 
    PERL5_CPANPLUS_IS_RUNNING = 8102
    PERL5_CPAN_IS_RUNNING = 8102
    PERL5_CPAN_IS_RUNNING_IN_RECURSION = 7235,8102
    PERLDOC = -MPod::Perldoc::ToTextOverstrike
    PERL_BATCH = yes
    PERL_CANARY_STABILITY_NOPROMPT = 1
    PERL_CPAN_REPORTER_CONFIG = /var/tmp/cpansmoker-1023/2023081414/cpanreporter_000_config.ini
    PERL_EXTUTILS_AUTOINSTALL = --defaultdeps
    PERL_USE_UNSAFE_INC = 1
    SHELL = /usr/bin/zsh
    TERM = screen
    TMPDIR = /var/tmp/cpansmoker-1023/2023081414

Perl special variables (and OS-specific diagnostics, for MSWin32):

    $^X = /opt/perl-5.30.3/bin/perl
    $UID/$EUID = 1023 / 1023
    $GID = 1023 1023
    $EGID = 1023 1023

Perl module toolchain versions installed:

    Module              Have    
    ------------------- --------
    CPAN                2.36    
    CPAN::Meta          2.150010
    Cwd                 3.78    
    ExtUtils::CBuilder  0.280236
    ExtUtils::Command   7.70    
    ExtUtils::Install   2.22    
    ExtUtils::MakeMaker 7.70    
    ExtUtils::Manifest  1.72    
    ExtUtils::ParseXS   3.40    
    File::Spec          3.78    
    JSON                4.10    
    JSON::PP            4.12    
    Module::Build       0.4231  
    Module::Signature   n/a     
    Parse::CPAN::Meta   2.150010
    Test::Harness       3.47    
    Test::More          1.302195
    YAML                1.30    
    YAML::Syck          1.34    
    version             0.9929  


--

Summary of my perl5 (revision 5 version 30 subversion 3) configuration:
   
  Platform:
    osname=linux
    osvers=3.10.0-1160.76.1.el7.x86_64
    archname=x86_64-linux
    uname='linux cloud3.bbbike.org 3.10.0-1160.76.1.el7.x86_64 #1 smp wed aug 10 16:21:17 utc 2022 x86_64 x86_64 x86_64 gnulinux '
    config_args='-ds -e -Dprefix=/opt/perl-5.30.3 -Dcf_email=srezic@cpan.org'
    hint=recommended
    useposix=true
    d_sigaction=define
    useithreads=undef
    usemultiplicity=undef
    use64bitint=define
    use64bitall=define
    uselongdouble=undef
    usemymalloc=n
    default_inc_excludes_dot=define
    bincompat5005=undef
  Compiler:
    cc='cc'
    ccflags ='-fwrapv -fno-strict-aliasing -pipe -fstack-protector-strong -I/usr/local/include -D_LARGEFILE_SOURCE -D_FILE_OFFSET_BITS=64 -D_FORTIFY_SOURCE=2'
    optimize='-O2'
    cppflags='-fwrapv -fno-strict-aliasing -pipe -fstack-protector-strong -I/usr/local/include'
    ccversion=''
    gccversion='4.8.5 20150623 (Red Hat 4.8.5-44)'
    gccosandvers=''
    intsize=4
    longsize=8
    ptrsize=8
    doublesize=8
    byteorder=12345678
    doublekind=3
    d_longlong=define
    longlongsize=8
    d_longdbl=define
    longdblsize=16
    longdblkind=3
    ivtype='long'
    ivsize=8
    nvtype='double'
    nvsize=8
    Off_t='off_t'
    lseeksize=8
    alignbytes=8
    prototype=define
  Linker and Libraries:
    ld='cc'
    ldflags =' -fstack-protector-strong -L/usr/local/lib'
    libpth=/usr/local/lib /usr/lib /lib/../lib64 /usr/lib/../lib64 /lib /lib64 /usr/lib64 /usr/local/lib64
    libs=-lpthread -lnsl -lgdbm -ldb -ldl -lm -lcrypt -lutil -lc -lgdbm_compat
    perllibs=-lpthread -lnsl -ldl -lm -lcrypt -lutil -lc
    libc=libc-2.17.so
    so=so
    useshrplib=false
    libperl=libperl.a
    gnulibc_version='2.17'
  Dynamic Linking:
    dlsrc=dl_dlopen.xs
    dlext=so
    d_dlsymun=undef
    ccdlflags='-Wl,-E'
    cccdlflags='-fPIC'
    lddlflags='-shared -O2 -L/usr/local/lib -fstack-protector-strong'


Characteristics of this binary (from libperl): 
  Compile-time options:
    HAS_TIMES
    PERLIO_LAYERS
    PERL_COPY_ON_WRITE
    PERL_DONT_CREATE_GVSV
    PERL_MALLOC_WRAP
    PERL_OP_PARENT
    PERL_PRESERVE_IVUV
    USE_64_BIT_ALL
    USE_64_BIT_INT
    USE_LARGE_FILES
    USE_LOCALE
    USE_LOCALE_COLLATE
    USE_LOCALE_CTYPE
    USE_LOCALE_NUMERIC
    USE_LOCALE_TIME
    USE_PERLIO
    USE_PERL_ATOF
  Locally applied patches:
    Devel::PatchPerl 2.08
  Built under linux
  Compiled at Sep 23 2022 05:47:21
  %ENV:
    PERL5LIB=""
    PERL5OPT=""
    PERL5_CPANPLUS_IS_RUNNING="8102"
    PERL5_CPAN_IS_RUNNING="8102"
    PERL5_CPAN_IS_RUNNING_IN_RECURSION="7235,8102"
    PERLDOC="-MPod::Perldoc::ToTextOverstrike"
    PERL_BATCH="yes"
    PERL_CANARY_STABILITY_NOPROMPT="1"
    PERL_CPAN_REPORTER_CONFIG="/var/tmp/cpansmoker-1023/2023081414/cpanreporter_000_config.ini"
    PERL_EXTUTILS_AUTOINSTALL="--defaultdeps"
    PERL_USE_UNSAFE_INC="1"
  @INC:
    /opt/perl-5.30.3/lib/site_perl/5.30.3/x86_64-linux
    /opt/perl-5.30.3/lib/site_perl/5.30.3
    /opt/perl-5.30.3/lib/5.30.3/x86_64-linux
    /opt/perl-5.30.3/lib/5.30.3
    .