Report for Net-Launchpad-2.101

Back
From: metabase:user:320bfe00-2aae-11df-837a-5e0a49663a4f
Subject: PASS Net-Launchpad-2.101 v5.16.3 GNU/Linux
Date: 2014-11-01T05:44:40Z

This distribution has been tested as part of the CPAN Testers
project, supporting the Perl programming language.  See
http://wiki.cpantesters.org/ for more information or email
questions to cpan-testers-discuss@perl.org


--
Dear Adam Stokes,

This is a computer-generated report for Net-Launchpad-2.101
on perl 5.16.3, created by CPAN-Reporter-1.2011.

Thank you for uploading your work to CPAN.  Congratulations!
All tests were successful.

Sections of this report:

    * Tester comments
    * Program output
    * Prerequisites
    * Environment and other context

------------------------------
TESTER COMMENTS
------------------------------

Additional comments from tester:

this report is from an automated smoke testing program
and was not reviewed by a human for accuracy

------------------------------
PROGRAM OUTPUT
------------------------------

Output from '/usr/bin/make test':

PERL_DL_NONLAZY=1 "/home/sand/src/perl/repoperls/installed-perls/perl/v5.16.3/165a/bin/perl" "-MExtUtils::Command::MM" "-MTest::Harness" "-e" "undef *Test::Harness::Switches; test_harness(0, 'blib/lib', 'blib/arch')" "t/*.t"
t/00-compile.t ............... ok

# Versions for all modules listed in MYMETA.json (including optional ones):
# 
# === Configure Requires ===
# 
#     Module              Want    Have
#     ------------------- ---- -------
#     ExtUtils::MakeMaker  any 7.01_04
# 
# === Build Requires ===
# 
#     Module              Want    Have
#     ------------------- ---- -------
#     ExtUtils::MakeMaker  any 7.01_04
# 
# === Test Requires ===
# 
#     Module              Want         Have
#     ------------------- ---- ------------
#     ExtUtils::MakeMaker  any      7.01_04
#     File::Spec           any         3.47
#     FindBin              any         1.51
#     IO::Handle           any         1.33
#     IPC::Open3           any         1.12
#     Mojolicious          any         5.56
#     Test::Compile        any       v1.2.0
#     Test::Exception      any         0.35
#     Test::Kwalitee       any         1.22
#     Test::Mojo           any        undef
#     Test::More           any 1.301001_068
#     Test::NoTabs         any          1.3
#     lib                  any         0.63
#     strict               any         1.07
#     warnings             any         1.13
# 
# === Test Recommends ===
# 
#     Module         Want     Have
#     ---------- -------- --------
#     CPAN::Meta 2.120900 2.142690
# 
# === Runtime Requires ===
# 
#     Module                Want   Have
#     --------------------- ---- ------
#     Data::Dumper::Concise  any  2.022
#     Function::Parameters   any 1.0602
#     Module::Runtime        any  0.014
#     Mojo::JSON             any  undef
#     Mojo::Parameters       any  undef
#     Mojo::URL              any  undef
#     Mojo::UserAgent        any  undef
#     Moose                  any 2.1400
#     Moose::Role            any 2.1400
#     Moose::Util            any 2.1400
#     namespace::autoclean   any   0.20
# 
t/00-report-prereqs.t ........ ok
t/01-distributions.t ......... skipped: must export launchpad credentials to enable these tests
t/02-bugs.t .................. skipped: must export launchpad credentials to enable these tests
t/03-people.t ................ skipped: must export launchpad credentials to enable these tests
t/04-projects.t .............. skipped: must export launchpad credentials to enable these tests
t/05-branches.t .............. skipped: must export launchpad credentials to enable these tests
t/06-country.t ............... skipped: must export launchpad credentials to enable these tests
t/07-builder.t ............... skipped: must export launchpad credentials to enable these tests
t/author-no-tabs.t ........... skipped: these tests are for testing by the author
t/basic.t .................... ok
t/release-kwalitee.t ......... skipped: these tests are for release candidate testing
t/release-minimum-version.t .. skipped: these tests are for release candidate testing
All tests successful.
Files=13, Tests=41, 24 wallclock secs ( 0.05 usr  0.01 sys + 11.55 cusr  0.89 csys = 12.50 CPU)
Result: PASS

------------------------------
PREREQUISITES
------------------------------

Prerequisite modules loaded:

requires:

    Module                Need Have        
    --------------------- ---- ------------
    Data::Dumper::Concise 0    2.022       
    Function::Parameters  0    1.0602      
    Module::Runtime       0    0.014       
    Mojo::JSON            0    0           
    Mojo::Parameters      0    0           
    Mojo::URL             0    0           
    Mojo::UserAgent       0    0           
    Moose                 0    2.1400      
    Moose::Role           0    2.1400      
    Moose::Util           0    2.1400      
    namespace::autoclean  0    0.20        

build_requires:

    Module                Need Have        
    --------------------- ---- ------------
    ExtUtils::MakeMaker   0    7.01_04     
    File::Spec            0    3.47        
    FindBin               0    1.51        
    IO::Handle            0    1.33        
    IPC::Open3            0    1.12        
    lib                   0    0.63        
    Mojolicious           0    5.56        
    strict                0    1.07        
    Test::Compile         0    v1.2.0      
    Test::Exception       0    0.35        
    Test::Kwalitee        0    1.22        
    Test::Mojo            0    0           
    Test::More            0    1.301001_068
    Test::NoTabs          0    1.3         
    warnings              0    1.13        

configure_requires:

    Module                Need Have        
    --------------------- ---- ------------
    ExtUtils::MakeMaker   0    7.01_04     


------------------------------
ENVIRONMENT AND OTHER CONTEXT
------------------------------

Environment variables:

    AUTOMATED_TESTING = 1
    LANG = en_US.UTF-8
    LANGUAGE = en_US:en
    PATH = /home/sand/bin:/usr/local/bin:/usr/bin:/bin:/usr/games:/usr/local/perl/bin:/usr/X11/bin:/sbin:/usr/sbin
    PERL5LIB = 
    PERL5OPT = 
    PERL5_CPANPLUS_IS_RUNNING = 5003
    PERL5_CPAN_IS_RUNNING = 5003
    PERL_MM_USE_DEFAULT = 1
    SHELL = /usr/bin/zsh
    TERM = screen

Perl special variables (and OS-specific diagnostics, for MSWin32):

    $^X = /home/sand/src/perl/repoperls/installed-perls/perl/v5.16.3/165a/bin/perl
    $UID/$EUID = 1005 / 1005
    $GID = 1005 1005
    $EGID = 1005 1005

Perl module toolchain versions installed:

    Module              Have        
    ------------------- ------------
    CPAN                2.05        
    CPAN::Meta          2.142690    
    Cwd                 3.47        
    ExtUtils::CBuilder  0.280220    
    ExtUtils::Command   1.17        
    ExtUtils::Install   1.58        
    ExtUtils::MakeMaker 7.01_04     
    ExtUtils::Manifest  1.68        
    ExtUtils::ParseXS   3.24        
    File::Spec          3.47        
    JSON                2.90        
    JSON::PP            2.27203     
    Module::Build       0.4210      
    Module::Signature   0.73        
    Parse::CPAN::Meta   1.4414      
    Test::Harness       3.33        
    Test::More          1.301001_068
    YAML                1.13        
    YAML::Syck          1.27        
    version             0.9909      


--

Summary of my perl5 (revision 5 version 16 subversion 3) configuration:
  Commit id: fd04d42d38f4751b981eb6e9213ee1ab8ef11ea6
  Platform:
    osname=linux, osvers=3.16-2-amd64, archname=x86_64-linux
    uname='linux k83 3.16-2-amd64 #1 smp debian 3.16.3-2 (2014-09-20) x86_64 gnulinux '
    config_args='-Dprefix=/home/sand/src/perl/repoperls/installed-perls/perl/v5.16.3/165a -Dmyhostname=k83 -Dinstallusrbinperl=n -Uversiononly -Dusedevel -des -Ui_db -Uuseithreads -Uuselongdouble -DDEBUGGING=-g'
    hint=recommended, useposix=true, d_sigaction=define
    useithreads=undef, usemultiplicity=undef
    useperlio=define, d_sfio=undef, uselargefiles=define, usesocks=undef
    use64bitint=define, use64bitall=define, uselongdouble=undef
    usemymalloc=n, bincompat5005=undef
  Compiler:
    cc='cc', ccflags ='-fno-strict-aliasing -pipe -fstack-protector -I/usr/local/include -D_LARGEFILE_SOURCE -D_FILE_OFFSET_BITS=64',
    optimize='-O2 -g',
    cppflags='-fno-strict-aliasing -pipe -fstack-protector -I/usr/local/include'
    ccversion='', gccversion='4.9.1', gccosandvers=''
    intsize=4, longsize=8, ptrsize=8, doublesize=8, byteorder=12345678
    d_longlong=define, longlongsize=8, d_longdbl=define, longdblsize=16
    ivtype='long', ivsize=8, nvtype='double', nvsize=8, Off_t='off_t', lseeksize=8
    alignbytes=8, prototype=define
  Linker and Libraries:
    ld='cc', ldflags =' -fstack-protector -L/usr/local/lib'
    libpth=/usr/local/lib /lib/x86_64-linux-gnu /lib/../lib /usr/lib/x86_64-linux-gnu /usr/lib/../lib /lib /usr/lib
    libs=-lnsl -lgdbm -ldb -ldl -lm -lcrypt -lutil -lc -lgdbm_compat
    perllibs=-lnsl -ldl -lm -lcrypt -lutil -lc
    libc=, so=so, useshrplib=false, libperl=libperl.a
    gnulibc_version='2.19'
  Dynamic Linking:
    dlsrc=dl_dlopen.xs, dlext=so, d_dlsymun=undef, ccdlflags='-Wl,-E'
    cccdlflags='-fPIC', lddlflags='-shared -O2 -g -L/usr/local/lib -fstack-protector'


Characteristics of this binary (from libperl): 
  Compile-time options: HAS_TIMES PERLIO_LAYERS PERL_DONT_CREATE_GVSV
                        PERL_MALLOC_WRAP PERL_PRESERVE_IVUV PERL_USE_DEVEL
                        USE_64_BIT_ALL USE_64_BIT_INT USE_LARGE_FILES
                        USE_LOCALE USE_LOCALE_COLLATE USE_LOCALE_CTYPE
                        USE_LOCALE_NUMERIC USE_PERLIO USE_PERL_ATOF
  Built under linux
  Compiled at Oct 17 2014 10:19:52
  %ENV:
    PERL5LIB=""
    PERL5OPT=""
    PERL5_CPANPLUS_IS_RUNNING="5003"
    PERL5_CPAN_IS_RUNNING="5003"
    PERL_MM_USE_DEFAULT="1"
  @INC:
    /home/sand/src/perl/repoperls/installed-perls/perl/v5.16.3/165a/lib/site_perl/5.16.3/x86_64-linux
    /home/sand/src/perl/repoperls/installed-perls/perl/v5.16.3/165a/lib/site_perl/5.16.3
    /home/sand/src/perl/repoperls/installed-perls/perl/v5.16.3/165a/lib/5.16.3/x86_64-linux
    /home/sand/src/perl/repoperls/installed-perls/perl/v5.16.3/165a/lib/5.16.3
    .