Report for Net-Squid-Purge-0.1

Back
From: metabase:user:30f0bd62-2aae-11df-837a-5e0a49663a4f
Subject: PASS Net-Squid-Purge-0.1 v5.16.2 OpenBSD
Date: 2012-12-24T23:39:34Z

This distribution has been tested as part of the CPAN Testers
project, supporting the Perl programming language.  See
http://wiki.cpantesters.org/ for more information or email
questions to cpan-testers-discuss@perl.org


--
Dear Nicholas Gerakines,

This is a computer-generated report for Net-Squid-Purge-0.1
on perl 5.16.2, created by CPAN-Reporter-1.2006.

Thank you for uploading your work to CPAN.  Congratulations!
All tests were successful.

Sections of this report:

    * Tester comments
    * Program output
    * Prerequisites
    * Environment and other context

------------------------------
TESTER COMMENTS
------------------------------

Additional comments from tester:

this report is from an automated smoke testing program
and was not reviewed by a human for accuracy

------------------------------
PROGRAM OUTPUT
------------------------------

Output from './Build test':

# Testing Net::Squid::Purge 0.1, Perl 5.016002, /home/sts/cpansmoke/perl-5.16.2/bin/perl
t/00-compile.t ....... ok
t/05-pod.t ........... ok
t/06-pod_coverage.t .. ok
no_plan takes no arguments at t/11-new.t line 6.
t/11-new.t ........... ok
no_plan takes no arguments at t/12-usage.t line 6.
t/12-usage.t ......... ok
All tests successful.
Files=5, Tests=23,  1 wallclock secs ( 0.03 usr  0.04 sys +  0.32 cusr  0.07 csys =  0.46 CPU)
Result: PASS

------------------------------
PREREQUISITES
------------------------------

Prerequisite modules loaded:

requires:

    Module                Need Have 
    --------------------- ---- -----
    Class::Accessor       0    0.34 
    HTTP::Status          0    6.03 
    IO::Socket::INET      0    1.33 
    IO::Socket::Multicast 0    1.12 
    Net::HTTP             0    6.05 
    Socket                0    2.001

build_requires:

    Module                Need Have 
    --------------------- ---- -----
    Test::Exception       0    0.31 
    Test::Group           0    0.18 
    Test::More            0    0.98 


------------------------------
ENVIRONMENT AND OTHER CONTEXT
------------------------------

Environment variables:

    AUTOMATED_TESTING = 1
    PATH = /home/sts/bin:/bin:/sbin:/usr/bin:/usr/sbin:/usr/X11R6/bin:/usr/local/bin:/usr/local/sbin:/usr/games:.
    PERL5LIB = /home/sts/cpansmoke/perl-5.16.2/cpan/build/Test-Cmd-1.05-mCTdOg/blib/arch:/home/sts/cpansmoke/perl-5.16.2/cpan/build/Test-Cmd-1.05-mCTdOg/blib/lib:/home/sts/cpansmoke/perl-5.16.2/cpan/build/Test-Group-0.18-3a1iuS/blib/arch:/home/sts/cpansmoke/perl-5.16.2/cpan/build/Test-Group-0.18-3a1iuS/blib/lib:/home/sts/cpansmoke/perl-5.16.2/cpan/build/IO-Socket-Multicast-1.12-ruAmXx/blib/arch:/home/sts/cpansmoke/perl-5.16.2/cpan/build/IO-Socket-Multicast-1.12-ruAmXx/blib/lib:/home/sts/cpansmoke/perl-5.16.2/cpan/build/Class-Accessor-0.34-vxVZhI/blib/arch:/home/sts/cpansmoke/perl-5.16.2/cpan/build/Class-Accessor-0.34-vxVZhI/blib/lib
    PERL5OPT = 
    PERL5_CPANPLUS_IS_RUNNING = 17027
    PERL5_CPAN_IS_RUNNING = 17027
    PERL5_CPAN_IS_RUNNING_IN_RECURSION = 21152,17027
    PERL_CR_SMOKER_CURRENT = Net-Squid-Purge-0.1
    PERL_EXTUTILS_AUTOINSTALL = --defaultdeps
    PERL_MM_USE_DEFAULT = 1
    SHELL = /usr/local/bin/bash
    TERM = screen
    TMPDIR = /home/sts/cpansmoke/tmp

Perl special variables (and OS-specific diagnostics, for MSWin32):

    $^X = /home/sts/cpansmoke/perl-5.16.2/bin/perl
    $UID/$EUID = 1000 / 1000
    $GID = 10 10 0
    $EGID = 10 10 0

Perl module toolchain versions installed:

    Module              Have    
    ------------------- --------
    CPAN                1.9800  
    CPAN::Meta          2.120630
    Cwd                 3.39_02 
    ExtUtils::CBuilder  0.280206
    ExtUtils::Command   1.17    
    ExtUtils::Install   1.58    
    ExtUtils::MakeMaker 6.64    
    ExtUtils::Manifest  1.61    
    ExtUtils::ParseXS   3.16    
    File::Spec          3.39_02 
    JSON                2.53    
    JSON::PP            2.27200 
    Module::Build       0.39_01 
    Module::Signature   n/a     
    Parse::CPAN::Meta   1.4402  
    Test::Harness       3.23    
    Test::More          0.98    
    YAML                n/a     
    YAML::Syck          n/a     
    version             0.99    


--

Summary of my perl5 (revision 5 version 16 subversion 2) configuration:
   
  Platform:
    osname=openbsd, osvers=5.2, archname=OpenBSD.i386-openbsd-thread-multi
    uname='openbsd cpansmoke3 5.2 generic.mp#339 i386 '
    config_args='-des -Dusethreads -Dprefix=/home/sts/cpansmoke/perl-5.16.2'
    hint=recommended, useposix=true, d_sigaction=define
    useithreads=define, usemultiplicity=define
    useperlio=define, d_sfio=undef, uselargefiles=define, usesocks=undef
    use64bitint=undef, use64bitall=undef, uselongdouble=undef
    usemymalloc=y, bincompat5005=undef
  Compiler:
    cc='cc', ccflags ='-pthread -fno-strict-aliasing -pipe -fstack-protector -I/usr/local/include',
    optimize='-O2',
    cppflags='-pthread -fno-strict-aliasing -pipe -fstack-protector -I/usr/local/include'
    ccversion='', gccversion='4.2.1 20070719 ', gccosandvers='openbsd5.2'
    intsize=4, longsize=4, ptrsize=4, doublesize=8, byteorder=1234
    d_longlong=define, longlongsize=8, d_longdbl=define, longdblsize=12
    ivtype='long', ivsize=4, nvtype='double', nvsize=8, Off_t='off_t', lseeksize=8
    alignbytes=4, prototype=define
  Linker and Libraries:
    ld='cc', ldflags ='-pthread -Wl,-E  -fstack-protector -L/usr/local/lib'
    libpth=/usr/local/lib /usr/lib
    libs=-lgdbm -lm -lutil -lc
    perllibs=-lm -lutil -lc
    libc=/usr/lib/libc.so.65.0, so=so, useshrplib=false, libperl=libperl.a
    gnulibc_version=''
  Dynamic Linking:
    dlsrc=dl_dlopen.xs, dlext=so, d_dlsymun=undef, ccdlflags=' '
    cccdlflags='-DPIC -fPIC ', lddlflags='-shared -fPIC  -L/usr/local/lib -fstack-protector'


Characteristics of this binary (from libperl): 
  Compile-time options: HAS_TIMES MULTIPLICITY MYMALLOC PERLIO_LAYERS
                        PERL_DONT_CREATE_GVSV PERL_IMPLICIT_CONTEXT
                        PERL_MALLOC_WRAP PERL_PRESERVE_IVUV USE_ITHREADS
                        USE_LARGE_FILES USE_LOCALE USE_LOCALE_COLLATE
                        USE_LOCALE_CTYPE USE_LOCALE_NUMERIC USE_PERLIO
                        USE_PERL_ATOF USE_REENTRANT_API
  Built under openbsd
  Compiled at Dec  9 2012 16:40:35
  %ENV:
    PERL5LIB="/home/sts/cpansmoke/perl-5.16.2/cpan/build/Test-Cmd-1.05-mCTdOg/blib/arch:/home/sts/cpansmoke/perl-5.16.2/cpan/build/Test-Cmd-1.05-mCTdOg/blib/lib:/home/sts/cpansmoke/perl-5.16.2/cpan/build/Test-Group-0.18-3a1iuS/blib/arch:/home/sts/cpansmoke/perl-5.16.2/cpan/build/Test-Group-0.18-3a1iuS/blib/lib:/home/sts/cpansmoke/perl-5.16.2/cpan/build/IO-Socket-Multicast-1.12-ruAmXx/blib/arch:/home/sts/cpansmoke/perl-5.16.2/cpan/build/IO-Socket-Multicast-1.12-ruAmXx/blib/lib:/home/sts/cpansmoke/perl-5.16.2/cpan/build/Class-Accessor-0.34-vxVZhI/blib/arch:/home/sts/cpansmoke/perl-5.16.2/cpan/build/Class-Accessor-0.34-vxVZhI/blib/lib"
    PERL5OPT=""
    PERL5_CPANPLUS_IS_RUNNING="17027"
    PERL5_CPAN_IS_RUNNING="17027"
    PERL5_CPAN_IS_RUNNING_IN_RECURSION="21152,17027"
    PERL_CR_SMOKER_CURRENT="Net-Squid-Purge-0.1"
    PERL_EXTUTILS_AUTOINSTALL="--defaultdeps"
    PERL_MM_USE_DEFAULT="1"
  @INC:
    /home/sts/cpansmoke/perl-5.16.2/cpan/build/Test-Cmd-1.05-mCTdOg/blib/arch
    /home/sts/cpansmoke/perl-5.16.2/cpan/build/Test-Cmd-1.05-mCTdOg/blib/lib
    /home/sts/cpansmoke/perl-5.16.2/cpan/build/Test-Group-0.18-3a1iuS/blib/arch
    /home/sts/cpansmoke/perl-5.16.2/cpan/build/Test-Group-0.18-3a1iuS/blib/lib
    /home/sts/cpansmoke/perl-5.16.2/cpan/build/IO-Socket-Multicast-1.12-ruAmXx/blib/arch
    /home/sts/cpansmoke/perl-5.16.2/cpan/build/IO-Socket-Multicast-1.12-ruAmXx/blib/lib
    /home/sts/cpansmoke/perl-5.16.2/cpan/build/Class-Accessor-0.34-vxVZhI/blib/arch
    /home/sts/cpansmoke/perl-5.16.2/cpan/build/Class-Accessor-0.34-vxVZhI/blib/lib
    /home/sts/cpansmoke/perl-5.16.2/lib/site_perl/5.16.2/OpenBSD.i386-openbsd-thread-multi
    /home/sts/cpansmoke/perl-5.16.2/lib/site_perl/5.16.2
    /home/sts/cpansmoke/perl-5.16.2/lib/5.16.2/OpenBSD.i386-openbsd-thread-multi
    /home/sts/cpansmoke/perl-5.16.2/lib/5.16.2
    .