DBIx-Class v0.082843 Perl 5 v5.24.4 amd64-freebsd-thread-multi
- Status
- Pass
- From
- Chris Williams (BINGOS)
- Dist
-
DBIx-Class v0.082843
- Platform
- Perl 5 v5.24.4 amd64-freebsd-thread-multi
- Date
- 2023-05-11 14:21:51
- ID
- 2c34ef46-f007-11ed-98b0-b3c3213a625c
This distribution has been tested as part of the CPAN Testers
project, supporting the Perl programming language. See
http://wiki.cpantesters.org/ for more information or email
questions to cpan-testers-discuss@perl.org
--
Dear Peter Rabbitson,
This is a computer-generated error report created automatically by
CPANPLUS, version 0.9914. Testers personal comments may appear
at the end of this report.
Thank you for uploading your work to CPAN. Congratulations!
All tests were successful.
TEST RESULTS:
Below is the error stack from stage 'make test':
PERL_DL_NONLAZY=1 "/usr/home/cpan/pit/thr/perl-5.24.4/bin/perl" "-MExtUtils::Command::MM" "-MTest::Harness" "-e" "undef *Test::Harness::Switches; test_harness(0, 'inc', 'blib/lib', 'blib/arch')" t/*.t t/admin/*.t t/cdbi/*.t t/cdbi/DeepAbstractSearch/*.t t/cdbi/abstract/*.t t/cdbi/sweet/*.t t/count/*.t t/debug/*.t t/delete/*.t t/inflate/*.t t/multi_create/*.t t/ordered/*.t t/pager/*.t t/pager/data_page_compat/*.t t/prefetch/*.t t/relationship/*.t t/resultset/*.t t/resultsource/*.t t/row/*.t t/schema/*.t t/search/*.t t/sqlmaker/*.t t/sqlmaker/hierarchical/*.t t/sqlmaker/limit_dialects/*.t t/storage/*.t t/update/*.t xt/*.t
#
#
# List of loadable modules within both *OPTIONAL* and core dependency chains
# present on this system (modules sourced from ./blib, ./lib, ./t, and ./xt
# with versions identical to their parent namespace were omitted for brevity)
#
# *** Note that *MANY* of these modules will *NEVER* be loaded ***
# *** during normal operation of DBIx::Class ***
#
# @INC at startup (does not reflect manipulation at runtime):
# 0: ./inc/
# 1: ./blib/lib/
# 2: ./blib/arch/
# ...
# 6: /usr/home/cpan/pit/jail/t7p5O2G5RB/lib/perl5/amd64-freebsd-thread-multi
# ...
# 10: /usr/home/cpan/pit/jail/t7p5O2G5RB/lib/perl5
# ...
# 15: ./blib/lib/
# 16: ./blib/arch/
# 17: <<SA>>/
# 18: <<SL>>/
# 19: <<PA>>/
# 20: <<PL>>/
# 21: ./
#
# Sourcing markers:
# PA: $Config{archlib}
# PL: $Config{privlib}
# SA: $Config{sitearch}
# SL: $Config{sitelib}
# BLL: ./blib/lib/
#
# =============================
# PA 1.62 B [ MD5: 2070df46368dd143080c85b6b6ca4691 ]
# $INC[10] 0.26 B::Hooks::EndOfScope [ MD5: 81d925c811e2cc8823f5c412f9effb9c ]
# $INC[10] 0.26 B::Hooks::EndOfScope::XS [ MD5: ee7befcbdfcd80d29413fff85df3f8e6 ]
# PL 2.23_01 base [ MD5: bc6f948e85b3ab28ac50a9978dcd2d63 ]
# PL 1.05 bytes [ MD5: 0b1f4cf7f07548ffd51cd5ddb6644fe2 ]
# PL 1.40 Carp [ MD5: a3cb0babdfa022a5decf1052634e2918 ]
# PL 1.40 Carp::Heavy [ MD5: e4a36ff2089c607229ed6b31594a6d73 ]
# $INC[10] 0.10014 Class::Accessor::Grouped [ MD5: e62be17499d53d13f67a4361268aac40 ]
# $INC[10] 1.001002 Class::C3::Componentised [ MD5: 2e92d4f7f9a7d2eda3cd1100583541a2 ]
# $INC[10] 1.36 Class::Inspector [ MD5: 7aed0ce1dfc5dd2067632ea22fd2f483 ]
# PL 0.65 Class::Struct [ MD5: cf060e4d87730484dcdf246d806fec93 ]
# $INC[6] 1.19 Class::XSAccessor [ MD5: 0b7adfcc61192a80f97463e89d6d1696 ]
# $INC[6] 1.19 Class::XSAccessor::Heavy [ MD5: db9379a668d6133fce801e4648cdef45 ]
# $INC[10] 0.010 Clone::Choose [ MD5: 884cece05d3959f067c7e20ed3d05cf5 ]
# PA 5.024004 Config [ MD5: 189f5b42fa2382aedb58d0c10e636f09 ]
# PL 1.33 constant [ MD5: 56cde6eba0f667ab56196613df3933c1 ]
# $INC[10] 0.03 Context::Preserve [ MD5: 62155e2bc041508eff050250d74a0c38 ]
# SA 3.75 Cwd [ MD5: ac096f132d787b5c834fdf897d149650 ]
# PA 2.160 Data::Dumper [ MD5: f0ed0c70c06e29d5629f81fa5b432032 ]
# $INC[10] 2.023 Data::Dumper::Concise [ MD5: b18cb47e46e385ccee825ac7e5e59d9e ]
# $INC[6] 1.72 DBD::SQLite [ MD5: db379a3ef07ab5a8edd9d1332df1a97f ]
# $INC[6] 1.643 DBI [ MD5: f21c16d842093e2a90b21537379e38df ]
# BLL 0.082843 DBIx::Class [ MD5: c7e0efa8ca59419329d4b8c7a6364ea1 ]
# $INC[10] 0.14 Devel::GlobalDestruction [ MD5: fa8dcedeb9a8a3d29fbef7dfce342970 ]
# PL 1.16 Digest::base [ MD5: c46e2ebb720ee7d9c600ce5acbf34291 ]
# PA 2.54 Digest::MD5 [ MD5: 17734b8e5d67e9158617290e76474da1 ]
# PA 1.38 DynaLoader [ MD5: 383171a44ca44b925dfecc91ed62992b ]
# PA 2.80_01 Encode [ MD5: 431da124410fe6d4cf6a79deff88b2df ]
# PA 2.20 Encode::Alias [ MD5: 7a38d7cffbb79b5e300711a344b64ce1 ]
# PA 2.05 Encode::Config [ MD5: 7bdd1d8dffa8d3500086802451fc020d ]
# PA 2.07 Encode::Encoding [ MD5: 34dc1ab677a5e9b9b4ab88acbde70db4 ]
# PA 1.25 Errno [ MD5: cf7c83bc7fbb44529ae67f0b24a280d4 ]
# PL 5.72 Exporter [ MD5: 358c4022647b971c7c4f3a4157b8343e ]
# PL 5.72 Exporter::Heavy [ MD5: d8032ca40b44e010673e6dd5816ca66b ]
# SL 7.70 ExtUtils::Liblist [ MD5: c9069f0f6e900bfd9eadff2a1a301446 ]
# SL 7.70 ExtUtils::Liblist::Kid [ MD5: 9839f307b2a36e024ceadfc3a973665b ]
# SL 7.70 ExtUtils::MakeMaker [ MD5: aaea40ece5921374bdb887804e369651 ]
# SL 7.70 ExtUtils::MakeMaker::Config [ MD5: 95dc9e7a78625f07a6a6705a2c5c7b96 ]
# SL 7.70 ExtUtils::MakeMaker::Locale [ MD5: 812cf58103ba63ecb30519c03bcb9f50 ]
# SL 7.70 ExtUtils::MakeMaker::version [ MD5: adc3c98daf02acf1b493b55be72f81cb ]
# SL 7.70 ExtUtils::MM [ MD5: 88e5b28ded1f9e138feae652b0c86a02 ]
# SL 7.70 ExtUtils::MM_Any [ MD5: 24b8035eb7ba1abc217f87a1f05ab493 ]
# SL 7.70 ExtUtils::MM_Unix [ MD5: 40f4d1a8b171ffb5a8ee4b7eadc6a9b7 ]
# SL 7.70 ExtUtils::MY [ MD5: f388bf55acd14e9fb7d5e07b23c1bf7e ]
# PA 1.13 Fcntl [ MD5: b337d563fd4bc958c7e0a2bba2ca86d2 ]
# PL 2.85 File::Basename [ MD5: 060f029d056cc44e536c7d278f69bf43 ]
# PL 2.31 File::Copy [ MD5: 90c6c9c0fc2b2025d9a0011d8a739b30 ]
# PL 1.34 File::Find [ MD5: 04150524197463018d3188f24e360c5e ]
# PA 1.26 File::Glob [ MD5: 492d05c53f04725e2c192d4e6494d70a ]
# SL 2.18 File::Path [ MD5: 3e82792800b06742b5e275937e6637d5 ]
# SA 3.75 File::Spec [ MD5: 60adab4a60c40a7115274bd9c0801425 ]
# SA 3.75 File::Spec::Unix [ MD5: 64adb743d17fa746ca7c31eb21971eb7 ]
# PL 1.07 File::stat [ MD5: d6fcb5be03ba2b0f34569f8dbc9c17c8 ]
# SL 0.2311 File::Temp [ MD5: d1685b3aa6a3cea2b2b6c61aa1111db8 ]
# 0.2311 File::Temp::Dir ! -f $INC{'File/Temp/Dir.pm'}
# $INC[10] 0.302 Hash::Merge [ MD5: 85df9910eb2a543ae53fff090dcb3901 ]
# PA 0.13 I18N::Langinfo [ MD5: 706de135fde051348167b99b4d87722f ]
# PL 1.01 integer [ MD5: 3e5ff5fb486c95945e10e79859dd5bfb ]
# PA 1.36_01 IO [ MD5: d207c967e05877c22030026fb44a6463 ]
# PA 1.10 IO::Dir [ MD5: 3382ea44d8e267cc12a596fbfe73ff92 ]
# PA 1.16 IO::File [ MD5: 206278c02dd4a3fb7792a4a193d2588b ]
# PA 1.36 IO::Handle [ MD5: ba4d379aeccdf0982810a9ebc71aa1ce ]
# PA 1.10 IO::Seekable [ MD5: f62813b55c062f449160100dca67d043 ]
# PL 2.27300_01 JSON::PP [ MD5: d5527ebcaf3c20cb7af1fdfce407e016 ]
# 1.01 JSON::PP::IncrParser ! -f $INC{'JSON/PP/IncrParser.pm'}
# PA 1.42_02 List::Util [ MD5: c4fd4daa9491db5248a668867c0cf206 ]
# PL 1.09 locale [ MD5: 0e2f243d25cdd1380e17ebfb8b9eee5c ]
# PL 1.999715 Math::BigInt [ MD5: 93d5c1f6884d5a1e6253d37991b0c1ff ]
# $INC[10] Method::Generate::Accessor [ MD5: d47a048aab919a461b808db19577afef ]
# $INC[10] Method::Generate::Constructor [ MD5: 7dc09b7430c43a91a9cecb31226bf8c9 ]
# $INC[10] 0.09 Module::Implementation [ MD5: 2a146bb117cd6b798e2b928231799546 ]
# $INC[10] 0.016 Module::Runtime [ MD5: db1042b0f9341111c7f904480a82596a ]
# $INC[10] 2.005005 Moo [ MD5: 4a65f229ead7080111adf8844aeaced4 ]
# $INC[10] Moo::Object [ MD5: f6f8cdcf4b6326f4bf927941d2276d4f ]
# $INC[10] Moo::sification [ MD5: 1c3b20406b7da09888e8557b40e9ce0d ]
# PA 1.18 mro [ MD5: 93660969c79eb0ef068b3b7ffb78ede5 ]
# $INC[10] 0.15 MRO::Compat [ MD5: bef0019fecfbcbba419a25fef7883ff3 ]
# $INC[10] 0.27 namespace::clean [ MD5: f3e03f7f5f26391565d98357834e909b ]
# PL 1.26 overload [ MD5: 3c13b1c95b630670a05772446e1d3258 ]
# PL 0.02 overloading [ MD5: 36e1b34f8175e036d57e51fd7d56becd ]
# $INC[10] 0.40 Package::Stash [ MD5: a30009fe1da4beeffea3864a6eca7e0a ]
# $INC[6] 0.30 Package::Stash::XS [ MD5: cbd3767a10ffd80ba463fa430661693c ]
# PL 0.234 parent [ MD5: bc8ab538eb7a4ef2fce1962729785f0f ]
# $INC[10] 0.37 Path::Class [ MD5: 62b3248e0d25291933a8d0f09e731547 ]
# $INC[10] 0.37 Path::Class::Dir [ MD5: 9b7bd783037e1e812d6a82d62bcecb92 ]
# $INC[10] 0.37 Path::Class::Entity [ MD5: 8e14d34b8f5a0909736e9bdaac460848 ]
# $INC[10] 0.37 Path::Class::File [ MD5: b7f9029ac9e90dc1d509a95d12103c69 ]
# 5.024004 perl [ MD5: 007ab3cc9fea304789336b3e91ca0f6f ]
# PL 1.09 PerlIO [ MD5: d39a87a60835f4adf917148eef5e0c79 ]
# PA 1.65_01 POSIX [ MD5: 08e1da1dab1d8192563db0034468f924 ]
# PA 1.42_02 Scalar::Util [ MD5: c6ccca4484a53b73003bfe62e87a71a8 ]
# $INC[10] 0.21 Scope::Guard [ MD5: 914494bdeb65cd340f14eae265635cf2 ]
# PL 1.02 SelectSaver [ MD5: bddc465e351ad0508581b94ef112d322 ]
# $INC[10] 1.91 SQL::Abstract::Classic [ MD5: 82c47bb99257b1225bb3576458e85992 ]
# $INC[10] SQL::Abstract::Tree [ MD5: 4ebd475571c49fd341fd961558c89c7b ]
# $INC[10] SQL::Abstract::Util [ MD5: 4599b28bcd164597e690650c495bd658 ]
# SA 3.25 Storable [ MD5: e9a33f56cbcade2846ccdb2e4a0dd2c6 ]
# PL 1.11 strict [ MD5: 441328c7ffbbe42a0226ec65bde71715 ]
# $INC[10] 2.006008 Sub::Defer [ MD5: 6b8855b52fcf3dd457e526a865cd36a9 ]
# $INC[10] 0.001013 Sub::Exporter::Progressive [ MD5: 5f37412f2438f87c7b088c7b2e6dd8ab ]
# $INC[6] 0.27 Sub::Name [ MD5: b3b2852075ebd8e985cf22a419162175 ]
# $INC[10] 2.006008 Sub::Quote [ MD5: 5a9049ccbcf14dd9c30d5811501a24c5 ]
# PA 1.42_02 Sub::Util [ MD5: 74db62c553f555ada196d28b320d882a ]
# PL 1.07 Symbol [ MD5: 083c3fe866ec1be9c84540b9ac8e6eee ]
# SL 1.302194 Test2::API [ MD5: 669ac9fefe3ec7eaf3ed6eada5800e82 ]
# SL 1.302194 Test2::API::Context [ MD5: a81d0904e4902480c0559394fbb00bb1 ]
# SL 1.302194 Test2::API::Instance [ MD5: f81a9f47f8426a00ee5ff790b4632be5 ]
# SL 1.302194 Test2::API::Stack [ MD5: a0dc38348661a989c9eafbc3273f4b1e ]
# SL 1.302194 Test2::Event [ MD5: b119113f4844021df1426ec7d2f45745 ]
# SL 1.302194 Test2::Event::Bail [ MD5: 36e75fd126b3e172dd78aedcec98bfa5 ]
# SL 1.302194 Test2::Event::Diag [ MD5: 9097b1bee5c5752a80a91e11b33ae9a0 ]
# SL 1.302194 Test2::Event::Exception [ MD5: 091e54c89c5108ec10fbe30b62706e31 ]
# SL 1.302194 Test2::Event::Fail [ MD5: acfd0c2480e119c4211de5b528d93def ]
# SL 1.302194 Test2::Event::Note [ MD5: 011efcd45729e5979a02dba313281f67 ]
# SL 1.302194 Test2::Event::Ok [ MD5: c163154b69cd8e15e6451e9c367544de ]
# SL 1.302194 Test2::Event::Pass [ MD5: 3063da1acd3c5714e466cde12d432545 ]
# SL 1.302194 Test2::Event::Plan [ MD5: f06443587d8020004e3232245dad73de ]
# SL 1.302194 Test2::Event::Skip [ MD5: 39a52bdc87c7f48de835da1ed4eaf132 ]
# SL 1.302194 Test2::Event::Subtest [ MD5: 5174ac88b38ef915cf2c5ca25dcb2660 ]
# SL 1.302194 Test2::Event::V2 [ MD5: cc783b81b785243a7245102625711e29 ]
# SL 1.302194 Test2::Event::Waiting [ MD5: bba14a4d8b1eb0d697593dfba71fd406 ]
# SL 1.302194 Test2::EventFacet [ MD5: 477beb9eaaf842ff339e0400479ea762 ]
# SL 1.302194 Test2::EventFacet::About [ MD5: f78aebb445d0b0122d9993370e48e5ee ]
# SL 1.302194 Test2::EventFacet::Amnesty [ MD5: 0127dd22899de379c09b70cfdda3402b ]
# SL 1.302194 Test2::EventFacet::Assert [ MD5: 8a5ca16136c295c6c62fc81b109cfeb0 ]
# SL 1.302194 Test2::EventFacet::Control [ MD5: a2ca368e6a4bff4e34c5c1b492edcbfb ]
# SL 1.302194 Test2::EventFacet::Error [ MD5: 9e45f16e6e403b79e15a1e80546cc735 ]
# SL 1.302194 Test2::EventFacet::Hub [ MD5: 5237ea47ad3ac4498b5dd4263a004a88 ]
# SL 1.302194 Test2::EventFacet::Info [ MD5: effa583c204d1f6d9bf80e1912cb81cb ]
# SL 1.302194 Test2::EventFacet::Meta [ MD5: 3139931aa2400092dc7ae73896be15de ]
# SL 1.302194 Test2::EventFacet::Parent [ MD5: e40e99dc3d27a59cfae31aa18ee7cb0a ]
# SL 1.302194 Test2::EventFacet::Plan [ MD5: bb2c40ff10850011b6f70e9ce0bad89f ]
# SL 1.302194 Test2::EventFacet::Trace [ MD5: 06f4e4636a7c0606b7cf8e9267c59b25 ]
# SL 1.302194 Test2::Formatter [ MD5: 87cd670a44f40d9ccb05cfac7033bda0 ]
# SL 1.302194 Test2::Formatter::TAP [ MD5: 6653d50fb9f90b45187eefac5bcf7d4f ]
# SL 1.302194 Test2::Hub [ MD5: d022fe31c950d0e901d56ff7ca2e55c5 ]
# SL 1.302194 Test2::Hub::Interceptor [ MD5: 9d2de29b790e9d107cac6d9862391ba4 ]
# SL 1.302194 Test2::Hub::Interceptor::Terminator [ MD5: 99876b00db527c31fa3c9b13d95460b1 ]
# SL 1.302194 Test2::Hub::Subtest [ MD5: 6cde238ba3ed76ff98f76fff26d2b7b7 ]
# SL 1.302194 Test2::Util [ MD5: 36ad290daec5d1f8a311e2eff9533af4 ]
# SL 1.302194 Test2::Util::ExternalMeta [ MD5: ffc2a8018772ba69727ccbc85e5ee50d ]
# SL 1.302194 Test2::Util::Facets2Legacy [ MD5: b8c1e2be2d7847a2ba57690519132b87 ]
# SL 1.302194 Test2::Util::HashBase [ MD5: 1be8007b8ee6e4716560fc18ed04dd9f ]
# SL 1.302194 Test2::Util::Trace [ MD5: 7baee80bf942371ebbeb03a2ef17a61d ]
# SL 1.302194 Test::Builder [ MD5: d8e1c78b6023a40c10e5e9c30287a512 ]
# SL 1.302194 Test::Builder::Formatter [ MD5: afda4841a19c99bdcb70f6dedf0c3b4a ]
# SL 1.302194 Test::Builder::Module [ MD5: e86271f5a602c15838f75799c827e3d1 ]
# SL 1.302194 Test::Builder::TodoDiag [ MD5: e6f7e672faa2ea2b10c3d4f460b3a293 ]
# SL 1.302194 Test::More [ MD5: e94d5dba5f5aade5ab43ffaab793e224 ]
# PL 1.05 Tie::Hash [ MD5: acc4709f0adb89bef2863771b6995d2b ]
# PA 1.9741 Time::HiRes [ MD5: 1d000317cf75b2f0496533568e8a2711 ]
# $INC[10] 0.31 Try::Tiny [ MD5: bd4812ceab0afd05e1c985d727a8b3a1 ]
# PL 1.19 utf8 [ MD5: 1e81482deb175e2b15443c5223ec2e17 ]
# $INC[6] 0.63 Variable::Magic [ MD5: 440264775da527af552aafac0a9bfd78 ]
# PL 1.03 vars [ MD5: 613c5318b87aa69b1145ca028f964445 ]
# SA 0.9929 version [ MD5: 33dfd312065e371a3041bac12dcae7c2 ]
# SA 0.9929 version::regex [ MD5: 1ba9cdbd93b3c9ebe720b5f90d868653 ]
# SA 0.9929 version::vxs [ MD5: 8ee776a5382d13336bf16a377ad65783 ]
# PL 1.36 warnings [ MD5: 9bfcbe3034e5e73e47aaf86c9b39616b ]
# PL 1.04 warnings::register [ MD5: 2d8f6ce093a2176b982c0e12c0194b3b ]
# PL 0.22 XSLoader [ MD5: 20fd04dd1e20ba6b35abd40f4c0bcaae ]
# =============================
#
# List of loadable modules within both *OPTIONAL* and core dependency chains
# present on this system (modules sourced from ./blib, ./lib, ./t, and ./xt
# with versions identical to their parent namespace were omitted for brevity)
#
# *** Note that *MANY* of these modules will *NEVER* be loaded ***
# *** during normal operation of DBIx::Class ***
#
#
t/00describe_environment.t .......................... ok
t/04_c3_mro.t ....................................... ok
t/05components.t .................................... ok
t/100extra_source.t ................................. ok
t/100populate.t ..................................... ok
t/101populate_rs.t .................................. ok
t/101source.t ....................................... ok
t/102load_classes.t ................................. ok
t/103many_to_many_warning.t ......................... ok
t/104view.t ......................................... ok
t/106dbic_carp.t .................................... ok
t/107obj_result_class.t ............................. ok
t/18insert_default.t ................................ ok
t/19retrieve_on_insert.t ............................ ok
t/20setuperrors.t ................................... ok
t/26dumper.t ........................................ ok
t/33exception_wrap.t ................................ ok
t/34exception_action.t .............................. ok
t/35exception_inaction.t ............................ ok
t/39load_namespaces_1.t ............................. ok
t/39load_namespaces_2.t ............................. ok
t/39load_namespaces_3.t ............................. ok
t/39load_namespaces_4.t ............................. ok
t/39load_namespaces_exception.t ..................... ok
t/39load_namespaces_rt41083.t ....................... ok
t/39load_namespaces_stress.t ........................ ok
t/40compose_connection.t ............................ ok
t/40resultsetmanager.t .............................. ok
t/46where_attribute.t ............................... ok
t/50fork.t .......................................... skipped: Test needs DBD::Pg (see DBIx::Class::Optional::Dependencies for details)
t/51threadnodb.t .................................... ok
t/51threads.t ....................................... skipped: Test needs DBD::Pg (see DBIx::Class::Optional::Dependencies for details)
t/51threadtxn.t ..................................... skipped: Set $ENV{DBICTEST_PG_DSN}, _USER and _PASS to run this test (note: creates and drops a table named artist!)
t/52leaks.t ......................................... ok
t/53lean_startup.t .................................. ok
t/55namespaces_cleaned.t ............................ ok
t/60core.t .......................................... ok
t/61findnot.t ....................................... ok
t/63register_class.t ................................ ok
t/63register_column.t ............................... ok
t/63register_source.t ............................... ok
t/64db.t ............................................ ok
t/65multipk.t ....................................... ok
t/69update.t ........................................ ok
t/70auto.t .......................................... ok
t/71mysql.t ......................................... skipped: Set $ENV{DBICTEST_MYSQL_DSN}, _USER and _PASS to run this test
t/72pg.t ............................................ skipped: Set $ENV{DBICTEST_PG_DSN}, _USER and _PASS to run this test
t/72pg_bytea.t ...................................... skipped: Test needs DBD::Pg (see DBIx::Class::Optional::Dependencies for details)
t/73oracle.t ........................................ skipped: Set $ENV{DBICTEST_ORA_DSN}, _USER and _PASS to run this test.
t/73oracle_blob.t ................................... skipped: Set $ENV{DBICTEST_ORA_DSN}, _USER and _PASS to run this test.
t/73oracle_hq.t ..................................... skipped: Set $ENV{DBICTEST_ORA_DSN}, _USER and _PASS to run this test.
t/745db2.t .......................................... skipped: Set $ENV{DBICTEST_DB2_DSN}, _USER and _PASS to run this test
t/746db2_400.t ...................................... skipped: Set $ENV{DBICTEST_DB2_400_DSN}, _USER and _PASS to run this test
t/746mssql.t ........................................ skipped: Set $ENV{DBICTEST_MSSQL_ODBC_DSN}, _USER and _PASS to run this test
t/746sybase.t ....................................... skipped: Set $ENV{DBICTEST_SYBASE_DSN}, _USER and _PASS to run this test. Warning: This test drops and creates the tables: 'artist', 'money_test' and 'bindtype_test'
t/747mssql_ado.t .................................... skipped: Set $ENV{DBICTEST_MSSQL_ADO_DSN}, _USER and _PASS to run this test
t/748informix.t ..................................... skipped: Set $ENV{DBICTEST_INFORMIX_DSN}, _USER and _PASS to run this test
t/749sqlanywhere.t .................................. skipped: Set $ENV{DBICTEST_SQLANYWHERE_DSN} and/or $ENV{DBICTEST_SQLANYWHERE_ODBC_DSN},
t/74mssql.t ......................................... skipped: Set $ENV{DBICTEST_MSSQL_DSN}, _USER and _PASS to run this test
t/750firebird.t ..................................... skipped: Set $ENV{DBICTEST_FIREBIRD_DSN} and/or $ENV{DBICTEST_FIREBIRD_INTERBASE_DSN} and/or $ENV{DBICTEST_FIREBIRD_ODBC_DSN}, _USER and _PASS to run these tests. WARNING: this test creates and drops the tables "artist", "bindtype_test" and "sequence_test"; the generators "gen_artist_artistid", "pkid1_seq", "pkid2_seq" and "nonpkid_seq" and the trigger "artist_bi".
t/751msaccess.t ..................................... skipped: Set $ENV{DBICTEST_MSACCESS_ODBC_DSN} and/or $ENV{DBICTEST_MSACCESS_ADO_DSN} (and optionally _USER and _PASS) to run these tests.
t/752sqlite.t ....................................... ok
t/76joins.t ......................................... ok
t/76select.t ........................................ ok
t/77join_count.t .................................... ok
t/78self_referencial.t .............................. ok
t/79aliasing.t ...................................... ok
t/80unique.t ........................................ ok
t/82cascade_copy.t .................................. ok
t/83cache.t ......................................... ok
t/84serialize.t ..................................... ok
t/85utf8.t .......................................... ok
t/86might_have.t .................................... ok
t/86sqlt.t .......................................... skipped: Test needs SQL::Translator >= 0.11018 (see DBIx::Class::Optional::Dependencies for details)
t/87ordered.t ....................................... ok
t/88result_set_column.t ............................. ok
t/90ensure_class_loaded.t ........................... ok
t/90join_torture.t .................................. ok
t/91merge_joinpref_attr.t ........................... ok
t/93autocast.t ...................................... ok
t/93single_accessor_object.t ........................ ok
t/94pk_mutation.t ................................... ok
t/94versioning.t .................................... skipped: Set $ENV{DBICTEST_MYSQL_DSN}, _USER and _PASS to run this test
t/96_is_deteministic_value.t ........................ skipped: Test needs DateTime >= 0.55, DateTime::Format::Strptime >= 1.2
t/97result_class.t .................................. ok
t/99dbic_sqlt_parser.t .............................. skipped: Test needs SQL::Translator >= 0.11018 (see DBIx::Class::Optional::Dependencies for details)
t/admin/01load.t .................................... skipped: Test needs JSON::Any >= 1.23, Moose >= 0.98, MooseX::Types >= 0.21, MooseX::Types::JSON >= 0.02, MooseX::Types::LoadableClass >= 0.011, MooseX::Types::Path::Class >= 0.05 (see DBIx::Class::Optional::Dependencies for details)
t/admin/02ddl.t ..................................... skipped: Test needs JSON::Any >= 1.23, Moose >= 0.98, MooseX::Types >= 0.21, MooseX::Types::JSON >= 0.02, MooseX::Types::LoadableClass >= 0.011, MooseX::Types::Path::Class >= 0.05 (see DBIx::Class::Optional::Dependencies for details)
t/admin/03data.t .................................... skipped: Test needs JSON::Any >= 1.23, Moose >= 0.98, MooseX::Types >= 0.21, MooseX::Types::JSON >= 0.02, MooseX::Types::LoadableClass >= 0.011, MooseX::Types::Path::Class >= 0.05 (see DBIx::Class::Optional::Dependencies for details)
t/admin/10script.t .................................. skipped: Test needs Cpanel::JSON::XS, Getopt::Long::Descriptive >= 0.081, JSON, JSON::Any >= 1.31, JSON::DWIW, JSON::XS, Moose >= 0.98, MooseX::Types >= 0.21, MooseX::Types::JSON >= 0.02, MooseX::Types::LoadableClass >= 0.011, MooseX::Types::Path::Class >= 0.05, Text::CSV >= 1.16
t/cdbi/01-columns.t ................................. skipped: Class::DBI required for this test
t/cdbi/02-Film.t .................................... skipped: Class::DBI required for this test
t/cdbi/03-subclassing.t ............................. skipped: Class::DBI required for this test
t/cdbi/04-lazy.t .................................... skipped: Class::DBI required for this test
t/cdbi/06-hasa.t .................................... skipped: Class::DBI required for this test
t/cdbi/08-inheritcols.t ............................. skipped: Class::DBI required for this test
t/cdbi/09-has_many.t ................................ skipped: Class::DBI required for this test
t/cdbi/11-triggers.t ................................ skipped: Class::DBI required for this test
t/cdbi/12-filter.t .................................. skipped: Class::DBI required for this test
t/cdbi/13-constraint.t .............................. skipped: Class::DBI required for this test
t/cdbi/14-might_have.t .............................. skipped: Class::DBI required for this test
t/cdbi/15-accessor.t ................................ skipped: Class::DBI required for this test
t/cdbi/16-reserved.t ................................ skipped: Class::DBI required for this test
t/cdbi/18-has_a.t ................................... skipped: Class::DBI required for this test
t/cdbi/19-set_sql.t ................................. skipped: Class::DBI required for this test
t/cdbi/21-iterator.t ................................ skipped: Class::DBI required for this test
t/cdbi/22-deflate_order.t ........................... skipped: Class::DBI required for this test
t/cdbi/22-self_referential.t ........................ skipped: Class::DBI required for this test
t/cdbi/23-cascade.t ................................. skipped: Class::DBI required for this test
t/cdbi/24-meta_info.t ............................... skipped: Class::DBI required for this test
t/cdbi/26-mutator.t ................................. skipped: Class::DBI required for this test
t/cdbi/30-pager.t ................................... skipped: Class::DBI required for this test
t/cdbi/68-inflate_has_a.t ........................... skipped: Class::DBI required for this test
t/cdbi/70_implicit_inflate.t ........................ skipped: Test needs DateTime >= 0.55, DateTime::Format::SQLite, DateTime::Format::Strptime >= 1.2
t/cdbi/71_column_object.t ........................... skipped: The tested functionality is only available in Class::DBI >= 3.0.5
t/cdbi/98-failure.t ................................. skipped: Class::DBI required for this test
t/cdbi/abstract/search_where.t ...................... skipped: Class::DBI required for this test
t/cdbi/columns_as_hashes.t .......................... skipped: Class::DBI required for this test
t/cdbi/columns_dont_override_custom_accessors.t ..... skipped: Class::DBI required for this test
t/cdbi/construct.t .................................. skipped: Class::DBI required for this test
t/cdbi/copy.t ....................................... skipped: Class::DBI required for this test
t/cdbi/DeepAbstractSearch/01_search.t ............... skipped: Class::DBI required for this test
t/cdbi/early_column_heisenbug.t ..................... skipped: Class::DBI required for this test
t/cdbi/has_many_loads_foreign_class.t ............... skipped: Class::DBI required for this test
t/cdbi/hasa_without_loading.t ....................... skipped: Class::DBI required for this test
t/cdbi/max_min_value_of.t ........................... skipped: Class::DBI required for this test
t/cdbi/mk_group_accessors.t ......................... skipped: Class::DBI required for this test
t/cdbi/multi_column_set.t ........................... skipped: Class::DBI required for this test
t/cdbi/object_cache.t ............................... skipped: Class::DBI required for this test
t/cdbi/retrieve_from_sql_with_limit.t ............... skipped: Class::DBI required for this test
t/cdbi/set_to_undef.t ............................... skipped: Class::DBI required for this test
t/cdbi/set_vs_DateTime.t ............................ skipped: Class::DBI required for this test
t/cdbi/sweet/08pager.t .............................. skipped: Class::DBI required for this test
t/count/count_rs.t .................................. ok
t/count/distinct.t .................................. ok
t/count/group_by_func.t ............................. ok
t/count/grouped_pager.t ............................. ok
t/count/in_subquery.t ............................... ok
t/count/joined.t .................................... ok
t/count/prefetch.t .................................. ok
t/count/search_related.t ............................ ok
t/debug/bulk-insert.t ............................... ok
t/debug/core.t ...................................... ok
t/debug/no-repeats.t ................................ ok
t/debug/pretty.t .................................... skipped: Test needs JSON::Any >= 1.23
t/debug/show-progress.t ............................. ok
t/delete/cascade_missing.t .......................... ok
t/delete/complex.t .................................. ok
t/delete/m2m.t ...................................... ok
t/delete/related.t .................................. ok
t/discard_changes_in_DESTROY.t ...................... ok
t/inflate/core.t .................................... skipped: Inflation tests need DateTime >= 0.55, DateTime::Format::Strptime >= 1.2
t/inflate/datetime.t ................................ skipped: DT inflation tests need DateTime >= 0.55, DateTime::Format::SQLite, DateTime::Format::Strptime >= 1.2
t/inflate/datetime_determine_parser.t ............... skipped: Test needs DateTime >= 0.55, DateTime::Format::SQLite, DateTime::Format::Strptime >= 1.2
t/inflate/datetime_firebird.t ....................... skipped: Set $ENV{DBICTEST_FIREBIRD_DSN} and/or $ENV{DBICTEST_FIREBIRD_INTERBASE_DSN} and/or $ENV{DBICTEST_FIREBIRD_ODBC_DSN}, _USER and _PASS to run these tests. WARNING: This test drops and creates a table called 'event'
t/inflate/datetime_informix.t ....................... skipped: Test needs DateTime >= 0.55, DateTime::Format::Strptime >= 1.2 and
t/inflate/datetime_missing_deps.t ................... ok
t/inflate/datetime_msaccess.t ....................... skipped: Set $ENV{DBICTEST_MSACCESS_ODBC_DSN} and/or $ENV{DBICTEST_MSACCESS_ADO_DSN} (and optionally _USER and _PASS) to run these tests.
t/inflate/datetime_mssql.t .......................... skipped: Set $ENV{DBICTEST_MSSQL_ODBC_DSN} and/or $ENV{DBICTEST_MSSQL_DSN} and/or $ENV{DBICTEST_MSSQL_ADO_DSN} _USER and _PASS to run this test
t/inflate/datetime_mysql.t .......................... skipped: Inflation tests need DateTime >= 0.55, DateTime::Format::MySQL, DateTime::Format::Strptime >= 1.2
t/inflate/datetime_oracle.t ......................... skipped: Set $ENV{DBICTEST_ORA_DSN}, _USER and _PASS to run this test. Warning: This test drops and creates a table called 'event'
t/inflate/datetime_pg.t ............................. skipped: Test needs DateTime >= 0.55, DateTime::Format::Pg >= 0.16004, DateTime::Format::Strptime >= 1.2
t/inflate/datetime_sqlanywhere.t .................... skipped: Set $ENV{DBICTEST_SQLANYWHERE_DSN} and/or $ENV{DBICTEST_SQLANYWHERE_ODBC_DSN}
t/inflate/datetime_sybase.t ......................... skipped: Test needs DateTime >= 0.55, DateTime::Format::Strptime >= 1.2 and
t/inflate/file_column.t ............................. ok
t/inflate/hri.t ..................................... ok
t/inflate/hri_torture.t ............................. ok
t/inflate/serialize.t ............................... ok
t/multi_create/cd_single.t .......................... ok
t/multi_create/diamond.t ............................ ok
t/multi_create/existing_in_chain.t .................. ok
t/multi_create/find_or_multicreate.t ................ ok
t/multi_create/has_many.t ........................... ok
t/multi_create/in_memory.t .......................... ok
t/multi_create/insert_defaults.t .................... ok
t/multi_create/m2m.t ................................ ok
t/multi_create/multilev_single_PKeqFK.t ............. ok
t/multi_create/reentrance_count.t ................... skipped: Disable test entirely until multicreate is rewritten in terms of subqueries
t/multi_create/standard.t ........................... ok
t/multi_create/torture.t ............................ ok
t/ordered/cascade_delete.t .......................... ok
t/ordered/unordered_movement.t ...................... ok
t/pager/data_page_compat/constructor.t .............. ok
t/pager/data_page_compat/simple.t ................... ok
t/pager/dbic_core.t ................................. ok
t/prefetch/attrs_untouched.t ........................ ok
t/prefetch/correlated.t ............................. ok
t/prefetch/count.t .................................. ok
t/prefetch/diamond.t ................................ ok
t/prefetch/double_prefetch.t ........................ ok
t/prefetch/empty_cache.t ............................ ok
t/prefetch/false_colvalues.t ........................ ok
t/prefetch/grouped.t ................................ ok
t/prefetch/incomplete.t ............................. ok
t/prefetch/join_type.t .............................. ok
t/prefetch/lazy_cursor.t ............................ ok
t/prefetch/manual.t ................................. ok
t/prefetch/multiple_hasmany.t ....................... ok
t/prefetch/multiple_hasmany_torture.t ............... ok
t/prefetch/o2m_o2m_order_by_with_limit.t ............ ok
t/prefetch/one_to_many_to_one.t ..................... ok
t/prefetch/refined_search_on_relation.t ............. ok
t/prefetch/restricted_children_set.t ................ ok
t/prefetch/standard.t ............................... ok
t/prefetch/via_search_related.t ..................... ok
t/prefetch/with_limit.t ............................. ok
t/relationship/after_update.t ....................... ok
t/relationship/core.t ............................... ok
t/relationship/custom.t ............................. ok
t/relationship/custom_opaque.t ...................... ok
t/relationship/custom_with_null_in_cond.t ........... ok
t/relationship/doesnt_exist.t ....................... ok
t/relationship/dynamic_foreign_columns.t ............ ok
t/relationship/info.t ............................... ok
t/relationship/malformed_declaration.t .............. ok
t/relationship/proxy.t .............................. ok
t/relationship/set_column_on_fk.t ................... ok
t/relationship/unresolvable.t ....................... ok
t/relationship/update_or_create_multi.t ............. ok
t/relationship/update_or_create_single.t ............ ok
t/resultset/as_query.t .............................. ok
t/resultset/as_subselect_rs.t ....................... ok
t/resultset/bind_attr.t ............................. ok
t/resultset/find_on_subquery_cond.t ................. ok
t/resultset/inflate_result_api.t .................... ok
t/resultset/inflatemap_abuse.t ...................... ok
t/resultset/is_ordered.t ............................ ok
t/resultset/is_paged.t .............................. ok
t/resultset/nulls_only.t ............................ ok
t/resultset/plus_select.t ........................... ok
t/resultset/rowparser_internals.t ................... ok
t/resultset/update_delete.t ......................... ok
t/resultset_class.t ................................. ok
t/resultset_overload.t .............................. ok
t/resultsource/bare_resultclass_exception.t ......... ok
t/resultsource/set_primary_key.t .................... ok
t/row/copy_with_extra_selection.t ................... ok
t/row/filter_column.t ............................... ok
t/row/find_one_has_many.t ........................... ok
t/row/inflate_result.t .............................. ok
t/row/pkless.t ...................................... ok
t/row/set_extra_column.t ............................ ok
t/schema/anon.t ..................................... ok
t/schema/clone.t .................................... ok
t/search/deprecated_attributes.t .................... ok
t/search/distinct.t ................................. ok
t/search/empty_attrs.t .............................. ok
t/search/preserve_original_rs.t ..................... ok
t/search/reentrancy.t ............................... ok
t/search/related_has_many.t ......................... ok
t/search/related_strip_prefetch.t ................... ok
t/search/select_chains.t ............................ ok
t/search/select_chains_unbalanced.t ................. ok
t/search/stack_cond.t ............................... ok
t/search/subquery.t ................................. ok
t/search/void.t ..................................... ok
t/sqlmaker/bind_transport.t ......................... ok
t/sqlmaker/core.t ................................... ok
t/sqlmaker/core_quoted.t ............................ ok
t/sqlmaker/dbihacks_internals.t ..................... ok
t/sqlmaker/hierarchical/oracle.t .................... skipped: Test needs Math::Base36 >= 0.07
t/sqlmaker/legacy_joins.t ........................... ok
t/sqlmaker/limit_dialects/basic.t ................... ok
t/sqlmaker/limit_dialects/custom.t .................. ok
t/sqlmaker/limit_dialects/fetch_first.t ............. ok
t/sqlmaker/limit_dialects/first_skip.t .............. ok
t/sqlmaker/limit_dialects/generic_subq.t ............ ok
t/sqlmaker/limit_dialects/mssql_torture.t ........... ok
t/sqlmaker/limit_dialects/rno.t ..................... ok
t/sqlmaker/limit_dialects/rownum.t .................. ok
t/sqlmaker/limit_dialects/skip_first.t .............. ok
t/sqlmaker/limit_dialects/toplimit.t ................ ok
t/sqlmaker/limit_dialects/torture.t ................. ok
t/sqlmaker/literal_with_bind.t ...................... ok
t/sqlmaker/msaccess.t ............................... ok
t/sqlmaker/mysql.t .................................. ok
t/sqlmaker/nest_deprec.t ............................ ok
t/sqlmaker/oracle.t ................................. skipped: Test needs Math::Base36 >= 0.07
t/sqlmaker/oraclejoin.t ............................. skipped: Test needs Math::Base36 >= 0.07
t/sqlmaker/order_by_bindtransport.t ................. ok
t/sqlmaker/order_by_func.t .......................... ok
t/sqlmaker/pg.t ..................................... ok
t/sqlmaker/quotes.t ................................. ok
t/sqlmaker/rebase.t ................................. ok
t/sqlmaker/sqlite.t ................................. ok
t/storage/base.t .................................... ok
t/storage/cursor.t .................................. ok
t/storage/dbh_do.t .................................. ok
t/storage/dbi_coderef.t ............................. ok
t/storage/dbi_env.t ................................. ok
t/storage/deploy.t .................................. skipped: Test needs SQL::Translator >= 0.11018 (see DBIx::Class::Optional::Dependencies for details)
t/storage/deprecated_exception_source_bind_attrs.t .. ok
t/storage/disable_sth_caching.t ..................... ok
t/storage/error.t ................................... ok
t/storage/exception.t ............................... ok
t/storage/global_destruction.t ...................... ok
t/storage/nobindvars.t .............................. ok
t/storage/on_connect_call.t ......................... ok
t/storage/on_connect_do.t ........................... ok
t/storage/ping_count.t .............................. ok
t/storage/prefer_stringification.t .................. ok
t/storage/quote_names.t ............................. ok
t/storage/reconnect.t ............................... ok
t/storage/replicated.t .............................. skipped: Test needs Clone, Moose >= 0.98, MooseX::Types >= 0.21, MooseX::Types::LoadableClass >= 0.011, Test::Moose
t/storage/savepoints.t .............................. ok
t/storage/stats.t ................................... ok
t/storage/txn.t ..................................... ok
t/storage/txn_scope_guard.t ......................... ok
t/update/all.t ...................................... ok
t/update/ident_cond.t ............................... ok
t/update/type_aware.t ............................... ok
#
#
#
# 211 contributors made this library what it is today
#
#
# Distinguished patrons:
# * ( 2014 ~ 2015 ) Henry Van Styn, creator of http://p3rl.org/RapidApp
#
#
t/zzzzzzz_authors.t ................................. ok
t/zzzzzzz_perl_perf_bug.t ........................... skipped: Skipping as system appears to be a smoker
t/zzzzzzz_sqlite_deadlock.t ......................... ok
xt/authors.t ........................................ ok
xt/dbictest_unlink_guard.t .......................... ok
xt/footers.t ........................................ ok
xt/old_envvars.t .................................... ok
xt/optional_deps.t .................................. ok
xt/pod.t ............................................ skipped: Test needs: Test::Pod >= 1.42
xt/podcoverage.t .................................... skipped: Test needs: Pod::Coverage >= 0.20, Test::Pod::Coverage >= 1.08
xt/quote_sub.t ...................................... ok
xt/standalone_testschema_resultclasses.t ............ ok
xt/strictures.t ..................................... skipped: Test needs: Test::Strict >= 0.20
xt/whitespace.t ..................................... skipped: Test needs: Test::EOL >= 1.0, Test::NoTabs >= 0.9
All tests successful.
Test Summary Report
-------------------
t/sqlmaker/limit_dialects/generic_subq.t (Wstat: 0 Tests: 19 Failed: 0)
TODO passed: 9, 11, 13, 15, 17
Files=325, Tests=42271, 334 wallclock secs ( 3.88 usr 7.81 sys + 246.41 cusr 72.02 csys = 330.12 CPU)
Result: PASS
PREREQUISITES:
Here is a list of prerequisites you specified and versions we
managed to load:
Module Name Have Want
Class::Accessor::Grouped 0.10014 0.10012
Class::C3::Componentised 1.001002 1.0009
Class::Inspector 1.36 1.24
Config::Any 0.32 0.20
Context::Preserve 0.03 0.01
DBD::SQLite 1.72 1.29
DBI 1.643 1.57
Data::Dumper::Concise 2.023 2.020
Devel::GlobalDestruction 0.14 0.09
ExtUtils::MakeMaker 7.70 6.59
File::Temp 0.2311 0.22
Hash::Merge 0.302 0.12
MRO::Compat 0.15 0.12
Module::Find 0.16 0.07
Moo 2.005005 2.000
Package::Stash 0.40 0.28
Path::Class 0.37 0.18
SQL::Abstract::Classic 1.91 1.91
Scope::Guard 0.21 0.03
Sub::Name 0.27 0.04
Test::Deep 1.204 0.101
Test::Exception 0.43 0.31
Test::More 1.302194 0.94
Test::Warn 0.37 0.21
Text::Balanced 2.03 2.00
Try::Tiny 0.31 0.07
namespace::clean 0.27 0.24
Perl module toolchain versions installed:
Module Name Have
CPANPLUS 0.9914
CPANPLUS::Dist::Build 0.90
Cwd 3.75
ExtUtils::CBuilder 0.280236
ExtUtils::Command 7.70
ExtUtils::Install 2.22
ExtUtils::MakeMaker 7.70
ExtUtils::Manifest 1.73
ExtUtils::ParseXS 3.44
File::Spec 3.75
Module::Build 0.4232
Pod::Parser 1.63
Pod::Simple 3.32
Test2 1.302194
Test::Harness 3.44
Test::More 1.302194
version 0.9929
******************************** NOTE ********************************
The comments above are created mechanically, possibly without manual
checking by the sender. As there are many people performing automatic
tests on each upload to CPAN, it is likely that you will receive
identical messages about the same problem.
If you believe that the message is mistaken, please reply to the first
one with correction and/or additional informations, and do not take
it personally. We appreciate your patience. :)
**********************************************************************
Additional comments:
This report was machine-generated by CPANPLUS::Dist::YACSmoke 1.08.
Powered by minismokebox version 0.68
CPANPLUS is prefering Build.PL
------------------------------
ENVIRONMENT AND OTHER CONTEXT
------------------------------
Environment variables:
AUTOMATED_TESTING = 1
NONINTERACTIVE_TESTING = 1
PATH = /usr/home/cpan/pit/thr/conf/perl-5.24.4/.cpanplus/5.24.4/build/13LHIE4Jco/DBIx-Class-0.082843/blib/script:/sbin:/bin:/usr/sbin:/usr/bin:/usr/local/sbin:/usr/local/bin:/home/cpan/bin
PERL5LIB = /usr/home/cpan/pit/jail/t7p5O2G5RB/lib/perl5:/usr/home/cpan/pit/thr/conf/perl-5.24.4/.cpanplus/5.24.4/build/13LHIE4Jco/DBIx-Class-0.082843/blib/lib:/usr/home/cpan/pit/thr/conf/perl-5.24.4/.cpanplus/5.24.4/build/13LHIE4Jco/DBIx-Class-0.082843/blib/arch
PERL5_CPANPLUS_IS_RUNNING = 47303
PERL5_CPANPLUS_IS_VERSION = 0.9914
PERL5_MINISMOKEBOX = 0.68
PERL5_YACSMOKE_BASE = /usr/home/cpan/pit/thr/conf/perl-5.24.4
PERL_EXTUTILS_AUTOINSTALL = --defaultdeps
PERL_LOCAL_LIB_ROOT = /usr/home/cpan/pit/jail/t7p5O2G5RB
PERL_MB_OPT = --install_base "/usr/home/cpan/pit/jail/t7p5O2G5RB"
PERL_MM_OPT = INSTALL_BASE=/usr/home/cpan/pit/jail/t7p5O2G5RB
PERL_MM_USE_DEFAULT = 1
PERL_USE_UNSAFE_INC = 1
SHELL = /usr/local/bin/bash
TERM = screen
Perl special variables (and OS-specific diagnostics, for MSWin32):
Perl: $^X = /usr/home/cpan/pit/thr/perl-5.24.4/bin/perl
UID: $< = 1002
EUID: $> = 1002
GID: $( = 1002 1002
EGID: $) = 1002 1002
-------------------------------
--
Summary of my perl5 (revision 5 version 24 subversion 4) configuration:
Platform:
osname=freebsd, osvers=12.4-release-p1, archname=amd64-freebsd-thread-multi
uname='freebsd fforc 12.4-release-p1 freebsd 12.4-release-p1 generic amd64 '
config_args='-des -Dprefix=/usr/home/cpan/pit/thr/perl-5.24.4 -Dusethreads'
hint=recommended, useposix=true, d_sigaction=define
useithreads=define, usemultiplicity=define
use64bitint=define, use64bitall=define, uselongdouble=undef
usemymalloc=n, bincompat5005=undef
Compiler:
cc='cc', ccflags ='-DHAS_FPSETMASK -DHAS_FLOATINGPOINT_H -fno-strict-aliasing -pipe -fstack-protector-strong -I/usr/local/include',
optimize='-O2',
cppflags='-DHAS_FPSETMASK -DHAS_FLOATINGPOINT_H -fno-strict-aliasing -pipe -fstack-protector-strong -I/usr/local/include'
ccversion='', gccversion='FreeBSD Clang 13.0.0 (git@github.com:llvm/llvm-project.git llvmorg-13.0.0-0-gd7b669b3a303)', gccosandvers=''
intsize=4, longsize=8, ptrsize=8, doublesize=8, byteorder=12345678, doublekind=3
d_longlong=define, longlongsize=8, d_longdbl=define, longdblsize=16, longdblkind=3
ivtype='long', ivsize=8, nvtype='double', nvsize=8, Off_t='off_t', lseeksize=8
alignbytes=8, prototype=define
Linker and Libraries:
ld='cc', ldflags ='-pthread -Wl,-E -fstack-protector-strong -L/usr/local/lib'
libpth=/usr/lib /usr/local/lib /usr/lib/clang/13.0.0/lib /usr/lib
libs=-lpthread -lgdbm -ldl -lm -lcrypt -lutil
perllibs=-lpthread -ldl -lm -lcrypt -lutil
libc=, so=so, useshrplib=false, libperl=libperl.a
gnulibc_version=''
Dynamic Linking:
dlsrc=dl_dlopen.xs, dlext=so, d_dlsymun=undef, ccdlflags=' '
cccdlflags='-DPIC -fPIC', lddlflags='-shared -L/usr/local/lib -fstack-protector-strong'
Characteristics of this binary (from libperl):
Compile-time options: HAS_TIMES MULTIPLICITY PERLIO_LAYERS
PERL_COPY_ON_WRITE PERL_DONT_CREATE_GVSV
PERL_HASH_FUNC_ONE_AT_A_TIME_HARD
PERL_IMPLICIT_CONTEXT PERL_MALLOC_WRAP
PERL_PRESERVE_IVUV USE_64_BIT_ALL USE_64_BIT_INT
USE_ITHREADS USE_LARGE_FILES USE_LOCALE
USE_LOCALE_COLLATE USE_LOCALE_CTYPE
USE_LOCALE_NUMERIC USE_LOCALE_TIME USE_PERLIO
USE_PERL_ATOF USE_REENTRANT_API
Locally applied patches:
Devel::PatchPerl 2.08
Built under freebsd
Compiled at Mar 31 2023 06:03:54
%ENV:
PERL5LIB="/usr/home/cpan/pit/jail/t7p5O2G5RB/lib/perl5:/usr/home/cpan/pit/thr/conf/perl-5.24.4/.cpanplus/5.24.4/build/13LHIE4Jco/DBIx-Class-0.082843/blib/lib:/usr/home/cpan/pit/thr/conf/perl-5.24.4/.cpanplus/5.24.4/build/13LHIE4Jco/DBIx-Class-0.082843/blib/arch"
PERL5_CPANPLUS_IS_RUNNING="47303"
PERL5_CPANPLUS_IS_VERSION="0.9914"
PERL5_MINISMOKEBOX="0.68"
PERL5_YACSMOKE_BASE="/usr/home/cpan/pit/thr/conf/perl-5.24.4"
PERL_EXTUTILS_AUTOINSTALL="--defaultdeps"
PERL_LOCAL_LIB_ROOT="/usr/home/cpan/pit/jail/t7p5O2G5RB"
PERL_MB_OPT="--install_base "/usr/home/cpan/pit/jail/t7p5O2G5RB""
PERL_MM_OPT="INSTALL_BASE=/usr/home/cpan/pit/jail/t7p5O2G5RB"
PERL_MM_USE_DEFAULT="1"
PERL_USE_UNSAFE_INC="1"
@INC:
/usr/home/cpan/pit/jail/t7p5O2G5RB/lib/perl5/5.24.4/amd64-freebsd-thread-multi
/usr/home/cpan/pit/jail/t7p5O2G5RB/lib/perl5/5.24.4
/usr/home/cpan/pit/jail/t7p5O2G5RB/lib/perl5/amd64-freebsd-thread-multi
/usr/home/cpan/pit/jail/t7p5O2G5RB/lib/perl5
/usr/home/cpan/pit/thr/conf/perl-5.24.4/.cpanplus/5.24.4/build/13LHIE4Jco/DBIx-Class-0.082843/blib/lib
/usr/home/cpan/pit/thr/conf/perl-5.24.4/.cpanplus/5.24.4/build/13LHIE4Jco/DBIx-Class-0.082843/blib/arch
/usr/home/cpan/pit/thr/perl-5.24.4/lib/site_perl/5.24.4/amd64-freebsd-thread-multi
/usr/home/cpan/pit/thr/perl-5.24.4/lib/site_perl/5.24.4
/usr/home/cpan/pit/thr/perl-5.24.4/lib/5.24.4/amd64-freebsd-thread-multi
/usr/home/cpan/pit/thr/perl-5.24.4/lib/5.24.4
.