Test-HTML-Content v0.13 Perl 5 v5.43.3 OpenBSD.amd64-openbsd-thread-multi
        
            - Status
- Pass
- From
- Carlos Guevara
- Dist
- 
                Test-HTML-Content v0.13
            
- Platform
- Perl 5 v5.43.3 OpenBSD.amd64-openbsd-thread-multi
- Date
- 2025-09-04 14:55:18
- ID
- 2c3c7ad4-899f-11f0-bf7b-ec7ad36eaf52
This distribution has been tested as part of the CPAN Testers
project, supporting the Perl programming language.  See
http://wiki.cpantesters.org/ for more information or email
questions to cpan-testers-discuss@perl.org
--
Dear Max Maischein,
This is a computer-generated report for Test-HTML-Content-0.13
on perl 5.43.3, created by CPAN-Reporter-1.2020.
Thank you for uploading your work to CPAN.  Congratulations!
All tests were successful.
Sections of this report:
    * Tester comments
    * Program output
    * Prerequisites
    * Environment and other context
------------------------------
TESTER COMMENTS
------------------------------
Additional comments from tester:
this report is from an automated smoke testing program
and was not reviewed by a human for accuracy
------------------------------
PROGRAM OUTPUT
------------------------------
Output from '/usr/bin/make test':
PERL_DL_NONLAZY=1 "/home/cpan/bin/perl/bin/perl5.43.3" "-MExtUtils::Command::MM" "-MTest::Harness" "-e" "undef *Test::Harness::Switches; test_harness(0, 'blib/lib', 'blib/arch')" t/00-load.t t/00-prerequisites.t t/01-fallback-libxml.t t/01-fallback-pureperl.t t/01-fallback-xpath.t t/01-internal-api.t t/01-libxml-xpath-abstraction.t t/01-xpath-query-builder.t t/02-tags.t t/03-links.t t/04-comments.t t/05-doctype.t t/06-text.t t/07-errors.link.t t/08-errors.comment.t t/09-errors.declaration.t t/09-errors.xpath.t t/10-errors.text.t t/12-title-fallback.t t/12-title.t t/13-xpath-gracefull-errors.t t/embedded-Test-HTML-Content-NoXPath.t t/embedded-Test-HTML-Content-XPathExtensions.t t/embedded-Test-HTML-Content.t
# Testing Test::HTML::Content 0.13, Perl 5.043003
# Carp 1.54
# Config 5.043003
# Cwd 3.94
# Data::Dumper 2.192
# Encode 3.21
# Encode::Alias 2.25
# Encode::Config 2.05
# Encode::Encoding 2.08
# Encode::MIME::Name 1.03
# Exporter 5.79
# Exporter::Heavy 5.79
# ExtUtils::Liblist 7.76
# ExtUtils::Liblist::Kid 7.76
# ExtUtils::MM 7.76
# ExtUtils::MM_Any 7.76
# ExtUtils::MM_Unix 7.76
# ExtUtils::MY 7.76
# ExtUtils::MakeMaker 7.76
# ExtUtils::MakeMaker::Config 7.76
# ExtUtils::MakeMaker::Locale 7.76
# ExtUtils::MakeMaker::version 7.76
# Fcntl 1.20
# File::Basename 2.86
# File::Glob 1.42
# File::Path 2.18
# File::Spec 3.94
# File::Spec::Unix 3.94
# HTML::Entities 3.83
# HTML::Parser 3.83
# HTML::PullParser 3.83
# HTML::Tagset 3.24
# HTML::TokeParser 3.83
# I18N::Langinfo 0.24
# IO 1.55
# IO::File 1.55
# IO::Handle 1.55
# IO::Seekable 1.55
# List::Util 1.70
# Scalar::Util 1.70
# SelectSaver 1.02
# Storable 3.38
# Symbol 1.09
# Test::Builder 1.302214
# Test::Builder::Formatter 1.302214
# Test::Builder::Module 1.302214
# Test::Builder::TodoDiag 1.302214
# Test::HTML::Content 0.13
# Test::More 1.302214
# Test2::API 1.302214
# Test2::API::Context 1.302214
# Test2::API::Instance 1.302214
# Test2::API::Stack 1.302214
# Test2::Event 1.302214
# Test2::Event::Bail 1.302214
# Test2::Event::Diag 1.302214
# Test2::Event::Exception 1.302214
# Test2::Event::Fail 1.302214
# Test2::Event::Note 1.302214
# Test2::Event::Ok 1.302214
# Test2::Event::Pass 1.302214
# Test2::Event::Plan 1.302214
# Test2::Event::Skip 1.302214
# Test2::Event::Subtest 1.302214
# Test2::Event::V2 1.302214
# Test2::Event::Waiting 1.302214
# Test2::EventFacet 1.302214
# Test2::EventFacet::About 1.302214
# Test2::EventFacet::Amnesty 1.302214
# Test2::EventFacet::Assert 1.302214
# Test2::EventFacet::Control 1.302214
# Test2::EventFacet::Error 1.302214
# Test2::EventFacet::Hub 1.302214
# Test2::EventFacet::Info 1.302214
# Test2::EventFacet::Meta 1.302214
# Test2::EventFacet::Parent 1.302214
# Test2::EventFacet::Plan 1.302214
# Test2::EventFacet::Trace 1.302214
# Test2::Formatter 1.302214
# Test2::Formatter::TAP 1.302214
# Test2::Hub 1.302214
# Test2::Hub::Interceptor 1.302214
# Test2::Hub::Interceptor::Terminator 1.302214
# Test2::Hub::Subtest 1.302214
# Test2::Util 1.302214
# Test2::Util::ExternalMeta 1.302214
# Test2::Util::Facets2Legacy 1.302214
# Test2::Util::HashBase 1.302214
# Test2::Util::Trace 1.302214
# Time::HiRes 1.9779
# XML::Parser 2.47
# XML::Parser::Expat 2.47
# XML::XPath 1.48
# XML::XPath::Boolean 1.48
# XML::XPath::Expr 1.48
# XML::XPath::Function 1.48
# XML::XPath::Literal 1.48
# XML::XPath::LocationPath 1.48
# XML::XPath::Node 1.48
# XML::XPath::Node::Attribute 1.48
# XML::XPath::Node::Comment 1.48
# XML::XPath::Node::Element 1.48
# XML::XPath::Node::Namespace 1.48
# XML::XPath::Node::PI 1.48
# XML::XPath::Node::Text 1.48
# XML::XPath::NodeSet 1.48
# XML::XPath::Number 1.48
# XML::XPath::Parser 1.48
# XML::XPath::Root 1.48
# XML::XPath::Step 1.48
# XML::XPath::Variable 1.48
# XML::XPath::XMLParser 1.48
# XSLoader 0.32
# base 2.27
# bytes 1.09
# constant 1.33
# mro 1.30
# overload 1.40
# overloading 0.02
# parent 0.244
# strict 1.14
# vars 1.05
# version 0.9933
# version::regex 0.9933
# warnings 1.74
# warnings::register 1.06
t/00-load.t ..................................... ok
t/00-prerequisites.t ............................ ok
t/01-fallback-libxml.t .......................... ok
t/01-fallback-pureperl.t ........................ ok
t/01-fallback-xpath.t ........................... ok
t/01-internal-api.t ............................. ok
t/01-libxml-xpath-abstraction.t ................. ok
t/01-xpath-query-builder.t ...................... ok
t/02-tags.t ..................................... ok
t/03-links.t .................................... ok
t/04-comments.t ................................. ok
t/05-doctype.t .................................. ok
t/06-text.t ..................................... ok
t/07-errors.link.t .............................. ok
t/08-errors.comment.t ........................... ok
t/09-errors.declaration.t ....................... ok
t/09-errors.xpath.t ............................. ok
t/10-errors.text.t .............................. ok
t/12-title-fallback.t ........................... ok
t/12-title.t .................................... ok
no element found at line 1, column 69, byte 69:
<!-- hidden massage --><!-- hidden massage --><!-- hidden massage -->Ã
====================================================================^
 at /home/cpan/bin/perl/lib/site_perl/5.43.3/OpenBSD.amd64-openbsd-thread-multi/XML/Parser.pm line 187.
t/13-xpath-gracefull-errors.t ................... ok
t/embedded-Test-HTML-Content-NoXPath.t .......... ok
t/embedded-Test-HTML-Content-XPathExtensions.t .. ok
t/embedded-Test-HTML-Content.t .................. ok
All tests successful.
Files=24, Tests=437,  3 wallclock secs ( 0.14 usr  0.09 sys +  2.21 cusr  0.40 csys =  2.84 CPU)
Result: PASS
------------------------------
PREREQUISITES
------------------------------
Prerequisite modules loaded:
requires:
    Module              Need  Have    
    ------------------- ----- --------
    HTML::TokeParser    0     3.83    
    perl                5.006 5.043003
    Test::Builder       0     1.302214
    Test::More          0     1.302214
build_requires:
    Module              Need  Have    
    ------------------- ----- --------
    ExtUtils::MakeMaker 0     7.76    
    Test::More          0     1.302214
configure_requires:
    Module              Need  Have    
    ------------------- ----- --------
    ExtUtils::MakeMaker 0     7.76    
------------------------------
ENVIRONMENT AND OTHER CONTEXT
------------------------------
Environment variables:
    AUTOMATED_TESTING = 1
    DATE_MANIP_TEST_DM5 = 1
    LC_ALL = C
    NONINTERACTIVE_TESTING = 1
    NO_NETWORK_TESTING = 1
    PATH = /home/cpan/bin/perl/bin:/home/cpan/bin:/home/cpan/bin:/bin:/sbin:/usr/bin:/usr/sbin:/usr/X11R6/bin:/usr/local/bin:/usr/local/sbin
    PERL5LIB = 
    PERL5OPT = 
    PERL5_CPANPLUS_IS_RUNNING = 32893
    PERL5_CPAN_IS_RUNNING = 32893
    PERL_MM_USE_DEFAULT = 1
    PERL_PERTURB_KEYS = 0
    PERL_USE_UNSAFE_INC = 1
    SHELL = /usr/local/bin/bash
    TERM = screen
    TMPDIR = /home/cpan/tmp
Perl special variables (and OS-specific diagnostics, for MSWin32):
    $^X = /home/cpan/bin/perl/bin/perl5.43.3
    $UID/$EUID = 1001 / 1001
    $GID = 1001 1001
    $EGID = 1001 1001
Perl module toolchain versions installed:
    Module              Have    
    ------------------- --------
    CPAN                2.38    
    CPAN::Meta          2.150010
    Cwd                 3.94    
    ExtUtils::CBuilder  0.280242
    ExtUtils::Command   7.76    
    ExtUtils::Install   2.22    
    ExtUtils::MakeMaker 7.76    
    ExtUtils::Manifest  1.75    
    ExtUtils::ParseXS   3.60    
    File::Spec          3.94    
    JSON                4.10    
    JSON::PP            4.16    
    Module::Build       0.4234  
    Module::Signature   n/a     
    Parse::CPAN::Meta   2.150010
    Test2               1.302214
    Test::Harness       3.52    
    Test::More          1.302214
    YAML                1.31    
    YAML::Syck          1.34    
    version             0.9933  
--
Summary of my perl5 (revision 5 version 43 subversion 3) configuration:
  Commit id: bb13a224451c8fbf0b9600bbc3d58cad55b3aec9
  Platform:
    osname=openbsd
    osvers=7.7
    archname=OpenBSD.amd64-openbsd-thread-multi
    uname='openbsd cjg-openbsd7 7.7 generic#2 amd64 '
    config_args='-des -Dprefix=/home/cpan/bin/perl -Dscriptdir=/home/cpan/bin/perl/bin -Dusedevel -Duse64bitall -Duseithreads'
    hint=recommended
    useposix=true
    d_sigaction=define
    useithreads=define
    usemultiplicity=define
    use64bitint=define
    use64bitall=define
    uselongdouble=undef
    usemymalloc=n
    default_inc_excludes_dot=define
  Compiler:
    cc='cc'
    ccflags ='-pthread -DNO_LOCALE_NUMERIC -DNO_LOCALE_COLLATE -DNO_LOCALE_MONETARY -DNO_LOCALE_TIME -DNO_LOCALE_MESSAGES -DLIBC_HANDLES_MISMATCHED_CTYPE -fno-strict-aliasing -pipe -fstack-protector-strong -I/usr/local/include'
    optimize='-O2'
    cppflags='-pthread -DNO_LOCALE_NUMERIC -DNO_LOCALE_COLLATE -DNO_LOCALE_MONETARY -DNO_LOCALE_TIME -DNO_LOCALE_MESSAGES -DLIBC_HANDLES_MISMATCHED_CTYPE -fno-strict-aliasing -pipe -fstack-protector-strong -I/usr/local/include'
    ccversion=''
    gccversion='OpenBSD Clang 16.0.6'
    gccosandvers=''
    intsize=4
    longsize=8
    ptrsize=8
    doublesize=8
    byteorder=12345678
    doublekind=3
    d_longlong=define
    longlongsize=8
    d_longdbl=define
    longdblsize=16
    longdblkind=3
    ivtype='long'
    ivsize=8
    nvtype='double'
    nvsize=8
    Off_t='off_t'
    lseeksize=8
    alignbytes=8
    prototype=define
  Linker and Libraries:
    ld='cc'
    ldflags ='-pthread -Wl,-E  -fstack-protector-strong -L/usr/local/lib'
    libpth=/usr/lib/clang/16/lib /usr/lib /usr/local/lib
    libs=-lpthread -lm -lutil -lc
    perllibs=-lpthread -lm -lutil -lc
    libc=/usr/lib/libc.so.100.3
    so=so
    useshrplib=false
    libperl=libperl.a
    gnulibc_version=''
  Dynamic Linking:
    dlsrc=dl_dlopen.xs
    dlext=so
    d_dlsymun=undef
    ccdlflags=' '
    cccdlflags='-DPIC -fPIC '
    lddlflags='-shared -fPIC  -L/usr/local/lib -fstack-protector-strong'
Characteristics of this binary (from libperl): 
  Compile-time options:
    HAS_LONG_DOUBLE
    HAS_STRTOLD
    HAS_TIMES
    MULTIPLICITY
    PERLIO_LAYERS
    PERL_COPY_ON_WRITE
    PERL_DONT_CREATE_GVSV
    PERL_HASH_FUNC_SIPHASH13
    PERL_HASH_USE_SBOX32
    PERL_MALLOC_WRAP
    PERL_OP_PARENT
    PERL_PRESERVE_IVUV
    PERL_USE_DEVEL
    PERL_USE_SAFE_PUTENV
    USE_64_BIT_ALL
    USE_64_BIT_INT
    USE_ITHREADS
    USE_LARGE_FILES
    USE_LOCALE
    USE_LOCALE_CTYPE
    USE_PERLIO
    USE_PERL_ATOF
    USE_REENTRANT_API
    USE_THREAD_SAFE_LOCALE
  Built under openbsd
  Compiled at Sep  3 2025 16:00:38
  %ENV:
    PERL5LIB=""
    PERL5OPT=""
    PERL5_CPANPLUS_IS_RUNNING="32893"
    PERL5_CPAN_IS_RUNNING="32893"
    PERL_MM_USE_DEFAULT="1"
    PERL_PERTURB_KEYS="0"
    PERL_USE_UNSAFE_INC="1"
  @INC:
    /home/cpan/bin/perl/lib/site_perl/5.43.3/OpenBSD.amd64-openbsd-thread-multi
    /home/cpan/bin/perl/lib/site_perl/5.43.3
    /home/cpan/bin/perl/lib/5.43.3/OpenBSD.amd64-openbsd-thread-multi
    /home/cpan/bin/perl/lib/5.43.3
    .