Math-Polynomial-Solve v2.81 Perl 5 v5.20.1 cygwin

Status
Pass
From
Peter John Acklam (PJACKLAM)
Dist
Math-Polynomial-Solve v2.81
Platform
Perl 5 v5.20.1 cygwin
Date
2017-12-11 07:18:50
ID
2c4054b0-6e6d-1014-a6a8-b921391fb3b7
This distribution has been tested as part of the CPAN Testers
project, supporting the Perl programming language.  See
http://wiki.cpantesters.org/ for more information or email
questions to cpan-testers-discuss@perl.org


--
Dear John Gamble,

This is a computer-generated report for Math-Polynomial-Solve-2.81
on perl 5.20.1, created by CPAN-Reporter-1.2018.

Thank you for uploading your work to CPAN.  Congratulations!
All tests were successful.

Sections of this report:

    * Tester comments
    * Program output
    * Prerequisites
    * Environment and other context

------------------------------
TESTER COMMENTS
------------------------------

Additional comments from tester:

this report is from an automated smoke testing program
and was not reviewed by a human for accuracy

------------------------------
PROGRAM OUTPUT
------------------------------

Output from './Build test':

t/01-option.t ..... ok
t/02-limit.t ...... ok
t/10-quadratic.t .. ok
t/11-cubic.t ...... ok
t/12-quartic.t .... ok
t/20-poly.t ....... ok
t/21-poly.t ....... ok
t/22-polyfp.t ..... ok
t/23-polyfp.t ..... ok
t/24-varsubst.t ... ok
t/25-rootfunc.t ... ok
t/30-sturm.t ...... ok
t/31-sturm.t ...... ok
t/32-sturm.t ...... ok
t/33-sturm.t ...... ok
t/50-laguerre.t ... ok
t/51-nr.t ......... ok
t/pod.t ........... skipped: Test::Pod 1.41 required for testing POD
All tests successful.
Files=18, Tests=245, 16 wallclock secs ( 0.06 usr  0.75 sys +  2.37 cusr 11.69 csys = 14.87 CPU)
Result: PASS

------------------------------
PREREQUISITES
------------------------------

Prerequisite modules loaded:

requires:

    Module        Need    Have    
    ------------- ------- --------
    Math::Complex 1.36    1.59    
    Math::Utils   1.06    1.11    
    perl          v5.10.1 5.020001

build_requires:

    Module        Need    Have    
    ------------- ------- --------
    Test::More    0       1.001002

configure_requires:

    Module        Need    Have    
    ------------- ------- --------
    Module::Build 0.4     0.4224  


------------------------------
ENVIRONMENT AND OTHER CONTEXT
------------------------------

Environment variables:

    AUTOMATED_TESTING = 1
    COMSPEC = C:\WINDOWS\system32\cmd.exe
    LD_LIBRARY_PATH = 
    NUMBER_OF_PROCESSORS = 8
    PATH = /usr/local/local/bin:/usr/local/bin:/usr/bin:/bin:/usr/sbin:/sbin
    PERL5LIB = /opt/perl5/cygwin_nt-10.0/2.9.0/x86_64/cpan/5.20.1/cygwin/build/Math-Utils-1.11-c0SrLo/blib/arch:/opt/perl5/cygwin_nt-10.0/2.9.0/x86_64/cpan/5.20.1/cygwin/build/Math-Utils-1.11-c0SrLo/blib/lib:/opt/perl5/cygwin_nt-10.0/2.9.0/x86_64/cpan/5.20.1/cygwin/build/Module-Build-0.4224-oZkz7_/blib/arch:/opt/perl5/cygwin_nt-10.0/2.9.0/x86_64/cpan/5.20.1/cygwin/build/Module-Build-0.4224-oZkz7_/blib/lib:/opt/perl5/cygwin_nt-10.0/2.9.0/x86_64/cpan/5.20.1/cygwin/build/CPAN-Meta-2.150010-CShBeG/blib/arch:/opt/perl5/cygwin_nt-10.0/2.9.0/x86_64/cpan/5.20.1/cygwin/build/CPAN-Meta-2.150010-CShBeG/blib/lib:/opt/perl5/cygwin_nt-10.0/2.9.0/x86_64/cpan/5.20.1/cygwin/build/JSON-PP-2.97000-GSi3Lm/blib/arch:/opt/perl5/cygwin_nt-10.0/2.9.0/x86_64/cpan/5.20.1/cygwin/build/JSON-PP-2.97000-GSi3Lm/blib/lib:/opt/perl5/cygwin_nt-10.0/2.9.0/x86_64/perl/5.20.1/cygwin/local/lib/site_perl/5.20.1:/opt/perl5/cygwin_nt-10.0/2.9.0/x86_64/perl/5.20.1/cygwin/local/lib/5.20.1:/opt/perl5/cygwin_nt-10.0/2.9.0/x86_64/perl/5.20.1/cygwin/local/lib/perl5
    PERL5OPT = 
    PERL5_CPANPLUS_IS_RUNNING = 20312
    PERL5_CPAN_IS_RUNNING = 20312
    PERL_CPAN_REPORTER_CONFIG = /opt/perl5/cygwin_nt-10.0/2.9.0/x86_64/cpan/5.20.1/cygwin/reporter/config.ini
    PERL_CPAN_REPORTER_DIR = /opt/perl5/cygwin_nt-10.0/2.9.0/x86_64/cpan/5.20.1/cygwin/reporter
    PERL_EXTUTILS_AUTOINSTALL = 1
    PERL_MM_USE_DEFAULT = 1
    PERL_MY_PREFIX = /opt/perl5
    PERL_MY_SOURCE_DIR = /cygdrive/e/src/perl
    PERL_TEST_CRITIC = 1
    PERL_TEST_CRITIC = 1
    PERL_TEST_POD = 1
    PERL_TEST_POD = 1
    POD_TESTING = 1
    POD_TESTS = 1
    PROCESSOR_IDENTIFIER = Intel64 Family 6 Model 42 Stepping 7, GenuineIntel
    SHELL = /usr/bin/bash
    TEMP = /tmp
    TERM = xterm

Perl special variables (and OS-specific diagnostics, for MSWin32):

    $^X = /cygdrive/e/opt/perl5/cygwin_nt-10.0/2.9.0/x86_64/perl/5.20.1/cygwin/bin/perl
    $UID/$EUID = 197609 / 197609
    $GID = 197609 401408 545 4 66049 11 15 68380 113 66048 262180 4294967295 4294967295 4294967295
    $EGID = 197609 401408 545 4 66049 11 15 68380 113 66048 262180 4294967295 4294967295 4294967295

Perl module toolchain versions installed:

    Module              Have    
    ------------------- --------
    CPAN                2.05    
    CPAN::Meta          2.150010
    Cwd                 3.48    
    ExtUtils::CBuilder  0.280217
    ExtUtils::Command   1.18    
    ExtUtils::Install   1.67    
    ExtUtils::MakeMaker 6.98    
    ExtUtils::Manifest  1.63    
    ExtUtils::ParseXS   3.24    
    File::Spec          3.48    
    JSON                n/a     
    JSON::PP            2.97000 
    Module::Build       0.4224  
    Module::Signature   n/a     
    Parse::CPAN::Meta   2.150010
    Test::Harness       3.30    
    Test::More          1.001002
    YAML                1.24    
    YAML::Syck          n/a     
    version             0.9909  


--

Summary of my perl5 (revision 5 version 20 subversion 1) configuration:
   
  Platform:
    osname=cygwin, osvers=2.9.0(0.31853), archname=cygwin
    uname='cygwin_nt-10.0 rigel 2.9.0(0.31853) 2017-09-12 10:18 x86_64 cygwin '
    config_args='-de -Dmksymlinks -Dcc=gcc -Dld=g++ -Uinc_version_list -Uinstallusrbinperl -Uusethreads -Uusemultiplicity -Duse64bitint -Uuselongdouble -Dprefix=/opt/perl5/cygwin_nt-10.0/2.9.0/x86_64/perl/5.20.1/cygwin'
    hint=recommended, useposix=true, d_sigaction=define
    useithreads=undef, usemultiplicity=undef
    use64bitint=define, use64bitall=define, uselongdouble=undef
    usemymalloc=n, bincompat5005=undef
  Compiler:
    cc='gcc', ccflags ='-DPERL_USE_SAFE_PUTENV -U__STRICT_ANSI__ -fwrapv -fno-strict-aliasing -pipe -fstack-protector',
    optimize='-O3',
    cppflags='-DPERL_USE_SAFE_PUTENV -U__STRICT_ANSI__ -fwrapv -fno-strict-aliasing -pipe -fstack-protector'
    ccversion='', gccversion='6.4.0', gccosandvers=''
    intsize=4, longsize=8, ptrsize=8, doublesize=8, byteorder=12345678
    d_longlong=define, longlongsize=8, d_longdbl=define, longdblsize=16
    ivtype='long', ivsize=8, nvtype='double', nvsize=8, Off_t='off_t', lseeksize=8
    alignbytes=8, prototype=define
  Linker and Libraries:
    ld='g++', ldflags =' -Wl,--enable-auto-import -Wl,--export-all-symbols -Wl,--enable-auto-image-base -fstack-protector -L/usr/local/lib'
    libpth=/usr/lib /usr/lib/gcc/x86_64-pc-cygwin/6.4.0/../../../../lib/../include/w32api /usr/local/lib /lib
    libs=-ldl -lcrypt
    perllibs=-ldl -lcrypt
    libc=/usr/lib/libc.a, so=dll, useshrplib=true, libperl=cygperl5_20_1.dll
    gnulibc_version=''
  Dynamic Linking:
    dlsrc=dl_dlopen.xs, dlext=dll, d_dlsymun=undef, ccdlflags=' '
    cccdlflags=' ', lddlflags=' --shared  -Wl,--enable-auto-import -Wl,--export-all-symbols -Wl,--enable-auto-image-base -L/usr/local/lib -fstack-protector'


Characteristics of this binary (from libperl): 
  Compile-time options: HAS_TIMES PERLIO_LAYERS PERL_DONT_CREATE_GVSV
                        PERL_HASH_FUNC_ONE_AT_A_TIME_HARD
                        PERL_NEW_COPY_ON_WRITE PERL_PRESERVE_IVUV
                        PERL_USE_SAFE_PUTENV USE_64_BIT_ALL USE_64_BIT_INT
                        USE_LARGE_FILES USE_LOCALE USE_LOCALE_COLLATE
                        USE_LOCALE_CTYPE USE_LOCALE_NUMERIC USE_PERLIO
                        USE_PERL_ATOF
  Built under cygwin
  Compiled at Sep 24 2017 15:12:57
  %ENV:
    PERL5LIB="/opt/perl5/cygwin_nt-10.0/2.9.0/x86_64/cpan/5.20.1/cygwin/build/Math-Utils-1.11-c0SrLo/blib/arch:/opt/perl5/cygwin_nt-10.0/2.9.0/x86_64/cpan/5.20.1/cygwin/build/Math-Utils-1.11-c0SrLo/blib/lib:/opt/perl5/cygwin_nt-10.0/2.9.0/x86_64/cpan/5.20.1/cygwin/build/Module-Build-0.4224-oZkz7_/blib/arch:/opt/perl5/cygwin_nt-10.0/2.9.0/x86_64/cpan/5.20.1/cygwin/build/Module-Build-0.4224-oZkz7_/blib/lib:/opt/perl5/cygwin_nt-10.0/2.9.0/x86_64/cpan/5.20.1/cygwin/build/CPAN-Meta-2.150010-CShBeG/blib/arch:/opt/perl5/cygwin_nt-10.0/2.9.0/x86_64/cpan/5.20.1/cygwin/build/CPAN-Meta-2.150010-CShBeG/blib/lib:/opt/perl5/cygwin_nt-10.0/2.9.0/x86_64/cpan/5.20.1/cygwin/build/JSON-PP-2.97000-GSi3Lm/blib/arch:/opt/perl5/cygwin_nt-10.0/2.9.0/x86_64/cpan/5.20.1/cygwin/build/JSON-PP-2.97000-GSi3Lm/blib/lib:/opt/perl5/cygwin_nt-10.0/2.9.0/x86_64/perl/5.20.1/cygwin/local/lib/site_perl/5.20.1:/opt/perl5/cygwin_nt-10.0/2.9.0/x86_64/perl/5.20.1/cygwin/local/lib/5.20.1:/opt/perl5/cygwin_nt-10.0/2.9.0/x86_64/perl/5.20.1/cygwin/local/lib/perl5"
    PERL5OPT=""
    PERL5_CPANPLUS_IS_RUNNING="20312"
    PERL5_CPAN_IS_RUNNING="20312"
    PERL_CPAN_REPORTER_CONFIG="/opt/perl5/cygwin_nt-10.0/2.9.0/x86_64/cpan/5.20.1/cygwin/reporter/config.ini"
    PERL_CPAN_REPORTER_DIR="/opt/perl5/cygwin_nt-10.0/2.9.0/x86_64/cpan/5.20.1/cygwin/reporter"
    PERL_EXTUTILS_AUTOINSTALL="1"
    PERL_MM_USE_DEFAULT="1"
    PERL_MY_PREFIX="/opt/perl5"
    PERL_MY_SOURCE_DIR="/cygdrive/e/src/perl"
    PERL_TEST_CRITIC="1"
    PERL_TEST_POD="1"
  @INC:
    /opt/perl5/cygwin_nt-10.0/2.9.0/x86_64/cpan/5.20.1/cygwin/build/Math-Utils-1.11-c0SrLo/blib/arch
    /opt/perl5/cygwin_nt-10.0/2.9.0/x86_64/cpan/5.20.1/cygwin/build/Math-Utils-1.11-c0SrLo/blib/lib
    /opt/perl5/cygwin_nt-10.0/2.9.0/x86_64/cpan/5.20.1/cygwin/build/Module-Build-0.4224-oZkz7_/blib/arch
    /opt/perl5/cygwin_nt-10.0/2.9.0/x86_64/cpan/5.20.1/cygwin/build/Module-Build-0.4224-oZkz7_/blib/lib
    /opt/perl5/cygwin_nt-10.0/2.9.0/x86_64/cpan/5.20.1/cygwin/build/CPAN-Meta-2.150010-CShBeG/blib/arch
    /opt/perl5/cygwin_nt-10.0/2.9.0/x86_64/cpan/5.20.1/cygwin/build/CPAN-Meta-2.150010-CShBeG/blib/lib
    /opt/perl5/cygwin_nt-10.0/2.9.0/x86_64/cpan/5.20.1/cygwin/build/JSON-PP-2.97000-GSi3Lm/blib/arch
    /opt/perl5/cygwin_nt-10.0/2.9.0/x86_64/cpan/5.20.1/cygwin/build/JSON-PP-2.97000-GSi3Lm/blib/lib
    /opt/perl5/cygwin_nt-10.0/2.9.0/x86_64/perl/5.20.1/cygwin/local/lib/site_perl/5.20.1/cygwin
    /opt/perl5/cygwin_nt-10.0/2.9.0/x86_64/perl/5.20.1/cygwin/local/lib/site_perl/5.20.1
    /opt/perl5/cygwin_nt-10.0/2.9.0/x86_64/perl/5.20.1/cygwin/local/lib/5.20.1/cygwin
    /opt/perl5/cygwin_nt-10.0/2.9.0/x86_64/perl/5.20.1/cygwin/local/lib/5.20.1
    /opt/perl5/cygwin_nt-10.0/2.9.0/x86_64/perl/5.20.1/cygwin/local/lib/perl5
    /opt/perl5/cygwin_nt-10.0/2.9.0/x86_64/perl/5.20.1/cygwin/lib/site_perl/5.20.1/cygwin
    /opt/perl5/cygwin_nt-10.0/2.9.0/x86_64/perl/5.20.1/cygwin/lib/site_perl/5.20.1
    /opt/perl5/cygwin_nt-10.0/2.9.0/x86_64/perl/5.20.1/cygwin/lib/5.20.1/cygwin
    /opt/perl5/cygwin_nt-10.0/2.9.0/x86_64/perl/5.20.1/cygwin/lib/5.20.1
    .