Report for String-Clean-0.031

Back
From: metabase:user:30f4dfbe-2aae-11df-837a-5e0a49663a4f
Subject: PASS String-Clean-0.031 v5.14.2 GNU/Linux
Date: 2014-02-04T16:41:19Z

This distribution has been tested as part of the CPAN Testers
project, supporting the Perl programming language.  See
http://wiki.cpantesters.org/ for more information or email
questions to cpan-testers-discuss@perl.org


--
Dear ben hengst,

This is a computer-generated report for String-Clean-0.031
on perl 5.14.2, created by CPAN-Reporter-1.2010.

Thank you for uploading your work to CPAN.  Congratulations!
All tests were successful.

Sections of this report:

    * Tester comments
    * Program output
    * Prerequisites
    * Environment and other context

------------------------------
TESTER COMMENTS
------------------------------

Additional comments from tester:

none provided

------------------------------
PROGRAM OUTPUT
------------------------------

Output from './Build test':

# Testing String::Clean 0.031, Perl 5.014002, /home/hornenj/perl5/perlbrew/perls/perl-5.14.2/bin/perl
t/00-load.t .......... ok
t/10-string_clean.t .. ok
t/11-clean_XSS.t ..... ok
t/boilerplate.t ...... ok
t/pod-coverage.t ..... ok
t/pod.t .............. ok
All tests successful.

Test Summary Report
-------------------
t/boilerplate.t    (Wstat: 0 Tests: 3 Failed: 0)
  TODO passed:   1-3
Files=6, Tests=28,  0 wallclock secs ( 0.02 usr  0.01 sys +  0.19 cusr  0.03 csys =  0.25 CPU)
Result: PASS

------------------------------
PREREQUISITES
------------------------------

Prerequisite modules loaded:

requires:

    Module              Need   Have    
    ------------------- ------ --------
    Carp::Assert::More  0      1.14    
    Test::More          0      1.001002
    YAML::Any           0      0.88    

build_requires:

    Module              Need   Have    
    ------------------- ------ --------
    Module::Build       0.3601 0.4204  

configure_requires:

    Module              Need   Have    
    ------------------- ------ --------
    ExtUtils::MakeMaker 6.31   6.86    
    Module::Build       0.3601 0.4204  


------------------------------
ENVIRONMENT AND OTHER CONTEXT
------------------------------

Environment variables:

    LANG = en_US.UTF-8
    LC_ALL = POSIX
    LD_LIBRARY_PATH = /opt/ghostscript/lib64:/opt/gd-2.0.35/lib64
    PATH = /home/hornenj/perl5/perlbrew/bin:/home/hornenj/perl5/perlbrew/perls/perl-5.14.2/bin:/home/hornenj/perl5/perlbrew/bin:/home/hornenj/bin:/usr/lib64/qt-3.3/bin:/net/snowman/vol/projects/sanity:/opt/perl-5.8.8/bin:/opt/graphviz-2.16.1/bin:/opt/python-2.7/bin:/netopt/uge/bin/lx-amd64:/am/ncbiapdata/bin:/netopt/ncbi_tools64/bin:/usr/local/nedit/5.5/bin:/usr/local/svnmucc/1.5.7/bin:/usr/local/joe/3.7/bin:/usr/local/ctags/5.8/bin:/usr/local/gcc/4.8.1/bin:/usr/local/ddd/3.3.12/bin:/usr/local/gdb/7.2/bin:/opt/ruby-1.8.7/bin:/usr/kerberos/bin:/usr/local/bin:/bin:/usr/bin:/sbin:/usr/sbin:/usr/local/sbin:/export/home/sybase/utils/bin
    PERL5LIB = 
    PERL5OPT = 
    PERL5_CPANPLUS_IS_RUNNING = 31881
    PERL5_CPAN_IS_RUNNING = 31881
    PERLBREW_BASHRC_VERSION = 0.67
    PERLBREW_HOME = /home/hornenj/.perlbrew
    PERLBREW_MANPATH = /home/hornenj/perl5/perlbrew/perls/perl-5.14.2/man
    PERLBREW_PATH = /home/hornenj/perl5/perlbrew/bin:/home/hornenj/perl5/perlbrew/perls/perl-5.14.2/bin
    PERLBREW_PERL = perl-5.14.2
    PERLBREW_ROOT = /home/hornenj/perl5/perlbrew
    PERLBREW_VERSION = 0.67
    SHELL = /bin/bash
    TERM = xterm
    TMPDIR = /tmp

Perl special variables (and OS-specific diagnostics, for MSWin32):

    $^X = /home/hornenj/perl5/perlbrew/perls/perl-5.14.2/bin/perl
    $UID/$EUID = 12481 / 12481
    $GID = 14 14 241 527 5344
    $EGID = 14 14 241 527 5344

Perl module toolchain versions installed:

    Module              Have    
    ------------------- --------
    CPAN                2.00    
    CPAN::Meta          2.133380
    Cwd                 3.40    
    ExtUtils::CBuilder  0.280212
    ExtUtils::Command   1.18    
    ExtUtils::Install   1.56    
    ExtUtils::MakeMaker 6.86    
    ExtUtils::Manifest  1.63    
    ExtUtils::ParseXS   3.22    
    File::Spec          3.40    
    JSON                2.90    
    JSON::PP            2.27203 
    Module::Build       0.4204  
    Module::Signature   n/a     
    Parse::CPAN::Meta   1.4409  
    Test::Harness       3.30    
    Test::More          1.001002
    YAML                0.88    
    YAML::Syck          1.27    
    version             0.9907  


--

Summary of my perl5 (revision 5 version 14 subversion 2) configuration:
   
  Platform:
    osname=linux, osvers=2.6.18-371.1.2.el5, archname=x86_64-linux-thread-multi
    uname='linux irbdev1 2.6.18-371.1.2.el5 #1 smp tue oct 22 12:51:53 edt 2013 x86_64 x86_64 x86_64 gnulinux '
    config_args='-de -Dprefix=/home/hornenj/perl5/perlbrew/perls/perl-5.14.2 -Duseithreads -Dusemultiplicity -Accflags=-O2 -W -Wformat=2 -Wswitch -Wshadow -Wwrite-strings -Wuninitialized -Wall -pipe -fomit-frame-pointer -mfpmath=sse -pedantic -D_FORTIFY_SOURCE=2 -Wpointer-arith -Wstrict-prototypes -fstack-protector -Wstack-protector -Wextra -Wbad-function-cast -Wcast-align -Wcast-qual -Wdisabled-optimization -Wendif-labels -Wfloat-equal -Wformat-nonliteral -Winline -Wmissing-declarations -Wmissing-prototypes -Wnested-externs -Wpointer-arith -Wundef -Wformat-security -ftree-vectorize -fassociative-math -ftree-vectorizer-verbose=1 -Acc=gcc -Aeval:scriptdir=/home/hornenj/perl5/perlbrew/perls/perl-5.14.2/bin'
    hint=recommended, useposix=true, d_sigaction=define
    useithreads=define, usemultiplicity=define
    useperlio=define, d_sfio=undef, uselargefiles=define, usesocks=undef
    use64bitint=define, use64bitall=define, uselongdouble=undef
    usemymalloc=n, bincompat5005=undef
  Compiler:
    cc=' gcc', ccflags ='-D_REENTRANT -D_GNU_SOURCE -O2 -W -Wformat=2 -Wswitch -Wshadow -Wwrite-strings -Wuninitialized -Wall -pipe -fomit-frame-pointer -mfpmath=sse -pedantic -D_FORTIFY_SOURCE=2 -Wpointer-arith -Wstrict-prototypes -fstack-protector -Wstack-protector -Wextra -Wbad-function-cast -Wcast-align -Wcast-qual -Wdisabled-optimization -Wendif-labels -Wfloat-equal -Wformat-nonliteral -Winline -Wmissing-declarations -Wmissing-prototypes -Wnested-externs -Wpointer-arith -Wundef -Wformat-security -ftree-vectorize -fassociative-math -ftree-vectorizer-verbose=1 -fno-strict-aliasing -I/usr/local/include -D_LARGEFILE_SOURCE -D_FILE_OFFSET_BITS=64',
    optimize='-O2',
    cppflags='-D_REENTRANT -D_GNU_SOURCE -O2 -W -Wformat=2 -Wswitch -Wshadow -Wwrite-strings -Wuninitialized -Wall -pipe -fomit-frame-pointer -mfpmath=sse -pedantic -D_FORTIFY_SOURCE=2 -Wpointer-arith -Wstrict-prototypes -fstack-protector -Wstack-protector -Wextra -Wbad-function-cast -Wcast-align -Wcast-qual -Wdisabled-optimization -Wendif-labels -Wfloat-equal -Wformat-nonliteral -Winline -Wmissing-declarations -Wmissing-prototypes -Wnested-externs -Wpointer-arith -Wundef -Wformat-security -ftree-vectorize -fassociative-math -ftree-vectorizer-verbose=1 -fno-strict-aliasing -I/usr/local/include'
    ccversion='', gccversion='4.8.1', gccosandvers=''
    intsize=4, longsize=8, ptrsize=8, doublesize=8, byteorder=12345678
    d_longlong=define, longlongsize=8, d_longdbl=define, longdblsize=16
    ivtype='long', ivsize=8, nvtype='double', nvsize=8, Off_t='off_t', lseeksize=8
    alignbytes=8, prototype=define
  Linker and Libraries:
    ld=' gcc', ldflags =' -fstack-protector -L/usr/local/lib'
    libpth=/usr/local/lib /lib/../lib64 /usr/lib/../lib64 /lib /usr/lib /lib64 /usr/lib64
    libs=-lnsl -lgdbm -ldb -ldl -lm -lcrypt -lutil -lpthread -lc
    perllibs=-lnsl -ldl -lm -lcrypt -lutil -lpthread -lc
    libc=/lib/libc-2.5.so, so=so, useshrplib=false, libperl=libperl.a
    gnulibc_version='2.5'
  Dynamic Linking:
    dlsrc=dl_dlopen.xs, dlext=so, d_dlsymun=undef, ccdlflags='-Wl,-E'
    cccdlflags='-fPIC', lddlflags='-shared -O2 -L/usr/local/lib -fstack-protector'


Characteristics of this binary (from libperl): 
  Compile-time options: MULTIPLICITY PERL_DONT_CREATE_GVSV
                        PERL_IMPLICIT_CONTEXT PERL_MALLOC_WRAP
                        PERL_PRESERVE_IVUV USE_64_BIT_ALL USE_64_BIT_INT
                        USE_ITHREADS USE_LARGE_FILES USE_PERLIO USE_PERL_ATOF
                        USE_REENTRANT_API
  Built under linux
  Compiled at Jan 13 2014 11:53:48
  %ENV:
    PERL5LIB=""
    PERL5OPT=""
    PERL5_CPANPLUS_IS_RUNNING="31881"
    PERL5_CPAN_IS_RUNNING="31881"
    PERLBREW_BASHRC_VERSION="0.67"
    PERLBREW_HOME="/home/hornenj/.perlbrew"
    PERLBREW_MANPATH="/home/hornenj/perl5/perlbrew/perls/perl-5.14.2/man"
    PERLBREW_PATH="/home/hornenj/perl5/perlbrew/bin:/home/hornenj/perl5/perlbrew/perls/perl-5.14.2/bin"
    PERLBREW_PERL="perl-5.14.2"
    PERLBREW_ROOT="/home/hornenj/perl5/perlbrew"
    PERLBREW_VERSION="0.67"
  @INC:
    /home/hornenj/perl5/perlbrew/perls/perl-5.14.2/lib/site_perl/5.14.2/x86_64-linux-thread-multi
    /home/hornenj/perl5/perlbrew/perls/perl-5.14.2/lib/site_perl/5.14.2
    /home/hornenj/perl5/perlbrew/perls/perl-5.14.2/lib/5.14.2/x86_64-linux-thread-multi
    /home/hornenj/perl5/perlbrew/perls/perl-5.14.2/lib/5.14.2
    .