autodie v2.29 Perl 5 v5.18.3 aarch64-linux-ld

Status
Pass
From
Nigel Horne
Dist
autodie v2.29
Platform
Perl 5 v5.18.3 aarch64-linux-ld
Date
2018-03-01 21:19:06
ID
2c5a4fc8-1d96-11e8-a50a-8516eebf9254
This distribution has been tested as part of the CPAN Testers
project, supporting the Perl programming language.  See
http://wiki.cpantesters.org/ for more information or email
questions to cpan-testers-discuss@perl.org


--
Dear Paul Jamieson Fenwick,

This is a computer-generated report for autodie-2.29
on perl 5.18.3, created by CPAN-Reporter-1.2018.

Thank you for uploading your work to CPAN.  Congratulations!
All tests were successful.

Sections of this report:

    * Tester comments
    * Program output
    * Prerequisites
    * Environment and other context

------------------------------
TESTER COMMENTS
------------------------------

Additional comments from tester:

this report is from an automated smoke testing program
and was not reviewed by a human for accuracy

------------------------------
PROGRAM OUTPUT
------------------------------

Output from '/usr/bin/make test':

PERL_DL_NONLAZY=1 "/home/njh/perl5/perlbrew/perls/perl-5.18.3-ld/bin/perl5.18.3" "-MExtUtils::Command::MM" "-MTest::Harness" "-e" "undef *Test::Harness::Switches; test_harness(0, 'blib/lib', 'blib/arch')" t/*.t
t/author-critic.t ................ skipped: these tests are for testing by the author
t/00-load.t ...................... ok
t/autodie.t ...................... ok
t/args.t ......................... ok
t/backcompat.t ................... ok
t/basic_exceptions.t ............. ok
t/chmod.t ........................ ok
t/caller.t ....................... ok
t/binmode.t ...................... ok
t/blog_hints.t ................... ok
t/chown.t ........................ ok
t/context.t ...................... ok
t/context_lexical.t .............. ok
t/crickey.t ...................... ok
t/critic.t ....................... skipped: Author test.  Set $ENV{AUTHOR_TESTING} to true to run.
t/core-trampoline-slurp.t ........ ok
t/dbmopen.t ...................... ok
t/eval_error.t ................... ok
t/exceptions.t ................... ok
t/Fatal.t ........................ ok
t/exception_class.t .............. ok
t/exec.t ......................... ok
t/filehandles.t .................. ok
t/fileno.t ....................... ok
t/flock.t ........................ ok
t/fork.t ......................... ok
# Sub::Identify is not loaded
t/format-clobber.t ............... ok
t/hints.t ........................ ok
t/hints_insist.t ................. ok
t/hints_pod_examples.t ........... ok
t/hints_provider_does.t .......... ok
t/hints_provider_isa.t ........... ok
t/hints_provider_easy_does_it.t .. ok
t/import-into.t .................. skipped: Test needs Import::Into >= 1.002004
t/internal-backcompat.t .......... ok
t/kill.t ......................... ok
t/internal.t ..................... ok
t/kwalitee.t ..................... skipped: Author test.  Set $ENV{RELEASE_TESTING} to true to run.
t/lex58.t ........................ skipped: IPC::System::Simple required
t/lethal.t ....................... ok
t/mkdir.t ........................ ok
t/no_carp.t ...................... ok
t/pod-coverage.t ................. skipped: Author test.  Set $ENV{AUTHOR_TESTING} to true to run.
t/open.t ......................... ok
t/pod.t .......................... skipped: Author test.  Set $ENV{AUTHOR_TESTING} to true to run.
t/read.t ......................... ok
t/recv.t ......................... ok
t/release-pod-coverage.t ......... skipped: these tests are for release candidate testing
t/release-pod-syntax.t ........... skipped: these tests are for release candidate testing
t/repeat.t ....................... ok
t/rt-74246.t ..................... ok
t/scope_leak.t ................... ok
t/skip.t ......................... ok
t/string-eval-basic.t ............ ok
t/socket.t ....................... skipped: Author test.  Set $ENV{AUTHOR_TESTING} to true to run.
t/system.t ....................... skipped: IPC::System::Simple not installed
t/sysopen.t ...................... ok
t/string-eval-leak.t ............. ok
t/truncate.t ..................... ok
t/unlink.t ....................... ok
t/user-context.t ................. ok
t/usersub.t ...................... ok
t/utf8_open.t .................... ok
t/version.t ...................... skipped: Release test.  Set $ENV{RELEASE_TESTING} to true to run.
t/utime.t ........................ ok
t/version_tag.t .................. ok
All tests successful.
Files=66, Tests=498,  9 wallclock secs ( 0.90 usr  0.24 sys + 18.07 cusr  4.00 csys = 23.21 CPU)
Result: PASS

------------------------------
PREREQUISITES
------------------------------

Prerequisite modules loaded:

requires:

    Module              Need     Have    
    ------------------- -------- --------
    B                   0        1.42_02 
    Carp                0        1.38    
    constant            0        1.27    
    Exporter            5.57     5.68    
    Fcntl               0        1.11    
    overload            0        1.22    
    parent              0        0.225   
    perl                5.008004 5.018003
    POSIX               0        1.32    
    Scalar::Util        0        1.27    
    strict              0        1.07    
    Tie::RefHash        0        1.39    
    warnings            0        1.18    

build_requires:

    Module              Need     Have    
    ------------------- -------- --------
    ExtUtils::MakeMaker 0        7.30    
    File::Copy          0        2.26    
    File::Spec          0        3.40    
    File::Temp          0        0.23    
    FindBin             0        1.51    
    if                  0        0.0602  
    IO::Handle          0        1.34    
    lib                 0        0.63    
    Socket              0        2.009   
    Test::More          0        1.302120

configure_requires:

    Module              Need     Have    
    ------------------- -------- --------
    ExtUtils::MakeMaker 0        7.30    


------------------------------
ENVIRONMENT AND OTHER CONTEXT
------------------------------

Environment variables:

    AUTOMATED_TESTING = 1
    HARNESS_OPTIONS = j4
    LANG = en_US.UTF-8
    LANGUAGE = en_US.UTF-8
    LC_ALL = en_US.UTF-8
    PATH = /home/njh/perl5/perlbrew/bin:/home/njh/perl5/perlbrew/perls/perl-5.18.3-ld/bin:/home/njh/src/njh/smoker/bin:/usr/bin:/bin
    PERL5LIB = /home/njh/.cpan/build/Data-Dumper-2.161-2/blib/arch:/home/njh/.cpan/build/Data-Dumper-2.161-2/blib/lib:/home/njh/.cpan/build/Carp-1.38-2/blib/arch:/home/njh/.cpan/build/Carp-1.38-2/blib/lib:/home/njh/.cpan/build/AnyEvent-HTTP-Message-0.302-8/blib/arch:/home/njh/.cpan/build/AnyEvent-HTTP-Message-0.302-8/blib/lib:/home/njh/.cpan/build/AnyEvent-HTTP-2.23-8/blib/arch:/home/njh/.cpan/build/AnyEvent-HTTP-2.23-8/blib/lib:/home/njh/.cpan/build/common-sense-3.74-8/blib/arch:/home/njh/.cpan/build/common-sense-3.74-8/blib/lib:/home/njh/.cpan/build/AnyEvent-7.14-8/blib/arch:/home/njh/.cpan/build/AnyEvent-7.14-8/blib/lib:/home/njh/.cpan/build/Canary-Stability-2012-8/blib/arch:/home/njh/.cpan/build/Canary-Stability-2012-8/blib/lib:/home/njh/.cpan/build/JSONP-1.83-10/blib/arch:/home/njh/.cpan/build/JSONP-1.83-10/blib/lib:/home/njh/.cpan/build/JSONP-1.82-10/blib/arch:/home/njh/.cpan/build/JSONP-1.82-10/blib/lib:/home/njh/.cpan/build/Want-0.29-10/blib/arch:/home/njh/.cpan/build/Want-0.29-10/blib/lib:/home/njh/.cpan/build/JSON-2.97001-1/blib/arch:/home/njh/.cpan/build/JSON-2.97001-1/blib/lib:/home/njh/.cpan/build/Mozilla-CA-20180117-0/blib/arch:/home/njh/.cpan/build/Mozilla-CA-20180117-0/blib/lib
    PERL5OPT = 
    PERL5_CPANPLUS_IS_RUNNING = 21990
    PERL5_CPAN_IS_RUNNING = 21990
    PERLBREW_HOME = /home/njh/.perlbrew
    PERLBREW_MANPATH = /home/njh/perl5/perlbrew/perls/perl-5.18.3-ld/man
    PERLBREW_PATH = /home/njh/perl5/perlbrew/bin:/home/njh/perl5/perlbrew/perls/perl-5.18.3-ld/bin
    PERLBREW_PERL = perl-5.18.3-ld
    PERLBREW_ROOT = /home/njh/perl5/perlbrew
    PERLBREW_SHELLRC_VERSION = 0.82
    PERLBREW_VERSION = 0.82
    SHELL = /bin/sh

Perl special variables (and OS-specific diagnostics, for MSWin32):

    $^X = /home/njh/perl5/perlbrew/perls/perl-5.18.3-ld/bin/perl5.18.3
    $UID/$EUID = 1000 / 1000
    $GID = 1000 1000
    $EGID = 1000 1000

Perl module toolchain versions installed:

    Module              Have    
    ------------------- --------
    CPAN                2.16    
    CPAN::Meta          2.143240
    Cwd                 3.40    
    ExtUtils::CBuilder  0.280210
    ExtUtils::Command   7.30    
    ExtUtils::Install   2.06    
    ExtUtils::MakeMaker 7.30    
    ExtUtils::Manifest  1.70    
    ExtUtils::ParseXS   3.18    
    File::Spec          3.40    
    JSON                2.97001 
    JSON::PP            2.97001 
    Module::Build       0.4003  
    Module::Signature   n/a     
    Parse::CPAN::Meta   1.4414  
    Test::Harness       3.39    
    Test::More          1.302120
    YAML                1.24    
    YAML::Syck          1.30    
    version             0.9902  


--

Summary of my perl5 (revision 5 version 18 subversion 3) configuration:
   
  Platform:
    osname=linux, osvers=4.14.13-mainline-rev1, archname=aarch64-linux-ld
    uname='linux scaleway 4.14.13-mainline-rev1 #1 smp wed jan 10 10:39:51 utc 2018 aarch64 gnulinux '
    config_args='-de -Dprefix=/home/njh/perl5/perlbrew/perls/perl-5.18.3-ld -Dusedevel -Duselongdouble -Accflags=-O2 -W -Wformat=2 -Wswitch -Wshadow -Wwrite-strings -Wuninitialized -Wall -pipe -fomit-frame-pointer -D_FORTIFY_SOURCE=2 -Wpointer-arith -Wstrict-prototypes -fstack-protector -Wstack-protector -Wextra -Wbad-function-cast -Wcast-align -Wcast-qual -Wdisabled-optimization -Wendif-labels -Wfloat-equal -Wformat-nonliteral -Winline -Wmissing-declarations -Wmissing-prototypes -Wnested-externs -Wpointer-arith -Wundef -Wformat-security -march=armv8-a+crc -Aeval:scriptdir=/home/njh/perl5/perlbrew/perls/perl-5.18.3-ld/bin'
    hint=recommended, useposix=true, d_sigaction=define
    useithreads=undef, usemultiplicity=undef
    useperlio=define, d_sfio=undef, uselargefiles=define, usesocks=undef
    use64bitint=define, use64bitall=define, uselongdouble=define
    usemymalloc=n, bincompat5005=undef
  Compiler:
    cc='cc', ccflags ='-O2 -W -Wformat=2 -Wswitch -Wshadow -Wwrite-strings -Wuninitialized -Wall -pipe -fomit-frame-pointer -D_FORTIFY_SOURCE=2 -Wpointer-arith -Wstrict-prototypes -fstack-protector -Wstack-protector -Wextra -Wbad-function-cast -Wcast-align -Wcast-qual -Wdisabled-optimization -Wendif-labels -Wfloat-equal -Wformat-nonliteral -Winline -Wmissing-declarations -Wmissing-prototypes -Wnested-externs -Wpointer-arith -Wundef -Wformat-security -march=armv8-a+crc -fno-strict-aliasing -I/usr/local/include -D_LARGEFILE_SOURCE -D_FILE_OFFSET_BITS=64',
    optimize='-O2',
    cppflags='-O2 -W -Wformat=2 -Wswitch -Wshadow -Wwrite-strings -Wuninitialized -Wall -pipe -fomit-frame-pointer -D_FORTIFY_SOURCE=2 -Wpointer-arith -Wstrict-prototypes -fstack-protector -Wstack-protector -Wextra -Wbad-function-cast -Wcast-align -Wcast-qual -Wdisabled-optimization -Wendif-labels -Wfloat-equal -Wformat-nonliteral -Winline -Wmissing-declarations -Wmissing-prototypes -Wnested-externs -Wpointer-arith -Wundef -Wformat-security -march=armv8-a+crc -fno-strict-aliasing -I/usr/local/include'
    ccversion='', gccversion='6.3.0 20170516', gccosandvers=''
    intsize=4, longsize=8, ptrsize=8, doublesize=8, byteorder=12345678
    d_longlong=define, longlongsize=8, d_longdbl=define, longdblsize=16
    ivtype='long', ivsize=8, nvtype='long double', nvsize=16, Off_t='off_t', lseeksize=8
    alignbytes=16, prototype=define
  Linker and Libraries:
    ld='cc', ldflags =' -fstack-protector -L/usr/local/lib'
    libpth=/usr/local/lib /lib/aarch64-linux-gnu /lib/../lib /usr/lib/aarch64-linux-gnu /usr/lib/../lib /lib /usr/lib
    libs=-lnsl -lgdbm -ldb -ldl -lm -lcrypt -lutil -lc -lgdbm_compat
    perllibs=-lnsl -ldl -lm -lcrypt -lutil -lc
    libc=libc-2.24.so, so=so, useshrplib=false, libperl=libperl.a
    gnulibc_version='2.24'
  Dynamic Linking:
    dlsrc=dl_dlopen.xs, dlext=so, d_dlsymun=undef, ccdlflags='-Wl,-E'
    cccdlflags='-fPIC', lddlflags='-shared -O2 -L/usr/local/lib -fstack-protector'


Characteristics of this binary (from libperl): 
  Compile-time options: HAS_TIMES PERLIO_LAYERS PERL_DONT_CREATE_GVSV
                        PERL_HASH_FUNC_ONE_AT_A_TIME_HARD PERL_MALLOC_WRAP
                        PERL_PRESERVE_IVUV PERL_SAWAMPERSAND PERL_USE_DEVEL
                        USE_64_BIT_ALL USE_64_BIT_INT USE_LARGE_FILES
                        USE_LOCALE USE_LOCALE_COLLATE USE_LOCALE_CTYPE
                        USE_LOCALE_NUMERIC USE_LONG_DOUBLE USE_PERLIO
                        USE_PERL_ATOF
  Locally applied patches:
	Devel::PatchPerl 1.48
  Built under linux
  Compiled at Jan 28 2018 18:45:29
  %ENV:
    PERL5LIB="/home/njh/.cpan/build/Data-Dumper-2.161-2/blib/arch:/home/njh/.cpan/build/Data-Dumper-2.161-2/blib/lib:/home/njh/.cpan/build/Carp-1.38-2/blib/arch:/home/njh/.cpan/build/Carp-1.38-2/blib/lib:/home/njh/.cpan/build/AnyEvent-HTTP-Message-0.302-8/blib/arch:/home/njh/.cpan/build/AnyEvent-HTTP-Message-0.302-8/blib/lib:/home/njh/.cpan/build/AnyEvent-HTTP-2.23-8/blib/arch:/home/njh/.cpan/build/AnyEvent-HTTP-2.23-8/blib/lib:/home/njh/.cpan/build/common-sense-3.74-8/blib/arch:/home/njh/.cpan/build/common-sense-3.74-8/blib/lib:/home/njh/.cpan/build/AnyEvent-7.14-8/blib/arch:/home/njh/.cpan/build/AnyEvent-7.14-8/blib/lib:/home/njh/.cpan/build/Canary-Stability-2012-8/blib/arch:/home/njh/.cpan/build/Canary-Stability-2012-8/blib/lib:/home/njh/.cpan/build/JSONP-1.83-10/blib/arch:/home/njh/.cpan/build/JSONP-1.83-10/blib/lib:/home/njh/.cpan/build/JSONP-1.82-10/blib/arch:/home/njh/.cpan/build/JSONP-1.82-10/blib/lib:/home/njh/.cpan/build/Want-0.29-10/blib/arch:/home/njh/.cpan/build/Want-0.29-10/blib/lib:/home/njh/.cpan/build/JSON-2.97001-1/blib/arch:/home/njh/.cpan/build/JSON-2.97001-1/blib/lib:/home/njh/.cpan/build/Mozilla-CA-20180117-0/blib/arch:/home/njh/.cpan/build/Mozilla-CA-20180117-0/blib/lib"
    PERL5OPT=""
    PERL5_CPANPLUS_IS_RUNNING="21990"
    PERL5_CPAN_IS_RUNNING="21990"
    PERLBREW_HOME="/home/njh/.perlbrew"
    PERLBREW_MANPATH="/home/njh/perl5/perlbrew/perls/perl-5.18.3-ld/man"
    PERLBREW_PATH="/home/njh/perl5/perlbrew/bin:/home/njh/perl5/perlbrew/perls/perl-5.18.3-ld/bin"
    PERLBREW_PERL="perl-5.18.3-ld"
    PERLBREW_ROOT="/home/njh/perl5/perlbrew"
    PERLBREW_SHELLRC_VERSION="0.82"
    PERLBREW_VERSION="0.82"
  @INC:
    /home/njh/.cpan/build/Data-Dumper-2.161-2/blib/arch
    /home/njh/.cpan/build/Data-Dumper-2.161-2/blib/lib
    /home/njh/.cpan/build/Carp-1.38-2/blib/arch
    /home/njh/.cpan/build/Carp-1.38-2/blib/lib
    /home/njh/.cpan/build/AnyEvent-HTTP-Message-0.302-8/blib/arch
    /home/njh/.cpan/build/AnyEvent-HTTP-Message-0.302-8/blib/lib
    /home/njh/.cpan/build/AnyEvent-HTTP-2.23-8/blib/arch
    /home/njh/.cpan/build/AnyEvent-HTTP-2.23-8/blib/lib
    /home/njh/.cpan/build/common-sense-3.74-8/blib/arch
    /home/njh/.cpan/build/common-sense-3.74-8/blib/lib
    /home/njh/.cpan/build/AnyEvent-7.14-8/blib/arch
    /home/njh/.cpan/build/AnyEvent-7.14-8/blib/lib
    /home/njh/.cpan/build/Canary-Stability-2012-8/blib/arch
    /home/njh/.cpan/build/Canary-Stability-2012-8/blib/lib
    /home/njh/.cpan/build/JSONP-1.83-10/blib/arch
    /home/njh/.cpan/build/JSONP-1.83-10/blib/lib
    /home/njh/.cpan/build/JSONP-1.82-10/blib/arch
    /home/njh/.cpan/build/JSONP-1.82-10/blib/lib
    /home/njh/.cpan/build/Want-0.29-10/blib/arch
    /home/njh/.cpan/build/Want-0.29-10/blib/lib
    /home/njh/.cpan/build/JSON-2.97001-1/blib/arch
    /home/njh/.cpan/build/JSON-2.97001-1/blib/lib
    /home/njh/.cpan/build/Mozilla-CA-20180117-0/blib/arch
    /home/njh/.cpan/build/Mozilla-CA-20180117-0/blib/lib
    /home/njh/perl5/perlbrew/perls/perl-5.18.3-ld/lib/site_perl/5.18.3/aarch64-linux-ld
    /home/njh/perl5/perlbrew/perls/perl-5.18.3-ld/lib/site_perl/5.18.3
    /home/njh/perl5/perlbrew/perls/perl-5.18.3-ld/lib/5.18.3/aarch64-linux-ld
    /home/njh/perl5/perlbrew/perls/perl-5.18.3-ld/lib/5.18.3
    .