Dist-Zilla-Plugin-Test-EOL v0.19 Perl 5 v5.27.5 darwin-2level
- Status
- Pass
- From
- NONAME
- Dist
-
Dist-Zilla-Plugin-Test-EOL v0.19
- Platform
- Perl 5 v5.27.5 darwin-2level
- Date
- 2017-10-21 00:31:26
- ID
- 2c6c01f2-b5f7-11e7-a6ce-3b5cdebd342c
This distribution has been tested as part of the CPAN Testers
project, supporting the Perl programming language. See
http://wiki.cpantesters.org/ for more information or email
questions to cpan-testers-discuss@perl.org
--
Dear ETHER,
This is a computer-generated report for Dist-Zilla-Plugin-Test-EOL-0.19
on perl 5.27.5, created by App::cpanminus::reporter 0.17 (1.7043).
Thank you for uploading your work to CPAN. Congratulations!
All tests were successful.
Sections of this report:
* Tester comments
* Program output
* Prerequisites
* Environment and other context
------------------------------
TESTER COMMENTS
------------------------------
Additional comments from tester:
none provided
------------------------------
PROGRAM OUTPUT
------------------------------
Output from '':
Building and testing Dist-Zilla-Plugin-Test-EOL-0.19
#
# Versions for all modules listed in MYMETA.json (including optional ones):
#
# === Configure Requires ===
#
# Module Want Have
# ------------------- ----- -----
# Module::Build::Tiny 0.034 0.039
#
# === Test Requires ===
#
# Module Want Have
# ---------------- ----- --------
# File::Spec any 3.68
# File::pushd any 1.014
# FindBin any 1.51
# Module::Metadata any 1.000033
# Test::DZil any 6.010
# Test::Deep any 1.127
# Test::EOL any 2.00
# Test::More 0.88 1.302103
# Test::Warnings 0.009 0.026
# if any 0.0607
#
# === Test Recommends ===
#
# Module Want Have
# ---------- -------- --------
# CPAN::Meta 2.120900 2.150010
#
# === Runtime Requires ===
#
# Module Want Have
# --------------------------------- ----- --------
# Data::Section 0.004 0.200007
# Dist::Zilla::File::InMemory any 6.010
# Dist::Zilla::Role::FileFinderUser any 6.010
# Dist::Zilla::Role::FileGatherer any 6.010
# Dist::Zilla::Role::FileMunger any 6.010
# Dist::Zilla::Role::PrereqSource any 6.010
# Dist::Zilla::Role::TextTemplate any 6.010
# Moose any 2.2006
# Moose::Util::TypeConstraints any 2.2006
# Path::Tiny any 0.104
# Sub::Exporter::ForMethods any 0.100052
# namespace::autoclean any 0.28
# strict any 1.11
# warnings any 1.37
#
# === Other Modules ===
#
# Module Have
# --------------------- --------
# CPAN::Meta::Validator 2.150010
# Pod::Coverage 0.23
#
t/00-report-prereqs.t .. ok
t/eol.t ................ ok
t/prereqs.t ............ ok
t/04-filename.t ........ ok
t/01-basic.t ........... ok
t/03-finder.t .......... ok
t/02-eoltests.t ........ ok
t/zzz-check-breaks.t ... ok
All tests successful.
Files=8, Tests=66, 3 wallclock secs ( 0.06 usr 0.03 sys + 8.76 cusr 0.59 csys = 9.44 CPU)
Result: PASS
------------------------------
PREREQUISITES
------------------------------
Prerequisite modules loaded:
No requirements found
------------------------------
ENVIRONMENT AND OTHER CONTEXT
------------------------------
Environment variables:
HARNESS_OPTIONS = j5:c
LANG = en_CA.UTF-8
NO_NETWORK_TESTING = 1
PATH = /Users/ether/.perlbrew/libs/27.5@std/bin:/Users/ether/perl5/perlbrew/bin:/Users/ether/perl5/perlbrew/perls/27.5/bin:/Users/ether/bin:/Users/ether/git/misc/install/bourbon/bin:/Users/ether/git/misc/install/generic/bin:/opt/local/bin:/opt/local/sbin:/Users/ether/git/git-hub/lib:/Users/ether/src/CE/devtools:/Users/ether/git/CE/devtools:/Users/ether/src/CE/bin:/Users/ether/git/CE/bin:/usr/local/bin:/usr/bin:/bin:/usr/sbin:/sbin:/opt/local/share/git-core/contrib/workdir
PERL5LIB = /Users/ether/.perlbrew/libs/27.5@std/lib/perl5
PERLBREW_BASHRC_VERSION = 0.80
PERLBREW_HOME = /Users/ether/.perlbrew
PERLBREW_LIB = std
PERLBREW_MANPATH = /Users/ether/.perlbrew/libs/27.5@std/man:/Users/ether/perl5/perlbrew/perls/27.5/man
PERLBREW_PATH = /Users/ether/.perlbrew/libs/27.5@std/bin:/Users/ether/perl5/perlbrew/bin:/Users/ether/perl5/perlbrew/perls/27.5/bin
PERLBREW_PERL = 27.5
PERLBREW_ROOT = /Users/ether/perl5/perlbrew
PERLBREW_VERSION = 0.80
PERLDOC = -oman
PERLDOC_PAGER = less -sicMr
PERL_AUTOINSTALL_PREFER_CPAN = 1
PERL_INSTALL_QUIET = 1
PERL_LOCAL_LIB_ROOT = /Users/ether/.perlbrew/libs/27.5@std
PERL_MB_OPT = --install_base /Users/ether/.perlbrew/libs/27.5@std
PERL_MM_OPT = INSTALL_BASE=/Users/ether/.perlbrew/libs/27.5@std
PERL_USE_UNSAFE_INC = 1
SHELL = /bin/bash
TERM = xterm-color
TMPDIR = /var/folders/8r/y_1q6y1n56b3dpj2_vqxk83r0000gn/T/
Perl special variables (and OS-specific diagnostics, for MSWin32):
EGID = 20 20 701 12 61 79 80 81 98 399 33 100 204 395 398
EUID = 501
EXECUTABLE_NAME = /Users/ether/perl5/perlbrew/perls/27.5/bin/perl5.27.5
GID = 20 20 701 12 61 79 80 81 98 399 33 100 204 395 398
UID = 501
Perl module toolchain versions installed:
Module Have
------------------- --------
CPAN 2.18
CPAN::Meta 2.150010
Cwd 3.68
ExtUtils::CBuilder 0.280228
ExtUtils::Command 7.31_04
ExtUtils::Install 2.14
ExtUtils::MakeMaker 7.31_04
ExtUtils::Manifest 1.70
ExtUtils::ParseXS 3.35
File::Spec 3.68
JSON 2.94
JSON::PP 2.94
Module::Build 0.4224
Module::Signature n/a
Parse::CPAN::Meta 2.150010
Test::Harness 3.39
Test::More 1.302103
YAML n/a
YAML::Syck 1.30
version 0.9918
--
Summary of my perl5 (revision 5 version 27 subversion 5) configuration:
Platform:
osname=darwin
osvers=16.7.0
archname=darwin-2level
uname='darwin bourbon 16.7.0 darwin kernel version 16.7.0: thu jun 15 17:36:27 pdt 2017; root:xnu-3789.70.16~2release_x86_64 x86_64 '
config_args='-de -Dprefix=/Users/ether/perl5/perlbrew/perls/27.5 -Dman1dir=none -Dman3dir=none -Dusedevel -Aeval:scriptdir=/Users/ether/perl5/perlbrew/perls/27.5/bin'
hint=recommended
useposix=true
d_sigaction=define
useithreads=undef
usemultiplicity=undef
use64bitint=define
use64bitall=define
uselongdouble=undef
usemymalloc=n
default_inc_excludes_dot=define
bincompat5005=undef
Compiler:
cc='cc'
ccflags ='-fno-common -DPERL_DARWIN -mmacosx-version-min=10.12 -fno-strict-aliasing -pipe -fstack-protector-strong -I/usr/local/include -I/opt/local/include -DPERL_USE_SAFE_PUTENV'
optimize='-O3'
cppflags='-fno-common -DPERL_DARWIN -mmacosx-version-min=10.12 -fno-strict-aliasing -pipe -fstack-protector-strong -I/usr/local/include -I/opt/local/include'
ccversion=''
gccversion='4.2.1 Compatible Apple LLVM 9.0.0 (clang-900.0.38)'
gccosandvers=''
intsize=4
longsize=8
ptrsize=8
doublesize=8
byteorder=12345678
doublekind=3
d_longlong=define
longlongsize=8
d_longdbl=define
longdblsize=16
longdblkind=3
ivtype='long'
ivsize=8
nvtype='double'
nvsize=8
Off_t='off_t'
lseeksize=8
alignbytes=8
prototype=define
Linker and Libraries:
ld='cc'
ldflags =' -mmacosx-version-min=10.12 -fstack-protector-strong -L/usr/local/lib -L/opt/local/lib'
libpth=/usr/local/lib /Applications/Xcode.app/Contents/Developer/Toolchains/XcodeDefault.xctoolchain/usr/lib/clang/9.0.0/lib /Applications/Xcode.app/Contents/Developer/Toolchains/XcodeDefault.xctoolchain/usr/lib /usr/lib /opt/local/lib
libs=-lpthread -lgdbm -ldbm -ldl -lm -lutil -lc
perllibs=-lpthread -ldl -lm -lutil -lc
libc=
so=dylib
useshrplib=false
libperl=libperl.a
gnulibc_version=''
Dynamic Linking:
dlsrc=dl_dlopen.xs
dlext=bundle
d_dlsymun=undef
ccdlflags=' '
cccdlflags=' '
lddlflags=' -mmacosx-version-min=10.12 -bundle -undefined dynamic_lookup -L/usr/local/lib -L/opt/local/lib -fstack-protector-strong'
Characteristics of this binary (from libperl):
Compile-time options:
HAS_TIMES
PERLIO_LAYERS
PERL_COPY_ON_WRITE
PERL_DONT_CREATE_GVSV
PERL_MALLOC_WRAP
PERL_OP_PARENT
PERL_PRESERVE_IVUV
PERL_USE_DEVEL
PERL_USE_SAFE_PUTENV
USE_64_BIT_ALL
USE_64_BIT_INT
USE_LARGE_FILES
USE_LOCALE
USE_LOCALE_COLLATE
USE_LOCALE_CTYPE
USE_LOCALE_NUMERIC
USE_LOCALE_TIME
USE_PERLIO
USE_PERL_ATOF
Locally applied patches:
Devel::PatchPerl 1.48
Built under darwin
Compiled at Oct 20 2017 16:02:19
%ENV:
PERL5LIB="/Users/ether/.perlbrew/libs/27.5@std/lib/perl5"
PERLBREW_BASHRC_VERSION="0.80"
PERLBREW_HOME="/Users/ether/.perlbrew"
PERLBREW_LIB="std"
PERLBREW_MANPATH="/Users/ether/.perlbrew/libs/27.5@std/man:/Users/ether/perl5/perlbrew/perls/27.5/man"
PERLBREW_PATH="/Users/ether/.perlbrew/libs/27.5@std/bin:/Users/ether/perl5/perlbrew/bin:/Users/ether/perl5/perlbrew/perls/27.5/bin"
PERLBREW_PERL="27.5"
PERLBREW_ROOT="/Users/ether/perl5/perlbrew"
PERLBREW_VERSION="0.80"
PERLDOC="-oman"
PERLDOC_PAGER="less -sicMr"
PERL_AUTOINSTALL_PREFER_CPAN="1"
PERL_INSTALL_QUIET="1"
PERL_LOCAL_LIB_ROOT="/Users/ether/.perlbrew/libs/27.5@std"
PERL_MB_OPT="--install_base /Users/ether/.perlbrew/libs/27.5@std"
PERL_MM_OPT="INSTALL_BASE=/Users/ether/.perlbrew/libs/27.5@std"
PERL_USE_UNSAFE_INC="1"
@INC:
/Users/ether/.perlbrew/libs/27.5@std/lib/perl5/darwin-2level
/Users/ether/.perlbrew/libs/27.5@std/lib/perl5
/Users/ether/perl5/perlbrew/perls/27.5/lib/site_perl/5.27.5/darwin-2level
/Users/ether/perl5/perlbrew/perls/27.5/lib/site_perl/5.27.5
/Users/ether/perl5/perlbrew/perls/27.5/lib/5.27.5/darwin-2level
/Users/ether/perl5/perlbrew/perls/27.5/lib/5.27.5
.