Back
From: metabase:user:320bfe00-2aae-11df-837a-5e0a49663a4f
Subject: PASS WWW-Mechanize-Script-0.100 v5.17.2 GNU/Linux
Date: 2012-08-14T10:24:04Z
This distribution has been tested as part of the CPAN Testers
project, supporting the Perl programming language.  See
http://wiki.cpantesters.org/ for more information or email
questions to cpan-testers-discuss@perl.org
--
Dear Jens Rehsack,
This is a computer-generated report for WWW-Mechanize-Script-0.100
on perl 5.17.2, created by CPAN-Reporter-1.2006.
Thank you for uploading your work to CPAN.  Congratulations!
All tests were successful.
Sections of this report:
    * Tester comments
    * Program output
    * Prerequisites
    * Environment and other context
------------------------------
TESTER COMMENTS
------------------------------
Additional comments from tester:
this report is from an automated smoke testing program
and was not reviewed by a human for accuracy
------------------------------
PROGRAM OUTPUT
------------------------------
Output from './Build test':
# Testing WWW::Mechanize::Script 0.100, Perl 5.017002, /mnt/k75/homesand/src/perl/repoperls/installed-perls/perl/v5.17.2/165a/bin/perl
t/00-load.t ....... ok
t/10-live.t ....... ok
t/manifest.t ...... skipped: Author tests not required for installation
t/pod-coverage.t .. ok
t/pod.t ........... ok
All tests successful.
Files=5, Tests=24,  1 wallclock secs ( 0.03 usr  0.02 sys +  0.97 cusr  0.17 csys =  1.19 CPU)
Result: PASS
------------------------------
PREREQUISITES
------------------------------
Prerequisite modules loaded:
requires:
    Module                    Need   Have    
    ------------------------- ------ --------
    base                      0      2.18    
    Config::Any               0      0.23    
    Config::Any::Base         0      0       
    constant                  0      1.23    
    Cwd                       0      3.39_02 
    Exporter                  0      5.67    
    File::Basename            0      2.84    
    File::ConfigDir           0.004  0.004   
    File::Find::Rule          0      0.33    
    File::Path                0      2.08_01 
    File::Slurp               0      9999.19 
    Getopt::Long              0      2.38    
    Hash::Merge               0.12   0.12    
    IO::File                  0      1.16    
    JSON                      2.00   2.53    
    List::MoreUtils           0.22   0.33    
    Module::Pluggable         4.0    4.1     
    Module::Pluggable::Object 0      4.1     
    Params::Util              0.33   1.07    
    parent                    0      0.225   
    perl                      5.014  5.017002
    Pod::Usage                0      1.51    
    strict                    0      1.07    
    Template                  2.20   2.24    
    Text::Balanced            0      2.02    
    vars                      0      1.03    
    warnings                  0      1.13    
    WWW::Mechanize            1.72   1.72    
    WWW::Mechanize::Timed     0.44   0.44    
build_requires:
    Module                    Need   Have    
    ------------------------- ------ --------
    Config                    0      0       
    File::Spec                0      3.39_02 
    HTTP::Daemon              0      6.01    
    HTTP::Status              0      6.03    
    IO::CaptureOutput         0      1.1102  
    IO::Select                0      1.21    
    IO::Socket                0      1.35    
    Module::Build             0.3800 0.4002  
    POSIX                     0      1.31    
    Sys::Hostname             0      1.16    
    Test::More                0      0.98    
    URI                       0      1.60    
configure_requires:
    Module                    Need   Have    
    ------------------------- ------ --------
    Module::Build             0.3800 0.4002  
------------------------------
ENVIRONMENT AND OTHER CONTEXT
------------------------------
Environment variables:
    AUTOMATED_TESTING = 1
    LANG = en_US.UTF-8
    LANGUAGE = en_US:en
    PATH = /home/sand/bin:/usr/local/bin:/usr/bin:/bin:/usr/bin/X11:/usr/games:/usr/local/perl/bin:/usr/X11/bin:/sbin:/usr/sbin
    PERL5LIB = 
    PERL5OPT = 
    PERL5_CPANPLUS_IS_RUNNING = 15514
    PERL5_CPAN_IS_RUNNING = 15514
    PERL_MM_USE_DEFAULT = 1
    SHELL = /usr/bin/zsh
    TERM = screen
Perl special variables (and OS-specific diagnostics, for MSWin32):
    $^X = /mnt/k75/homesand/src/perl/repoperls/installed-perls/perl/v5.17.2/165a/bin/perl
    $UID/$EUID = 1005 / 1005
    $GID = 1005 1005
    $EGID = 1005 1005
Perl module toolchain versions installed:
    Module              Have    
    ------------------- --------
    CPAN                1.9800  
    CPAN::Meta          2.120921
    Cwd                 3.39_02 
    ExtUtils::CBuilder  0.280208
    ExtUtils::Command   1.17    
    ExtUtils::Install   1.58    
    ExtUtils::MakeMaker 6.63_02 
    ExtUtils::Manifest  1.61    
    ExtUtils::ParseXS   3.17    
    File::Spec          3.39_02 
    JSON                2.53    
    JSON::PP            2.27200 
    Module::Build       0.4002  
    Module::Signature   0.68    
    Parse::CPAN::Meta   1.4404  
    Test::Harness       3.25_01 
    Test::More          0.98    
    YAML                0.84    
    YAML::Syck          1.20    
    version             0.99    
--
Summary of my perl5 (revision 5 version 17 subversion 2) configuration:
  Commit id: 9895e5d00535dc7fa7cb5fb3836176784043a0c4
  Platform:
    osname=linux, osvers=3.2.0-3-amd64, archname=x86_64-linux
    uname='linux k83 3.2.0-3-amd64 #1 smp thu jun 28 09:07:26 utc 2012 x86_64 gnulinux '
    config_args='-Dprefix=/home/src/perl/repoperls/installed-perls/perl/v5.17.2/165a -Dmyhostname=k83 -Dinstallusrbinperl=n -Uversiononly -Dusedevel -des -Ui_db -Uuseithreads -Uuselongdouble -DDEBUGGING=-g'
    hint=recommended, useposix=true, d_sigaction=define
    useithreads=undef, usemultiplicity=undef
    useperlio=define, d_sfio=undef, uselargefiles=define, usesocks=undef
    use64bitint=define, use64bitall=define, uselongdouble=undef
    usemymalloc=n, bincompat5005=undef
  Compiler:
    cc='cc', ccflags ='-fno-strict-aliasing -pipe -fstack-protector -I/usr/local/include -D_LARGEFILE_SOURCE -D_FILE_OFFSET_BITS=64',
    optimize='-O2 -g',
    cppflags='-fno-strict-aliasing -pipe -fstack-protector -I/usr/local/include'
    ccversion='', gccversion='4.7.1', gccosandvers=''
    intsize=4, longsize=8, ptrsize=8, doublesize=8, byteorder=12345678
    d_longlong=define, longlongsize=8, d_longdbl=define, longdblsize=16
    ivtype='long', ivsize=8, nvtype='double', nvsize=8, Off_t='off_t', lseeksize=8
    alignbytes=8, prototype=define
  Linker and Libraries:
    ld='cc', ldflags =' -fstack-protector -L/usr/local/lib'
    libpth=/usr/local/lib /lib/x86_64-linux-gnu /lib/../lib /usr/lib/x86_64-linux-gnu /usr/lib/../lib /lib /usr/lib
    libs=-lnsl -ldb -ldl -lm -lcrypt -lutil -lc
    perllibs=-lnsl -ldl -lm -lcrypt -lutil -lc
    libc=, so=so, useshrplib=false, libperl=libperl.a
    gnulibc_version='2.13'
  Dynamic Linking:
    dlsrc=dl_dlopen.xs, dlext=so, d_dlsymun=undef, ccdlflags='-Wl,-E'
    cccdlflags='-fPIC', lddlflags='-shared -O2 -g -L/usr/local/lib -fstack-protector'
Characteristics of this binary (from libperl): 
  Compile-time options: HAS_TIMES PERLIO_LAYERS PERL_DONT_CREATE_GVSV
                        PERL_MALLOC_WRAP PERL_PRESERVE_IVUV PERL_USE_DEVEL
                        USE_64_BIT_ALL USE_64_BIT_INT USE_LARGE_FILES
                        USE_LOCALE USE_LOCALE_COLLATE USE_LOCALE_CTYPE
                        USE_LOCALE_NUMERIC USE_PERLIO USE_PERL_ATOF
  Built under linux
  Compiled at Jul 29 2012 09:01:21
  %ENV:
    PERL5LIB=""
    PERL5OPT=""
    PERL5_CPANPLUS_IS_RUNNING="15514"
    PERL5_CPAN_IS_RUNNING="15514"
    PERL_MM_USE_DEFAULT="1"
  @INC:
    /home/src/perl/repoperls/installed-perls/perl/v5.17.2/165a/lib/site_perl/5.17.2/x86_64-linux
    /home/src/perl/repoperls/installed-perls/perl/v5.17.2/165a/lib/site_perl/5.17.2
    /home/src/perl/repoperls/installed-perls/perl/v5.17.2/165a/lib/5.17.2/x86_64-linux
    /home/src/perl/repoperls/installed-perls/perl/v5.17.2/165a/lib/5.17.2
    .