DBIx-Sunny v0.9991 Perl 5 v5.16.2 i386-freebsd-thread-multi-64int
- Status
- Pass
- From
- Chris Williams (BINGOS)
- Dist
-
DBIx-Sunny v0.9991
- Platform
- Perl 5 v5.16.2 i386-freebsd-thread-multi-64int
- Date
- 2020-01-19 22:36:46
- ID
- 2c8e41c6-3b0c-11ea-9066-e374b0ba08e8
This distribution has been tested as part of the CPAN Testers
project, supporting the Perl programming language. See
http://wiki.cpantesters.org/ for more information or email
questions to cpan-testers-discuss@perl.org
--
Dear Masayuki Matsuki,
This is a computer-generated error report created automatically by
CPANPLUS, version 0.9178. Testers personal comments may appear
at the end of this report.
Thank you for uploading your work to CPAN. Congratulations!
All tests were successful.
TEST RESULTS:
Below is the error stack from stage 'make test':
t/00_compile.t ......... ok
t/01_basic.t ........... ok
t/02_rootclass.t ....... ok
Transaction was aborted without calling an explicit commit or rollback. (Guard created at t/03_txn.t line 23) at /usr/home/cpan/pit/jail/H7G0ECiAYN/lib/perl5/DBIx/TransactionManager.pm line 115.
t/03_txn.t ............. ok
t/04_mysql.t ........... skipped: Test requires module 'Test::mysqld' but it's not found
t/05_typed.t ........... ok
t/06_dbic.t ............ skipped: Test requires module 'DBIx::Tracer' but it's not found
t/07_caller.t .......... skipped: Test requires module 'DBIx::Tracer' but it's not found
t/08_named.t ........... ok
t/09_pg.t .............. skipped: Test requires module 'Test::PostgreSQL' but it's not found
t/schema_00_compile.t .. ok
t/schema_01_basic.t .... ok
Transaction was aborted without calling an explicit commit or rollback. (Guard created at t/schema_03_txn.t line 16) at /usr/home/cpan/pit/jail/H7G0ECiAYN/lib/perl5/DBIx/TransactionManager.pm line 115.
t/schema_03_txn.t ...... ok
t/schema_04_named.t .... ok
t/scheme_02_args.t ..... ok
All tests successful.
Files=15, Tests=96, 4 wallclock secs ( 0.14 usr 0.05 sys + 2.95 cusr 1.13 csys = 4.27 CPU)
Result: PASS
PREREQUISITES:
Here is a list of prerequisites you specified and versions we
managed to load:
Module Name Have Want
Capture::Tiny 0.48 0
Class::Accessor::Lite 0.08 0.05
Class::Data::Inheritable 0.08 0
DBI 1.642 1.615
DBIx::TransactionManager 1.13 0.13
Data::Validator 1.07 0
SQL::Maker::SQLType 0 0
SQL::NamedPlaceholder 0.10 0.10
Scalar::Util 1.53 0
Test::More 1.302168 0.98
Test::Requires 0.10 0
parent 0.225 0
Perl module toolchain versions installed:
Module Name Have
CPANPLUS 0.9178
CPANPLUS::Dist::Build 0.90
Cwd 3.75
ExtUtils::CBuilder 0.280231
ExtUtils::Command 7.38
ExtUtils::Install 2.14
ExtUtils::MakeMaker 7.38
ExtUtils::Manifest 1.72
ExtUtils::ParseXS 3.35
File::Spec 3.75
Module::Build 0.4229
Pod::Parser 1.51
Pod::Simple 3.20
Test2 1.302168
Test::Harness 3.42
Test::More 1.302168
version 0.9924
******************************** NOTE ********************************
The comments above are created mechanically, possibly without manual
checking by the sender. As there are many people performing automatic
tests on each upload to CPAN, it is likely that you will receive
identical messages about the same problem.
If you believe that the message is mistaken, please reply to the first
one with correction and/or additional informations, and do not take
it personally. We appreciate your patience. :)
**********************************************************************
Additional comments:
This report was machine-generated by CPANPLUS::Dist::YACSmoke 1.08.
Powered by minismokebox version 0.68
CPANPLUS is prefering Build.PL
------------------------------
ENVIRONMENT AND OTHER CONTEXT
------------------------------
Environment variables:
AUTOMATED_TESTING = 1
NONINTERACTIVE_TESTING = 1
PATH = /sbin:/bin:/usr/sbin:/usr/bin:/usr/local/sbin:/usr/local/bin:/home/cpan/bin
PERL5LIB = /usr/home/cpan/pit/jail/H7G0ECiAYN/lib/perl5:/usr/home/cpan/pit/rel/conf/perl-5.16.2/.cpanplus/5.16.2/build/__nG7Kx2ph/SQL-NamedPlaceholder-0.10/blib/lib:/usr/home/cpan/pit/rel/conf/perl-5.16.2/.cpanplus/5.16.2/build/__nG7Kx2ph/SQL-NamedPlaceholder-0.10/blib/arch:/usr/home/cpan/pit/rel/conf/perl-5.16.2/.cpanplus/5.16.2/build/oQYd3O_zVQ/DBIx-Sunny-0.9991/blib/lib:/usr/home/cpan/pit/rel/conf/perl-5.16.2/.cpanplus/5.16.2/build/oQYd3O_zVQ/DBIx-Sunny-0.9991/blib/arch
PERL5_CPANPLUS_IS_RUNNING = 45084
PERL5_CPANPLUS_IS_VERSION = 0.9178
PERL5_MINISMOKEBOX = 0.68
PERL5_YACSMOKE_BASE = /usr/home/cpan/pit/rel/conf/perl-5.16.2
PERL_EXTUTILS_AUTOINSTALL = --defaultdeps
PERL_LOCAL_LIB_ROOT = /usr/home/cpan/pit/jail/H7G0ECiAYN
PERL_MB_OPT = --install_base "/usr/home/cpan/pit/jail/H7G0ECiAYN"
PERL_MM_OPT = INSTALL_BASE=/usr/home/cpan/pit/jail/H7G0ECiAYN
PERL_MM_USE_DEFAULT = 1
SHELL = /usr/local/bin/bash
TERM = screen
Perl special variables (and OS-specific diagnostics, for MSWin32):
Perl: $^X = /usr/home/cpan/pit/rel/perl-5.16.2/bin/perl
UID: $< = 1002
EUID: $> = 1002
GID: $( = 1002 1002
EGID: $) = 1002 1002
-------------------------------
--
Summary of my perl5 (revision 5 version 16 subversion 2) configuration:
Platform:
osname=freebsd, osvers=12.1-release, archname=i386-freebsd-thread-multi-64int
uname='freebsd ffyrc 12.1-release freebsd 12.1-release r354233 generic i386 '
config_args='-des -Dprefix=/usr/home/cpan/pit/rel/perl-5.16.2 -Dusethreads -Duse64bitint'
hint=recommended, useposix=true, d_sigaction=define
useithreads=define, usemultiplicity=define
useperlio=define, d_sfio=undef, uselargefiles=define, usesocks=undef
use64bitint=define, use64bitall=undef, uselongdouble=undef
usemymalloc=n, bincompat5005=undef
Compiler:
cc='cc', ccflags ='-DHAS_FPSETMASK -DHAS_FLOATINGPOINT_H -fno-strict-aliasing -pipe -fstack-protector -I/usr/local/include',
optimize='-O2',
cppflags='-DHAS_FPSETMASK -DHAS_FLOATINGPOINT_H -fno-strict-aliasing -pipe -fstack-protector -I/usr/local/include'
ccversion='', gccversion='4.2.1 Compatible FreeBSD Clang 8.0.1 (tags/RELEASE_801/final 366581)', gccosandvers=''
intsize=4, longsize=4, ptrsize=4, doublesize=8, byteorder=12345678
d_longlong=define, longlongsize=8, d_longdbl=define, longdblsize=12
ivtype='long long', ivsize=8, nvtype='double', nvsize=8, Off_t='off_t', lseeksize=8
alignbytes=4, prototype=define
Linker and Libraries:
ld='cc', ldflags ='-pthread -Wl,-E -fstack-protector -L/usr/local/lib'
libpth=/usr/lib /usr/local/lib
libs=-lgdbm -ldl -lm -lcrypt -lutil
perllibs=-ldl -lm -lcrypt -lutil
libc=, so=so, useshrplib=false, libperl=libperl.a
gnulibc_version=''
Dynamic Linking:
dlsrc=dl_dlopen.xs, dlext=so, d_dlsymun=undef, ccdlflags=' '
cccdlflags='-DPIC -fPIC', lddlflags='-shared -L/usr/local/lib -fstack-protector'
Characteristics of this binary (from libperl):
Compile-time options: HAS_TIMES MULTIPLICITY PERLIO_LAYERS
PERL_DONT_CREATE_GVSV PERL_IMPLICIT_CONTEXT
PERL_MALLOC_WRAP PERL_PRESERVE_IVUV USE_64_BIT_INT
USE_ITHREADS USE_LARGE_FILES USE_LOCALE
USE_LOCALE_COLLATE USE_LOCALE_CTYPE
USE_LOCALE_NUMERIC USE_PERLIO USE_PERL_ATOF
USE_REENTRANT_API
Locally applied patches:
Devel::PatchPerl 1.76
Built under freebsd
Compiled at Nov 12 2019 17:31:04
%ENV:
PERL5LIB="/usr/home/cpan/pit/jail/H7G0ECiAYN/lib/perl5:/usr/home/cpan/pit/rel/conf/perl-5.16.2/.cpanplus/5.16.2/build/__nG7Kx2ph/SQL-NamedPlaceholder-0.10/blib/lib:/usr/home/cpan/pit/rel/conf/perl-5.16.2/.cpanplus/5.16.2/build/__nG7Kx2ph/SQL-NamedPlaceholder-0.10/blib/arch:/usr/home/cpan/pit/rel/conf/perl-5.16.2/.cpanplus/5.16.2/build/oQYd3O_zVQ/DBIx-Sunny-0.9991/blib/lib:/usr/home/cpan/pit/rel/conf/perl-5.16.2/.cpanplus/5.16.2/build/oQYd3O_zVQ/DBIx-Sunny-0.9991/blib/arch"
PERL5_CPANPLUS_IS_RUNNING="45084"
PERL5_CPANPLUS_IS_VERSION="0.9178"
PERL5_MINISMOKEBOX="0.68"
PERL5_YACSMOKE_BASE="/usr/home/cpan/pit/rel/conf/perl-5.16.2"
PERL_EXTUTILS_AUTOINSTALL="--defaultdeps"
PERL_LOCAL_LIB_ROOT="/usr/home/cpan/pit/jail/H7G0ECiAYN"
PERL_MB_OPT="--install_base "/usr/home/cpan/pit/jail/H7G0ECiAYN""
PERL_MM_OPT="INSTALL_BASE=/usr/home/cpan/pit/jail/H7G0ECiAYN"
PERL_MM_USE_DEFAULT="1"
@INC:
/usr/home/cpan/pit/jail/H7G0ECiAYN/lib/perl5/5.16.2/i386-freebsd-thread-multi-64int
/usr/home/cpan/pit/jail/H7G0ECiAYN/lib/perl5/5.16.2
/usr/home/cpan/pit/jail/H7G0ECiAYN/lib/perl5/i386-freebsd-thread-multi-64int
/usr/home/cpan/pit/jail/H7G0ECiAYN/lib/perl5
/usr/home/cpan/pit/rel/conf/perl-5.16.2/.cpanplus/5.16.2/build/__nG7Kx2ph/SQL-NamedPlaceholder-0.10/blib/lib
/usr/home/cpan/pit/rel/conf/perl-5.16.2/.cpanplus/5.16.2/build/__nG7Kx2ph/SQL-NamedPlaceholder-0.10/blib/arch
/usr/home/cpan/pit/rel/conf/perl-5.16.2/.cpanplus/5.16.2/build/oQYd3O_zVQ/DBIx-Sunny-0.9991/blib/lib
/usr/home/cpan/pit/rel/conf/perl-5.16.2/.cpanplus/5.16.2/build/oQYd3O_zVQ/DBIx-Sunny-0.9991/blib/arch
/usr/home/cpan/pit/rel/perl-5.16.2/lib/site_perl/5.16.2/i386-freebsd-thread-multi-64int
/usr/home/cpan/pit/rel/perl-5.16.2/lib/site_perl/5.16.2
/usr/home/cpan/pit/rel/perl-5.16.2/lib/5.16.2/i386-freebsd-thread-multi-64int
/usr/home/cpan/pit/rel/perl-5.16.2/lib/5.16.2
.