Report for CGI-Session-4.43

Back
From: metabase:user:30dda8bc-2aae-11df-837a-5e0a49663a4f
Subject: PASS CGI-Session-4.43 v5.10.0 GNU/Linux
Date: 2011-03-11T20:43:09Z

This distribution has been tested as part of the CPAN Testers
project, supporting the Perl programming language.  See
http://wiki.cpantesters.org/ for more information or email
questions to cpan-testers-discuss@perl.org


--
Dear Mark Stosberg,

This is a computer-generated report for CGI-Session-4.43
on perl 5.10.0, created by CPAN-Reporter-1.1803.

Thank you for uploading your work to CPAN.  Congratulations!
All tests were successful.

Sections of this report:

    * Tester comments
    * Program output
    * Prerequisites
    * Environment and other context

------------------------------
TESTER COMMENTS
------------------------------

Additional comments from tester:

this report is from an automated smoke testing program
and was not reviewed by a human for accuracy

------------------------------
PROGRAM OUTPUT
------------------------------

Output from './Build test':

t/api3_db_file.t ................ ok
t/api3_db_file_freezethaw.t ..... ok
t/api3_db_file_storable.t ....... ok
t/api3_db_file_storable_incr.t .. ok
t/api3_file.t ................... ok
t/api3_file_freezethaw.t ........ ok
t/api3_file_freezethaw_incr.t ... ok
t/api3_file_storable.t .......... ok
t/api3_file_storable_incr.t ..... ok
t/api3_incr.t ................... ok
#Using FreezeThaw as object serializer
t/api3_obj_store.t .............. ok
t/api3_obj_store_db_file.t ...... ok
t/bug21952.t .................... ok
t/bug24285.t .................... ok
t/cgi_simple.t .................. ok
t/complex_ds.t .................. ok
t/driver_dbi.t .................. ok
t/expire.t ...................... ok
# The found session has been deleted and flushed
t/find.t ........................ ok
t/flush.t ....................... ok
t/g4.t .......................... ok
t/g4_dbfile.t ................... ok
t/g4_dbfile_freezethaw.t ........ ok
t/g4_dbfile_storable.t .......... ok
t/g4_freezethaw.t ............... ok
t/g4_mysql.t .................... skipped: Couldn't establish connection with the MySQL server: Can't connect to data source '' because I can't work out what driver to use (it doesn't seem to contain a 'dbi:driver:' prefix and the DBI_DRIVER env var is not set) at t/g4_mysql.t line 44
t/g4_mysql_freezethaw.t ......... skipped: Couldn't establish connection with the MySQL server: Can't connect to data source '' because I can't work out what driver to use (it doesn't seem to contain a 'dbi:driver:' prefix and the DBI_DRIVER env var is not set) at t/g4_mysql_freezethaw.t line 43
t/g4_mysql_storable.t ........... skipped: Couldn't establish connection with the MySQL server: Can't connect to data source '' because I can't work out what driver to use (it doesn't seem to contain a 'dbi:driver:' prefix and the DBI_DRIVER env var is not set) at t/g4_mysql_storable.t line 43
t/g4_postgresql.t ............... skipped: DataSource is not known
t/g4_postgresql_freezethaw.t .... skipped: DataSource is not known
t/g4_postgresql_storable.t ...... skipped: DataSource is not known
t/g4_sqlite.t ................... ok
t/g4_sqlite_freezethaw.t ........ ok
t/g4_sqlite_storable.t .......... ok
t/g4_storable.t ................. ok
t/header.t ...................... ok
t/ip_matches.t .................. ok
t/is_new.t ...................... ok
Argument "wrong" isn't numeric in numeric ne (!=) at
	/tmp/cpan/Fedora-11-i686/build/CGI-Session-4.43-0kYhvI/blib/lib/CGI/Session.pm line 684 (#1)
    (W numeric) The indicated string was fed as an argument to an operator
    that expected a numeric value instead.  If you're fortunate the message
    will identify which operator was so unfortunate.
    
t/load.t ........................ ok
t/load_with_undef.t ............. ok
t/name.t ........................ ok
t/new_with_undef.t .............. ok
t/parse_dsn.t ................... ok
t/remote_addr.t ................. ok
# Check in STORE of original item
# Check in STORE of stored/retrieved item
# Check in LOAD after loading from session
t/session_param_undef.t ......... ok
t/str2seconds.t ................. ok
t/symlink_db_file.t ............. ok
t/symlink_file.t ................ ok
All tests successful.
Files=48, Tests=1233, 35 wallclock secs ( 0.32 usr  0.08 sys +  6.83 cusr  0.81 csys =  8.04 CPU)
Result: PASS

------------------------------
PREREQUISITES
------------------------------

Prerequisite modules loaded:

requires:

    Module              Need Have   
    ------------------- ---- -------
    CGI                 3.26 3.43   
    Data::Dumper        0    2.128  
    Digest::MD5         0    2.36_01
    Scalar::Util        0    1.23   

build_requires:

    Module              Need Have   
    ------------------- ---- -------
    Test::More          0    0.98   

configure_requires:

    Module              Need Have   
    ------------------- ---- -------
    ExtUtils::MakeMaker 0    6.56   


------------------------------
ENVIRONMENT AND OTHER CONTEXT
------------------------------

Environment variables:

    AUTOMATED_TESTING = 1
    LANG = en_US.utf8
    LD_LIBRARY_PATH = :/net/netfile2/ag-russell/install/Fedora-11-i686/lib:/net/netfile2/ag-russell/install/Fedora-11-i686/lib64:/usr/lib/mysql
    PATH = /usr/java/jdk1.6.0_16/bin:/net/netfile2/ag-russell/perl/Fedora-11-i686/bin:/home/bq_cdavis/scripts:/home/bq_cdavis/usr/bin:/bin:/sbin:/usr/bin:/usr/sbin:/usr/local/bin:/net/netfile2/ag-russell/admin:/net/netfile2/ag-russell/admin/data:/net/netfile2/ag-russell/install/Fedora-11-i686/bin:/net/netfile2/ag-russell/code/misc/bin:/net/netfile2/ag-russell/lbin
    PERL5LIB = /tmp/cpan/Fedora-11-i686/build/AppConfig-1.66-vVp6q_/blib/arch:/tmp/cpan/Fedora-11-i686/build/AppConfig-1.66-vVp6q_/blib/lib:/tmp/cpan/Fedora-11-i686/build/File-Util-3.27-AVWR9X/blib/arch:/tmp/cpan/Fedora-11-i686/build/File-Util-3.27-AVWR9X/blib/lib:/tmp/cpan/Fedora-11-i686/build/Exception-Handler-1.004-gML92m/blib/arch:/tmp/cpan/Fedora-11-i686/build/Exception-Handler-1.004-gML92m/blib/lib:/tmp/cpan/Fedora-11-i686/build/Class-OOorNO-0.011-QLn_KW/blib/arch:/tmp/cpan/Fedora-11-i686/build/Class-OOorNO-0.011-QLn_KW/blib/lib:/tmp/cpan/Fedora-11-i686/build/Template-Toolkit-2.22-ZCYCgz/blib/arch:/tmp/cpan/Fedora-11-i686/build/Template-Toolkit-2.22-ZCYCgz/blib/lib:/net/netfile2/ag-russell/perl/Fedora-11-i686/lib/perl5/i386-linux-thread-multi:/net/netfile2/ag-russell/perl/Fedora-11-i686/lib/perl5::/net/netfile2/ag-russell/install/Fedora-11-i686/lib/perl5:/net/netfile2/ag-russell/code/misc/lib
    PERL5OPT = 
    PERL5_CPANPLUS_IS_RUNNING = 14379
    PERL5_CPAN_IS_RUNNING = 14379
    PERL5_CPAN_IS_RUNNING_IN_RECURSION = 8596,14379
    PERLBREW_ROOT = /net/netfile2/ag-russell/install/Fedora-11-i686/perlbrew
    PERL_CR_SMOKER_CURRENT = App-Rad-Plugin-Daemonize-0.1.7
    PERL_EXTUTILS_AUTOINSTALL = --defaultdeps
    PERL_MM_OPT = INSTALL_BASE=/net/netfile2/ag-russell/perl/Fedora-11-i686
    PERL_MM_USE_DEFAULT = 1
    SHELL = /bin/bash
    TERM = screen

Perl special variables (and OS-specific diagnostics, for MSWin32):

    $^X = /usr/bin/perl
    $UID/$EUID = 2699 / 2699
    $GID = 2048 2048 10000 10003 10004 10099
    $EGID = 2048 2048 10000 10003 10004 10099

Perl module toolchain versions installed:

    Module              Have    
    ------------------- --------
    CPAN                1.9402  
    Cwd                 3.33    
    ExtUtils::CBuilder  0.280202
    ExtUtils::Command   1.16    
    ExtUtils::Install   1.54    
    ExtUtils::MakeMaker 6.56    
    ExtUtils::Manifest  1.56    
    ExtUtils::ParseXS   2.2206  
    File::Spec          3.33    
    Module::Build       0.3800  
    Module::Signature   0.66    
    Test::Harness       3.23    
    Test::More          0.98    
    YAML                0.72    
    YAML::Syck          n/a     
    version             0.88    


--

Summary of my perl5 (revision 5 version 10 subversion 0) configuration:
  Platform:
    osname=linux, osvers=2.6.18-164.el5, archname=i386-linux-thread-multi
    uname='linux x86-2.fedora.phx.redhat.com 2.6.18-164.el5 #1 smp tue aug 18 15:51:48 edt 2009 i686 i686 i386 gnulinux '
    config_args='-des -Doptimize=-O2 -g -pipe -Wall -Wp,-D_FORTIFY_SOURCE=2 -fexceptions -fstack-protector --param=ssp-buffer-size=4 -m32 -march=i586 -mtune=generic -fasynchronous-unwind-tables -Accflags=-DPERL_USE_SAFE_PUTENV -Dversion=5.10.0 -Dmyhostname=localhost -Dperladmin=root@localhost -Dcc=gcc -Dcf_by=Red Hat, Inc. -Dprefix=/usr -Dvendorprefix=/usr -Dsiteprefix=/usr/local -Dprivlib=/usr/lib/perl5/5.10.0 -Dsitelib=/usr/local/lib/perl5/site_perl/5.10.0 -Dvendorlib=/usr/lib/perl5/vendor_perl/5.10.0 -Darchlib=/usr/lib/perl5/5.10.0/i386-linux-thread-multi -Dsitearch=/usr/local/lib/perl5/site_perl/5.10.0/i386-linux-thread-multi -Dvendorarch=/usr/lib/perl5/vendor_perl/5.10.0/i386-linux-thread-multi -Dinc_version_list=none -Darchname=i386-linux-thread-multi -Duseshrplib -Dusethreads -Duseithreads -Duselargefiles -Dd_dosuid -Dd_semctl_semun -Di_db -Ui_ndbm -Di_gdbm -Di_shadow -Di_syslog -Dman3ext=3pm -Duseperlio -Dinstallusrbinperl=n -Ubincompat5005 -Uversiononly -Dpager=/usr/bin/less -isr -Dd_gethostent_r_proto -Ud_endhostent_r_proto -Ud_sethostent_r_proto -Ud_endprotoent_r_proto -Ud_setprotoent_r_proto -Ud_endservent_r_proto -Ud_setservent_r_proto -Dscriptdir=/usr/bin -Dotherlibdirs=/usr/lib/perl5/site_perl'
    hint=recommended, useposix=true, d_sigaction=define
    useithreads=define, usemultiplicity=define
    useperlio=define, d_sfio=undef, uselargefiles=define, usesocks=undef
    use64bitint=undef, use64bitall=undef, uselongdouble=undef
    usemymalloc=n, bincompat5005=undef
  Compiler:
    cc='gcc', ccflags ='-D_REENTRANT -D_GNU_SOURCE -DPERL_USE_SAFE_PUTENV -DDEBUGGING -fno-strict-aliasing -pipe -I/usr/local/include -D_LARGEFILE_SOURCE -D_FILE_OFFSET_BITS=64 -I/usr/include/gdbm',
    optimize='-O2 -g -pipe -Wall -Wp,-D_FORTIFY_SOURCE=2 -fexceptions -fstack-protector --param=ssp-buffer-size=4 -m32 -march=i586 -mtune=generic -fasynchronous-unwind-tables',
    cppflags='-D_REENTRANT -D_GNU_SOURCE -DPERL_USE_SAFE_PUTENV -DDEBUGGING -fno-strict-aliasing -pipe -I/usr/local/include -I/usr/include/gdbm'
    ccversion='', gccversion='4.4.1 20090725 (Red Hat 4.4.1-2)', gccosandvers=''
    intsize=4, longsize=4, ptrsize=4, doublesize=8, byteorder=1234
    d_longlong=define, longlongsize=8, d_longdbl=define, longdblsize=12
    ivtype='long', ivsize=4, nvtype='double', nvsize=8, Off_t='off_t', lseeksize=8
    alignbytes=4, prototype=define
  Linker and Libraries:
    ld='gcc', ldflags =' -L/usr/local/lib'
    libpth=/usr/local/lib /lib /usr/lib
    libs=-lresolv -lnsl -lgdbm -ldb -ldl -lm -lcrypt -lutil -lpthread -lc
    perllibs=-lresolv -lnsl -ldl -lm -lcrypt -lutil -lpthread -lc
    libc=/lib/libc-2.10.1.so, so=so, useshrplib=true, libperl=libperl.so
    gnulibc_version='2.10.1'
  Dynamic Linking:
    dlsrc=dl_dlopen.xs, dlext=so, d_dlsymun=undef, ccdlflags='-Wl,-E -Wl,-rpath,/usr/lib/perl5/5.10.0/i386-linux-thread-multi/CORE'
    cccdlflags='-fPIC', lddlflags='-shared -O2 -g -pipe -Wall -Wp,-D_FORTIFY_SOURCE=2 -fexceptions -fstack-protector --param=ssp-buffer-size=4 -m32 -march=i586 -mtune=generic -fasynchronous-unwind-tables -L/usr/local/lib'


Characteristics of this binary (from libperl): 
  Compile-time options: DEBUGGING MULTIPLICITY PERL_DONT_CREATE_GVSV
                        PERL_IMPLICIT_CONTEXT PERL_MALLOC_WRAP
                        PERL_TRACK_MEMPOOL PERL_USE_SAFE_PUTENV USE_ITHREADS
                        USE_LARGE_FILES USE_PERLIO USE_REENTRANT_API
  Built under linux
  Compiled at Sep 18 2009 15:01:24
  %ENV:
    PERL5LIB="/tmp/cpan/Fedora-11-i686/build/AppConfig-1.66-vVp6q_/blib/arch:/tmp/cpan/Fedora-11-i686/build/AppConfig-1.66-vVp6q_/blib/lib:/tmp/cpan/Fedora-11-i686/build/File-Util-3.27-AVWR9X/blib/arch:/tmp/cpan/Fedora-11-i686/build/File-Util-3.27-AVWR9X/blib/lib:/tmp/cpan/Fedora-11-i686/build/Exception-Handler-1.004-gML92m/blib/arch:/tmp/cpan/Fedora-11-i686/build/Exception-Handler-1.004-gML92m/blib/lib:/tmp/cpan/Fedora-11-i686/build/Class-OOorNO-0.011-QLn_KW/blib/arch:/tmp/cpan/Fedora-11-i686/build/Class-OOorNO-0.011-QLn_KW/blib/lib:/tmp/cpan/Fedora-11-i686/build/Template-Toolkit-2.22-ZCYCgz/blib/arch:/tmp/cpan/Fedora-11-i686/build/Template-Toolkit-2.22-ZCYCgz/blib/lib:/net/netfile2/ag-russell/perl/Fedora-11-i686/lib/perl5/i386-linux-thread-multi:/net/netfile2/ag-russell/perl/Fedora-11-i686/lib/perl5::/net/netfile2/ag-russell/install/Fedora-11-i686/lib/perl5:/net/netfile2/ag-russell/code/misc/lib"
    PERL5OPT=""
    PERL5_CPANPLUS_IS_RUNNING="14379"
    PERL5_CPAN_IS_RUNNING="14379"
    PERL5_CPAN_IS_RUNNING_IN_RECURSION="8596,14379"
    PERLBREW_ROOT="/net/netfile2/ag-russell/install/Fedora-11-i686/perlbrew"
    PERL_CR_SMOKER_CURRENT="App-Rad-Plugin-Daemonize-0.1.7"
    PERL_EXTUTILS_AUTOINSTALL="--defaultdeps"
    PERL_MM_OPT="INSTALL_BASE=/net/netfile2/ag-russell/perl/Fedora-11-i686"
    PERL_MM_USE_DEFAULT="1"
  @INC:
    /tmp/cpan/Fedora-11-i686/build/AppConfig-1.66-vVp6q_/blib/arch
    /tmp/cpan/Fedora-11-i686/build/AppConfig-1.66-vVp6q_/blib/lib
    /tmp/cpan/Fedora-11-i686/build/File-Util-3.27-AVWR9X/blib/arch
    /tmp/cpan/Fedora-11-i686/build/File-Util-3.27-AVWR9X/blib/lib
    /tmp/cpan/Fedora-11-i686/build/Exception-Handler-1.004-gML92m/blib/arch
    /tmp/cpan/Fedora-11-i686/build/Exception-Handler-1.004-gML92m/blib/lib
    /tmp/cpan/Fedora-11-i686/build/Class-OOorNO-0.011-QLn_KW/blib/arch
    /tmp/cpan/Fedora-11-i686/build/Class-OOorNO-0.011-QLn_KW/blib/lib
    /tmp/cpan/Fedora-11-i686/build/Template-Toolkit-2.22-ZCYCgz/blib/arch
    /tmp/cpan/Fedora-11-i686/build/Template-Toolkit-2.22-ZCYCgz/blib/lib
    /net/netfile2/ag-russell/perl/Fedora-11-i686/lib/perl5/i386-linux-thread-multi
    /net/netfile2/ag-russell/perl/Fedora-11-i686/lib/perl5/i386-linux-thread-multi
    /net/netfile2/ag-russell/perl/Fedora-11-i686/lib/perl5
    /net/netfile2/ag-russell/install/Fedora-11-i686/lib/perl5/i386-linux-thread-multi
    /net/netfile2/ag-russell/install/Fedora-11-i686/lib/perl5
    /net/netfile2/ag-russell/code/misc/lib
    /usr/local/lib/perl5/site_perl/5.10.0/i386-linux-thread-multi
    /usr/local/lib/perl5/site_perl/5.10.0
    /usr/lib/perl5/vendor_perl/5.10.0/i386-linux-thread-multi
    /usr/lib/perl5/vendor_perl/5.10.0
    /usr/lib/perl5/vendor_perl
    /usr/lib/perl5/5.10.0/i386-linux-thread-multi
    /usr/lib/perl5/5.10.0
    /usr/lib/perl5/site_perl
    .