CPANPLUS-Dist-Slackware v1.032 Perl 5 v5.18.2 MSWin32-x86-multi-thread

Status
Pass
From
Alexandr Ciornii (CHORNY)
Dist
CPANPLUS-Dist-Slackware v1.032
Platform
Perl 5 v5.18.2 MSWin32-x86-multi-thread
Date
2021-02-13 14:41:33
ID
2cbef83e-6bf6-1014-bec4-c8131623b26f
This distribution has been tested as part of the CPAN Testers
project, supporting the Perl programming language.  See
http://wiki.cpantesters.org/ for more information or email
questions to cpan-testers-discuss@perl.org


--
Dear Sergey Poznyakoff,

This is a computer-generated report for CPANPLUS-Dist-Slackware-1.032
on perl 5.18.2, created by CPAN-Reporter-1.2018.

Thank you for uploading your work to CPAN.  Congratulations!
All tests were successful.

Sections of this report:

    * Tester comments
    * Program output
    * Prerequisites
    * Environment and other context

------------------------------
TESTER COMMENTS
------------------------------

Additional comments from tester:

this report is from an automated smoke testing program
and was not reviewed by a human for accuracy

------------------------------
PROGRAM OUTPUT
------------------------------

Output from 'C:\strawberry182\c\bin\dmake.exe test':

C:\strawberry182\perl\bin\perl.exe "-MExtUtils::Command::MM" "-MTest::Harness" "-e" "undef *Test::Harness::Switches; test_harness(0, 'blib\lib', 'blib\arch')" t/*.t
# Testing CPANPLUS::Dist::Slackware 1.030, Perl 5.018002, C:\strawberry182\perl\bin\perl.exe
t/00-load.t .............. ok
t/author-pod-coverage.t .. skipped: these tests are for testing by the author
t/author-pod-syntax.t .... skipped: these tests are for testing by the author
t/util.t ................. ok
All tests successful.
Files=4, Tests=8,  2 wallclock secs ( 0.06 usr +  0.04 sys =  0.10 CPU)
Result: PASS

------------------------------
PREREQUISITES
------------------------------

Prerequisite modules loaded:

requires:

    Module                   Need     Have     
    ------------------------ -------- ---------
    base                     0        2.18     
    Config                   0        5.018002 
    CPANPLUS                 0.9166   0.9910   
    Cwd                      0        3.40     
    ExtUtils::Install        0        1.59     
    File::Find               0        1.23     
    File::Spec               0        3.40     
    File::Temp               0        0.2304   
    IO::Compress::Gzip       0        2.063    
    IPC::Cmd                 0        0.90     
    Locale::Maketext::Simple 0        0.21     
    Module::CoreList         2.32     3.03     
    Module::Pluggable        0        5.1      
    Params::Check            0        0.38     
    perl                     5.006001 5.018002 
    POSIX                    0        1.32     
    Text::Wrap               0        2013.0523
    version                  0.77     0.9904   

build_requires:

    Module                   Need     Have     
    ------------------------ -------- ---------
    ExtUtils::MakeMaker      0        6.84     
    Test::More               0.96     1.001002 

configure_requires:

    Module                   Need     Have     
    ------------------------ -------- ---------
    ExtUtils::MakeMaker      0        6.84     


------------------------------
ENVIRONMENT AND OTHER CONTEXT
------------------------------

Environment variables:

    AUTOMATED_TESTING = 1
    COMSPEC = C:\WINDOWS\system32\cmd.exe
    NUMBER_OF_PROCESSORS = 1
    PATH = C:\WINDOWS\system32;C:\WINDOWS;C:\WINDOWS\System32\Wbem;C:\strawberry182\c\bin;C:\strawberry182\perl\site\bin;C:\strawberry182\perl\bin
    PERL5LIB = C:\strawberry182\cpan\build\CPANPLUS-0.9910-0/blib/arch;C:\strawberry182\cpan\build\CPANPLUS-0.9910-0/blib/lib;C:\strawberry182\cpan\build\Archive-Extract-0.86-0/blib/arch;C:\strawberry182\cpan\build\Archive-Extract-0.86-0/blib/lib;C:\strawberry182\cpan\build\Module-Load-Conditional-0.74-0/blib/arch;C:\strawberry182\cpan\build\Module-Load-Conditional-0.74-0/blib/lib;C:\strawberry182\cpan\build\Module-Load-0.36-0/blib/arch;C:\strawberry182\cpan\build\Module-Load-0.36-0/blib/lib
    PERL5OPT = 
    PERL5_CPANPLUS_IS_RUNNING = 1244
    PERL5_CPAN_IS_RUNNING = 1244
    PERL5_CPAN_IS_RUNNING_IN_RECURSION = 1372,1244
    PERL_CR_SMOKER_CURRENT = CPANPLUS-Dist-Slackware-1.032
    PERL_CR_SMOKER_RUNONCE = 1
    PERL_EXTUTILS_AUTOINSTALL = --defaultdeps
    PERL_HASH_SEED = 0x11111111
    PERL_MM_USE_DEFAULT = 1
    PROCESSOR_IDENTIFIER = x86 Family 18 Model 1 Stepping 0, AuthenticAMD
    TEMP = C:\DOCUME~1\c\LOCALS~1\Temp
    TERM = dumb

Perl special variables (and OS-specific diagnostics, for MSWin32):

    $^X = C:\strawberry182\perl\bin\perl.exe
    $UID/$EUID = 0 / 0
    $GID = 0
    $EGID = 0
    Win32::GetOSName = WinXP/.Net
    Win32::GetOSVersion = Service Pack 3, 5, 1, 2600, 2, 3, 0, 256, 1
    Win32::FsType = NTFS
    Win32::IsAdminUser = 1

Perl module toolchain versions installed:

    Module              Have    
    ------------------- --------
    CPAN                2.16    
    CPAN::Meta          2.133380
    Cwd                 3.40    
    ExtUtils::CBuilder  0.280212
    ExtUtils::Command   1.18    
    ExtUtils::Install   1.59    
    ExtUtils::MakeMaker 6.84    
    ExtUtils::Manifest  1.63    
    ExtUtils::ParseXS   3.22    
    File::Spec          3.40    
    JSON                2.90    
    JSON::PP            2.27203 
    Module::Build       0.4203  
    Module::Signature   n/a     
    Parse::CPAN::Meta   1.4414  
    Test::Harness       3.30    
    Test::More          1.001002
    YAML                0.90    
    YAML::Syck          1.27    
    version             0.9904  


--

Summary of my perl5 (revision 5 version 18 subversion 2) configuration:
   
  Platform:
    osname=MSWin32, osvers=6.2, archname=MSWin32-x86-multi-thread
    uname='Win32 strawberry-perl-no64 5.18.2.1 #1 Tue Jan  7 19:43:33 2014 i386'
    config_args='undef'
    hint=recommended, useposix=true, d_sigaction=undef
    useithreads=define, usemultiplicity=define
    useperlio=define, d_sfio=undef, uselargefiles=define, usesocks=undef
    use64bitint=undef, use64bitall=undef, uselongdouble=undef
    usemymalloc=n, bincompat5005=undef
  Compiler:
    cc='gcc', ccflags =' -s -O2 -DWIN32  -DPERL_TEXTMODE_SCRIPTS -DPERL_IMPLICIT_CONTEXT -DPERL_IMPLICIT_SYS -DUSE_PERLIO -fno-strict-aliasing -mms-bitfields',
    optimize='-s -O2',
    cppflags='-DWIN32'
    ccversion='', gccversion='4.7.3', gccosandvers=''
    intsize=4, longsize=4, ptrsize=4, doublesize=8, byteorder=1234
    d_longlong=define, longlongsize=8, d_longdbl=define, longdblsize=12
    ivtype='long', ivsize=4, nvtype='double', nvsize=8, Off_t='long long', lseeksize=8
    alignbytes=8, prototype=define
  Linker and Libraries:
    ld='g++', ldflags ='-s -L"C:\strawberry182\perl\lib\CORE" -L"C:\strawberry182\c\lib"'
    libpth=C:\strawberry182\c\lib C:\strawberry182\c\i686-w64-mingw32\lib C:\strawberry182\c\lib\gcc\i686-w64-mingw32\4.7.3
    libs=-lmoldname -lkernel32 -luser32 -lgdi32 -lwinspool -lcomdlg32 -ladvapi32 -lshell32 -lole32 -loleaut32 -lnetapi32 -luuid -lws2_32 -lmpr -lwinmm -lversion -lodbc32 -lodbccp32 -lcomctl32
    perllibs=-lmoldname -lkernel32 -luser32 -lgdi32 -lwinspool -lcomdlg32 -ladvapi32 -lshell32 -lole32 -loleaut32 -lnetapi32 -luuid -lws2_32 -lmpr -lwinmm -lversion -lodbc32 -lodbccp32 -lcomctl32
    libc=, so=dll, useshrplib=true, libperl=libperl518.a
    gnulibc_version=''
  Dynamic Linking:
    dlsrc=dl_win32.xs, dlext=dll, d_dlsymun=undef, ccdlflags=' '
    cccdlflags=' ', lddlflags='-mdll -s -L"C:\strawberry182\perl\lib\CORE" -L"C:\strawberry182\c\lib"'


Characteristics of this binary (from libperl): 
  Compile-time options: HAS_TIMES HAVE_INTERP_INTERN MULTIPLICITY
                        PERLIO_LAYERS PERL_DONT_CREATE_GVSV
                        PERL_HASH_FUNC_ONE_AT_A_TIME_HARD
                        PERL_IMPLICIT_CONTEXT PERL_IMPLICIT_SYS
                        PERL_MALLOC_WRAP PERL_PRESERVE_IVUV PERL_SAWAMPERSAND
                        USE_ITHREADS USE_LARGE_FILES USE_LOCALE
                        USE_LOCALE_COLLATE USE_LOCALE_CTYPE
                        USE_LOCALE_NUMERIC USE_PERLIO USE_PERL_ATOF
  Built under MSWin32
  Compiled at Jan  7 2014 19:51:54
  %ENV:
    PERL5LIB="C:\strawberry182\cpan\build\CPANPLUS-0.9910-0/blib/arch;C:\strawberry182\cpan\build\CPANPLUS-0.9910-0/blib/lib;C:\strawberry182\cpan\build\Archive-Extract-0.86-0/blib/arch;C:\strawberry182\cpan\build\Archive-Extract-0.86-0/blib/lib;C:\strawberry182\cpan\build\Module-Load-Conditional-0.74-0/blib/arch;C:\strawberry182\cpan\build\Module-Load-Conditional-0.74-0/blib/lib;C:\strawberry182\cpan\build\Module-Load-0.36-0/blib/arch;C:\strawberry182\cpan\build\Module-Load-0.36-0/blib/lib"
    PERL5_CPANPLUS_IS_RUNNING="1244"
    PERL5_CPAN_IS_RUNNING="1244"
    PERL5_CPAN_IS_RUNNING_IN_RECURSION="1372,1244"
    PERL_CR_SMOKER_CURRENT="CPANPLUS-Dist-Slackware-1.032"
    PERL_CR_SMOKER_RUNONCE="1"
    PERL_EXTUTILS_AUTOINSTALL="--defaultdeps"
    PERL_HASH_SEED="0x11111111"
    PERL_MM_USE_DEFAULT="1"
  @INC:
    C:\strawberry182\cpan\build\CPANPLUS-0.9910-0/blib/arch
    C:\strawberry182\cpan\build\CPANPLUS-0.9910-0/blib/lib
    C:\strawberry182\cpan\build\Archive-Extract-0.86-0/blib/arch
    C:\strawberry182\cpan\build\Archive-Extract-0.86-0/blib/lib
    C:\strawberry182\cpan\build\Module-Load-Conditional-0.74-0/blib/arch
    C:\strawberry182\cpan\build\Module-Load-Conditional-0.74-0/blib/lib
    C:\strawberry182\cpan\build\Module-Load-0.36-0/blib/arch
    C:\strawberry182\cpan\build\Module-Load-0.36-0/blib/lib
    C:/strawberry182/perl/site/lib
    C:/strawberry182/perl/vendor/lib
    C:/strawberry182/perl/lib
    .